BEGIN:VCALENDAR
VERSION:2.0
PRODID:-//Geauga County Board of Commissioners - ECPv6.15.20//NONSGML v1.0//EN
CALSCALE:GREGORIAN
METHOD:PUBLISH
X-WR-CALNAME:Geauga County Board of Commissioners
X-ORIGINAL-URL:https://bocc.geauga.oh.gov
X-WR-CALDESC:Events for Geauga County Board of Commissioners
REFRESH-INTERVAL;VALUE=DURATION:PT1H
X-Robots-Tag:noindex
X-PUBLISHED-TTL:PT1H
BEGIN:VTIMEZONE
TZID:America/New_York
BEGIN:DAYLIGHT
TZOFFSETFROM:-0500
TZOFFSETTO:-0400
TZNAME:EDT
DTSTART:20220313T070000
END:DAYLIGHT
BEGIN:STANDARD
TZOFFSETFROM:-0400
TZOFFSETTO:-0500
TZNAME:EST
DTSTART:20221106T060000
END:STANDARD
BEGIN:DAYLIGHT
TZOFFSETFROM:-0500
TZOFFSETTO:-0400
TZNAME:EDT
DTSTART:20230312T070000
END:DAYLIGHT
BEGIN:STANDARD
TZOFFSETFROM:-0400
TZOFFSETTO:-0500
TZNAME:EST
DTSTART:20231105T060000
END:STANDARD
BEGIN:DAYLIGHT
TZOFFSETFROM:-0500
TZOFFSETTO:-0400
TZNAME:EDT
DTSTART:20240310T070000
END:DAYLIGHT
BEGIN:STANDARD
TZOFFSETFROM:-0400
TZOFFSETTO:-0500
TZNAME:EST
DTSTART:20241103T060000
END:STANDARD
BEGIN:DAYLIGHT
TZOFFSETFROM:-0500
TZOFFSETTO:-0400
TZNAME:EDT
DTSTART:20250309T070000
END:DAYLIGHT
BEGIN:STANDARD
TZOFFSETFROM:-0400
TZOFFSETTO:-0500
TZNAME:EST
DTSTART:20251102T060000
END:STANDARD
END:VTIMEZONE
BEGIN:VEVENT
DTSTART;TZID=America/New_York:20240227T140000
DTEND;TZID=America/New_York:20240227T140000
DTSTAMP:20260423T153520
CREATED:20240129T190316Z
LAST-MODIFIED:20240129T190520Z
UID:10700-1709042400-1709042400@bocc.geauga.oh.gov
SUMMARY:Geauga Trumbull Solid Waste District Meeting
DESCRIPTION:
URL:https://bocc.geauga.oh.gov/event/geauga-trumbull-solid-waste-district-meeting/
LOCATION:Geauga-Trumbull Solid Waste Management District\, Warren\, District Office\, 5138 Enterprise Dr NW\, Warren\, OH\, 44481\, United States
END:VEVENT
BEGIN:VEVENT
DTSTART;TZID=America/New_York:20240227T093000
DTEND;TZID=America/New_York:20240227T093000
DTSTAMP:20260423T153520
CREATED:20240129T190211Z
LAST-MODIFIED:20240129T190211Z
UID:10698-1709026200-1709026200@bocc.geauga.oh.gov
SUMMARY:Commissioners' Meeting
DESCRIPTION:
URL:https://bocc.geauga.oh.gov/event/commissioners-meeting-9/
LOCATION:Commissioners’ Chambers\, 12611 Ravenwood Drive\, Room B303\, Chardon\, OH\, 44024\, United States
END:VEVENT
BEGIN:VEVENT
DTSTART;TZID=America/New_York:20240226T133000
DTEND;TZID=America/New_York:20240226T133000
DTSTAMP:20260423T153520
CREATED:20240221T203103Z
LAST-MODIFIED:20240221T203103Z
UID:10736-1708954200-1708954200@bocc.geauga.oh.gov
SUMMARY:Family First Council
DESCRIPTION:Family First Council\, 1:30 p.m. County Office Building
URL:https://bocc.geauga.oh.gov/event/family-first-council-14/
LOCATION:Geauga County Office Building\, 12611 Ravenwood Drive\, Chardon\, OH\, 44024\, United States
END:VEVENT
BEGIN:VEVENT
DTSTART;TZID=America/New_York:20240222T093000
DTEND;TZID=America/New_York:20240222T113000
DTSTAMP:20260423T153520
CREATED:20240122T173845Z
LAST-MODIFIED:20240122T173845Z
UID:10664-1708594200-1708601400@bocc.geauga.oh.gov
SUMMARY:Commissioners' Meeting
DESCRIPTION:The Commissioners will hold session at 9:30 a.m. \n 
URL:https://bocc.geauga.oh.gov/event/commissioners-meeting-8/
LOCATION:Commissioners’ Chambers\, 12611 Ravenwood Drive\, Room B303\, Chardon\, OH\, 44024\, United States
END:VEVENT
BEGIN:VEVENT
DTSTART;VALUE=DATE:20240219
DTEND;VALUE=DATE:20240220
DTSTAMP:20260423T153520
CREATED:20240122T173721Z
LAST-MODIFIED:20240122T202037Z
UID:10662-1708300800-1708387199@bocc.geauga.oh.gov
SUMMARY:County Offices Closed
DESCRIPTION:County offices will be closed for general business due to the Presidents’ Day holiday\, Twenty-four-hour operations will continue to operate as usual.
URL:https://bocc.geauga.oh.gov/event/county-offices-closed-18/
LOCATION:OH
END:VEVENT
BEGIN:VEVENT
DTSTART;TZID=America/New_York:20240213T093000
DTEND;TZID=America/New_York:20240213T113000
DTSTAMP:20260423T153520
CREATED:20240122T173601Z
LAST-MODIFIED:20240122T173601Z
UID:10660-1707816600-1707823800@bocc.geauga.oh.gov
SUMMARY:Commissioners' Meeting
DESCRIPTION:The Commissioners will hold session at 9:30 a.m.
URL:https://bocc.geauga.oh.gov/event/commissioners-meeting-7/
LOCATION:Commissioners’ Chambers\, 12611 Ravenwood Drive\, Room B303\, Chardon\, OH\, 44024\, United States
END:VEVENT
BEGIN:VEVENT
DTSTART;TZID=America/New_York:20240130T093000
DTEND;TZID=America/New_York:20240130T093000
DTSTAMP:20260423T153520
CREATED:20231227T195448Z
LAST-MODIFIED:20240108T140058Z
UID:10568-1706607000-1706607000@bocc.geauga.oh.gov
SUMMARY:Commissioners' Meeting
DESCRIPTION:The Commissioners will hold session at 9:30 a.m.
URL:https://bocc.geauga.oh.gov/event/commissioners-meeting-6/
LOCATION:Commissioners’ Chambers\, 12611 Ravenwood Drive\, Room B303\, Chardon\, OH\, 44024\, United States
END:VEVENT
BEGIN:VEVENT
DTSTART;TZID=America/New_York:20240123T093000
DTEND;TZID=America/New_York:20240123T093000
DTSTAMP:20260423T153520
CREATED:20231227T195329Z
LAST-MODIFIED:20240108T140029Z
UID:10566-1706002200-1706002200@bocc.geauga.oh.gov
SUMMARY:Commissioners' Meeting
DESCRIPTION:The Commissioners will hold session at 9:30 a.m.
URL:https://bocc.geauga.oh.gov/event/commissioners-meeting-5/
LOCATION:Commissioners’ Chambers\, 12611 Ravenwood Drive\, Room B303\, Chardon\, OH\, 44024\, United States
END:VEVENT
BEGIN:VEVENT
DTSTART;TZID=America/New_York:20240122T133000
DTEND;TZID=America/New_York:20240122T133000
DTSTAMP:20260423T153520
CREATED:20231227T195212Z
LAST-MODIFIED:20240108T135958Z
UID:10564-1705930200-1705930200@bocc.geauga.oh.gov
SUMMARY:Family First Council Meeting
DESCRIPTION:Family First Council\, 1:30 p.m. Carlton Room\, B168 12611 Ravenwood Drive\, Chardon
URL:https://bocc.geauga.oh.gov/event/family-first-council-meeting/
LOCATION:Geauga County Office Building\, 12611 Ravenwood Drive\, Chardon\, OH\, 44024\, United States
END:VEVENT
BEGIN:VEVENT
DTSTART;TZID=America/New_York:20240118T093000
DTEND;TZID=America/New_York:20240118T093000
DTSTAMP:20260423T153520
CREATED:20231227T195044Z
LAST-MODIFIED:20240108T135922Z
UID:10562-1705570200-1705570200@bocc.geauga.oh.gov
SUMMARY:Commissioners' Meeting
DESCRIPTION:The Commissioners will hold session at 9:30 a.m.
URL:https://bocc.geauga.oh.gov/event/commissioners-meeting-4/
LOCATION:Commissioners’ Chambers\, 12611 Ravenwood Drive\, Room B303\, Chardon\, OH\, 44024\, United States
END:VEVENT
BEGIN:VEVENT
DTSTART;VALUE=DATE:20240115
DTEND;VALUE=DATE:20240116
DTSTAMP:20260423T153520
CREATED:20231227T194943Z
LAST-MODIFIED:20231227T194943Z
UID:10560-1705276800-1705363199@bocc.geauga.oh.gov
SUMMARY:County Offices Closed
DESCRIPTION:County Offices will be closed in honor of Martin Luther King Jr. Day.  Twenty-four hour \noperations will continue to operate as normal.
URL:https://bocc.geauga.oh.gov/event/county-offices-closed-17/
LOCATION:OH
END:VEVENT
BEGIN:VEVENT
DTSTART;TZID=America/New_York:20240108T130000
DTEND;TZID=America/New_York:20240108T130000
DTSTAMP:20260423T153520
CREATED:20231211T183633Z
LAST-MODIFIED:20240108T135807Z
UID:10458-1704718800-1704718800@bocc.geauga.oh.gov
SUMMARY:ADP Organizational Meeting
DESCRIPTION:ADP Organizational meeting\, 1:00 p.m. Auditor’s Appraisal Conference Room
URL:https://bocc.geauga.oh.gov/event/adp-organizational-meeting/
LOCATION:Auditor’s Appraisal Conference Room\, Chardon\, OH\, United States
END:VEVENT
BEGIN:VEVENT
DTSTART;TZID=America/New_York:20240108T110000
DTEND;TZID=America/New_York:20240108T110000
DTSTAMP:20260423T153520
CREATED:20231227T194649Z
LAST-MODIFIED:20240108T135742Z
UID:10556-1704711600-1704711600@bocc.geauga.oh.gov
SUMMARY:Board of Revision Organizational Meeting
DESCRIPTION:Board of Revision\, Organizational meeting\, 11:00 a.m. Auditor’s Appraisal Conference Room
URL:https://bocc.geauga.oh.gov/event/board-of-revision-organizational-meeting/
LOCATION:Auditor’s Appraisal Conference Room\, Chardon\, OH\, United States
END:VEVENT
BEGIN:VEVENT
DTSTART;TZID=America/New_York:20240108T093000
DTEND;TZID=America/New_York:20240108T093000
DTSTAMP:20260423T153520
CREATED:20231211T183524Z
LAST-MODIFIED:20240108T135331Z
UID:10454-1704706200-1704706200@bocc.geauga.oh.gov
SUMMARY:Commissioners' Meeting
DESCRIPTION:The Commissioners will hold session at 9:30 a.m. and it will include the annual organizational meeting
URL:https://bocc.geauga.oh.gov/event/commissioners-meeting-3/
LOCATION:OH
END:VEVENT
BEGIN:VEVENT
DTSTART;TZID=America/New_York:20240104T093000
DTEND;TZID=America/New_York:20240104T093000
DTSTAMP:20260423T153520
CREATED:20231211T183421Z
LAST-MODIFIED:20240108T140310Z
UID:10452-1704360600-1704360600@bocc.geauga.oh.gov
SUMMARY:Commissioners' Meeting
DESCRIPTION:The Commissioners will hold session at 9:30 a.m.
URL:https://bocc.geauga.oh.gov/event/commissioners-meeting-2/
LOCATION:OH
END:VEVENT
BEGIN:VEVENT
DTSTART;VALUE=DATE:20240101
DTEND;VALUE=DATE:20240102
DTSTAMP:20260423T153520
CREATED:20231211T183331Z
LAST-MODIFIED:20231211T183331Z
UID:10450-1704067200-1704153599@bocc.geauga.oh.gov
SUMMARY:County Offices Closed
DESCRIPTION:County Offices will be closed in honor of New Year’s Day.  Twenty-four-hour operations will continue to operate as normal.
URL:https://bocc.geauga.oh.gov/event/county-offices-closed-16/
LOCATION:OH
END:VEVENT
BEGIN:VEVENT
DTSTART;TZID=America/New_York:20231228T093000
DTEND;TZID=America/New_York:20231228T120000
DTSTAMP:20260423T153520
CREATED:20231211T183246Z
LAST-MODIFIED:20231211T183246Z
UID:10446-1703755800-1703764800@bocc.geauga.oh.gov
SUMMARY:Commissioners' Meeting
DESCRIPTION:The Commissioners will hold session at 9:30 a.m.
URL:https://bocc.geauga.oh.gov/event/commissioners-meeting/
LOCATION:OH
CATEGORIES:Commissioners' Meetings
END:VEVENT
BEGIN:VEVENT
DTSTART;VALUE=DATE:20231225
DTEND;VALUE=DATE:20231226
DTSTAMP:20260423T153520
CREATED:20231211T182908Z
LAST-MODIFIED:20231211T182908Z
UID:10444-1703462400-1703548799@bocc.geauga.oh.gov
SUMMARY:County Offices Closed
DESCRIPTION:County Offices will be closed in honor of Christmas.  Twenty-four-hour operations will  \ncontinue to operate as normal.
URL:https://bocc.geauga.oh.gov/event/county-offices-closed-15/
LOCATION:OH
END:VEVENT
BEGIN:VEVENT
DTSTART;TZID=America/New_York:20231219T093000
DTEND;TZID=America/New_York:20231219T223000
DTSTAMP:20260423T153520
CREATED:20231017T141917Z
LAST-MODIFIED:20231017T141917Z
UID:9878-1702978200-1703025000@bocc.geauga.oh.gov
SUMMARY:Commissioners’ meetings
DESCRIPTION:
URL:https://bocc.geauga.oh.gov/event/commissioners-meetings-10/
LOCATION:Commissioners’ Chambers\, 12611 Ravenwood Drive\, Room B303\, Chardon\, OH\, 44024\, United States
CATEGORIES:Commissioners' Meetings,Meetings
END:VEVENT
BEGIN:VEVENT
DTSTART;TZID=America/New_York:20231215T090000
DTEND;TZID=America/New_York:20231215T110000
DTSTAMP:20260423T153520
CREATED:20231129T195000Z
LAST-MODIFIED:20231129T195046Z
UID:10223-1702630800-1702638000@bocc.geauga.oh.gov
SUMMARY:NOACA Air\, Water and Equity Subcommittee meetings
DESCRIPTION:NOACA Air\, Water and Equity Subcommittee meetings\, beginning at 9:00 a.m. Cleveland
URL:https://bocc.geauga.oh.gov/event/noaca-air-water-and-equity-subcommittee-meetings/
LOCATION:OH
END:VEVENT
BEGIN:VEVENT
DTSTART;TZID=America/New_York:20231214T111500
DTEND;TZID=America/New_York:20231214T131500
DTSTAMP:20260423T153520
CREATED:20231129T203126Z
LAST-MODIFIED:20231129T203126Z
UID:10221-1702552500-1702559700@bocc.geauga.oh.gov
SUMMARY:Portage Geauga Juvenile Detention Center Meeting
DESCRIPTION:Portage Geauga Juvenile Detention Center Meeting\, 11:15 a.m. Portage County Offices
URL:https://bocc.geauga.oh.gov/event/portage-geauga-juvenile-detention-center-meeting-2/
LOCATION:OH
END:VEVENT
BEGIN:VEVENT
DTSTART;TZID=America/New_York:20231212T140000
DTEND;TZID=America/New_York:20231212T160000
DTSTAMP:20260423T153520
CREATED:20231211T182517Z
LAST-MODIFIED:20231211T182517Z
UID:10434-1702389600-1702396800@bocc.geauga.oh.gov
SUMMARY:ADP Regular Meeting
DESCRIPTION:ADP Regular Meeting\, 2:00 p.m. at Auditor’s Appraisal Conference Room
URL:https://bocc.geauga.oh.gov/event/adp-regular-meeting/
LOCATION:Auditor’s Appraisal Conference Room\, Chardon\, OH\, United States
END:VEVENT
BEGIN:VEVENT
DTSTART;TZID=America/New_York:20231212T120000
DTEND;TZID=America/New_York:20231212T130000
DTSTAMP:20260423T153520
CREATED:20231212T135844Z
LAST-MODIFIED:20231212T135844Z
UID:10481-1702382400-1702386000@bocc.geauga.oh.gov
SUMMARY:Commissioners' Special Session
DESCRIPTION:The Commissioners will hold a special session at 12:00 p.m. (Noon) for a Ground-Breaking \nCeremony for the Geauga County Courthouse Expansion Project to be held at the Northeast \nCorner of the existing Courthouse\, 100 Short Court Street\, Chardon
URL:https://bocc.geauga.oh.gov/event/commissioners-special-session/
LOCATION:OH
END:VEVENT
BEGIN:VEVENT
DTSTART;TZID=America/New_York:20231212T093000
DTEND;TZID=America/New_York:20231212T103000
DTSTAMP:20260423T153520
CREATED:20231017T141851Z
LAST-MODIFIED:20231017T141851Z
UID:9876-1702373400-1702377000@bocc.geauga.oh.gov
SUMMARY:Commissioners’ meetings
DESCRIPTION:
URL:https://bocc.geauga.oh.gov/event/commissioners-meetings-9/
LOCATION:Commissioners’ Chambers\, 12611 Ravenwood Drive\, Room B303\, Chardon\, OH\, 44024\, United States
CATEGORIES:Commissioners' Meetings,Meetings
END:VEVENT
BEGIN:VEVENT
DTSTART;TZID=America/New_York:20231206T080000
DTEND;TZID=America/New_York:20231208T170000
DTSTAMP:20260423T153520
CREATED:20231129T193734Z
LAST-MODIFIED:20231129T193734Z
UID:10217-1701849600-1702054800@bocc.geauga.oh.gov
SUMMARY:CCAO Winter Conference
DESCRIPTION:CCAO Winter Conference\, Columbus\, Ohio
URL:https://bocc.geauga.oh.gov/event/ccao-winter-conference-3/
LOCATION:OH
END:VEVENT
BEGIN:VEVENT
DTSTART;TZID=America/New_York:20231205T093000
DTEND;TZID=America/New_York:20231205T103000
DTSTAMP:20260423T153520
CREATED:20231017T141808Z
LAST-MODIFIED:20231017T141808Z
UID:9874-1701768600-1701772200@bocc.geauga.oh.gov
SUMMARY:Commissioners’ meetings
DESCRIPTION:
URL:https://bocc.geauga.oh.gov/event/commissioners-meetings-8/
LOCATION:Commissioners’ Chambers\, 12611 Ravenwood Drive\, Room B303\, Chardon\, OH\, 44024\, United States
CATEGORIES:Commissioners' Meetings,Meetings
END:VEVENT
BEGIN:VEVENT
DTSTART;TZID=America/New_York:20231205T091500
DTEND;TZID=America/New_York:20231205T230000
DTSTAMP:20260423T153520
CREATED:20231129T193623Z
LAST-MODIFIED:20231129T193623Z
UID:10215-1701767700-1701817200@bocc.geauga.oh.gov
SUMMARY:Investment Advisory Board
DESCRIPTION:Investment Advisory Board\, 9:15 a.m. 12611 Ravenwood Drive\, Room B303\, Chardon
URL:https://bocc.geauga.oh.gov/event/investment-advisory-board-2/
LOCATION:Geauga County Office Building\, 12611 Ravenwood Drive\, Chardon\, OH\, 44024\, United States
END:VEVENT
BEGIN:VEVENT
DTSTART;TZID=America/New_York:20231201T090000
DTEND;TZID=America/New_York:20231201T230000
DTSTAMP:20260423T153520
CREATED:20231129T193410Z
LAST-MODIFIED:20231129T193410Z
UID:10213-1701421200-1701471600@bocc.geauga.oh.gov
SUMMARY:NOACA Board of Directors
DESCRIPTION:NOACA Board of Directors\, 9:00 a.m. Cleveland
URL:https://bocc.geauga.oh.gov/event/noaca-board-of-directors-4/
LOCATION:OH
END:VEVENT
BEGIN:VEVENT
DTSTART;TZID=America/New_York:20231130T090000
DTEND;TZID=America/New_York:20231130T163000
DTSTAMP:20260423T153520
CREATED:20231113T192541Z
LAST-MODIFIED:20231113T192541Z
UID:10110-1701334800-1701361800@bocc.geauga.oh.gov
SUMMARY:Board of Revision
DESCRIPTION:Board of Revision\, Abstract and General Business\, 9:00 a.m. Auditor’s Appraisal Room
URL:https://bocc.geauga.oh.gov/event/board-of-revision-25/
LOCATION:Auditor’s Office\, 231 Main St Suite 1A\, Chardon\, OH\, 44024\, United States
END:VEVENT
BEGIN:VEVENT
DTSTART;TZID=America/New_York:20231128T093000
DTEND;TZID=America/New_York:20231128T103000
DTSTAMP:20260423T153520
CREATED:20231017T141731Z
LAST-MODIFIED:20231017T141731Z
UID:9872-1701163800-1701167400@bocc.geauga.oh.gov
SUMMARY:Commissioners’ meetings
DESCRIPTION:
URL:https://bocc.geauga.oh.gov/event/commissioners-meetings-7/
LOCATION:Commissioners’ Chambers\, 12611 Ravenwood Drive\, Room B303\, Chardon\, OH\, 44024\, United States
CATEGORIES:Commissioners' Meetings,Meetings
END:VEVENT
END:VCALENDAR