BEGIN:VCALENDAR
VERSION:2.0
PRODID:-//Geauga County Board of Commissioners - ECPv6.15.20//NONSGML v1.0//EN
CALSCALE:GREGORIAN
METHOD:PUBLISH
X-WR-CALNAME:Geauga County Board of Commissioners
X-ORIGINAL-URL:https://bocc.geauga.oh.gov
X-WR-CALDESC:Events for Geauga County Board of Commissioners
REFRESH-INTERVAL;VALUE=DURATION:PT1H
X-Robots-Tag:noindex
X-PUBLISHED-TTL:PT1H
BEGIN:VTIMEZONE
TZID:America/New_York
BEGIN:DAYLIGHT
TZOFFSETFROM:-0500
TZOFFSETTO:-0400
TZNAME:EDT
DTSTART:20240310T070000
END:DAYLIGHT
BEGIN:STANDARD
TZOFFSETFROM:-0400
TZOFFSETTO:-0500
TZNAME:EST
DTSTART:20241103T060000
END:STANDARD
BEGIN:DAYLIGHT
TZOFFSETFROM:-0500
TZOFFSETTO:-0400
TZNAME:EDT
DTSTART:20250309T070000
END:DAYLIGHT
BEGIN:STANDARD
TZOFFSETFROM:-0400
TZOFFSETTO:-0500
TZNAME:EST
DTSTART:20251102T060000
END:STANDARD
BEGIN:DAYLIGHT
TZOFFSETFROM:-0500
TZOFFSETTO:-0400
TZNAME:EDT
DTSTART:20260308T070000
END:DAYLIGHT
BEGIN:STANDARD
TZOFFSETFROM:-0400
TZOFFSETTO:-0500
TZNAME:EST
DTSTART:20261101T060000
END:STANDARD
END:VTIMEZONE
BEGIN:VEVENT
DTSTART;TZID=America/New_York:20251230T093000
DTEND;TZID=America/New_York:20251230T093000
DTSTAMP:20260420T025207
CREATED:20251201T194308Z
LAST-MODIFIED:20251201T201209Z
UID:14260-1767087000-1767087000@bocc.geauga.oh.gov
SUMMARY:Commissioners' Meeting
DESCRIPTION:The Commissioners will hold session at 9:30 a.m.
URL:https://bocc.geauga.oh.gov/event/commissioners-meeting-102/
LOCATION:Commissioners’ Chambers\, 12611 Ravenwood Drive\, Room B303\, Chardon\, OH\, 44024\, United States
END:VEVENT
BEGIN:VEVENT
DTSTART;VALUE=DATE:20251224
DTEND;VALUE=DATE:20251227
DTSTAMP:20260420T025207
CREATED:20251201T195446Z
LAST-MODIFIED:20251215T213142Z
UID:14262-1766534400-1766793599@bocc.geauga.oh.gov
SUMMARY:Offices Closed
DESCRIPTION:County Offices will be closed in honor of Christmas. Twenty-four-hour operations will continue to operate as normal.
URL:https://bocc.geauga.oh.gov/event/christmas/
LOCATION:OH
END:VEVENT
BEGIN:VEVENT
DTSTART;TZID=America/New_York:20251223T093000
DTEND;TZID=America/New_York:20251223T093000
DTSTAMP:20260420T025207
CREATED:20251201T194049Z
LAST-MODIFIED:20251201T200856Z
UID:14258-1766482200-1766482200@bocc.geauga.oh.gov
SUMMARY:Commissioners' Meeting
DESCRIPTION:The Commissioners will hold session at 9:30 a.m.
URL:https://bocc.geauga.oh.gov/event/commissioners-meeting-101/
LOCATION:Commissioners’ Chambers\, 12611 Ravenwood Drive\, Room B303\, Chardon\, OH\, 44024\, United States
END:VEVENT
BEGIN:VEVENT
DTSTART;TZID=America/New_York:20251216T093000
DTEND;TZID=America/New_York:20251216T093000
DTSTAMP:20260420T025207
CREATED:20251201T193857Z
LAST-MODIFIED:20251201T200809Z
UID:14256-1765877400-1765877400@bocc.geauga.oh.gov
SUMMARY:Commissioners' Meeting
DESCRIPTION:The Commissioners will hold session at 9:30 a.m.
URL:https://bocc.geauga.oh.gov/event/commissioners-meeting-100/
LOCATION:Commissioners’ Chambers\, 12611 Ravenwood Drive\, Room B303\, Chardon\, OH\, 44024\, United States
END:VEVENT
BEGIN:VEVENT
DTSTART;TZID=America/New_York:20251215T133000
DTEND;TZID=America/New_York:20251215T133000
DTSTAMP:20260420T025207
CREATED:20251201T193648Z
LAST-MODIFIED:20251201T193648Z
UID:14254-1765805400-1765805400@bocc.geauga.oh.gov
SUMMARY:Family First Council
DESCRIPTION:Family First Council\, 1:30 p.m. County Office Building
URL:https://bocc.geauga.oh.gov/event/family-first-council-29/
LOCATION:Geauga County Office Building\, 12611 Ravenwood Drive\, Chardon\, OH\, 44024\, United States
END:VEVENT
BEGIN:VEVENT
DTSTART;TZID=America/New_York:20251211T113000
DTEND;TZID=America/New_York:20251211T113000
DTSTAMP:20260420T025207
CREATED:20251201T144959Z
LAST-MODIFIED:20251201T144959Z
UID:14250-1765452600-1765452600@bocc.geauga.oh.gov
SUMMARY:Community Corrections Board Meeting
DESCRIPTION:Community Corrections Board meeting\, 11:30 a.m.\, Judge Paschke’s Courtroom
URL:https://bocc.geauga.oh.gov/event/community-corrections-board-meeting/
LOCATION:Geauga County Courthouse\, 100 Short Court Street\, Chardon\, OH\, 44024\, United States
END:VEVENT
BEGIN:VEVENT
DTSTART;TZID=America/New_York:20251209T093000
DTEND;TZID=America/New_York:20251209T093000
DTSTAMP:20260420T025207
CREATED:20251201T144824Z
LAST-MODIFIED:20251201T200633Z
UID:14248-1765272600-1765272600@bocc.geauga.oh.gov
SUMMARY:Commissioners' Meeting
DESCRIPTION:The Commissioners will hold session at 9:30 a.m.
URL:https://bocc.geauga.oh.gov/event/commissioners-meeting-99/
LOCATION:Commissioners’ Chambers\, 12611 Ravenwood Drive\, Room B303\, Chardon\, OH\, 44024\, United States
END:VEVENT
BEGIN:VEVENT
DTSTART;TZID=America/New_York:20251209T073000
DTEND;TZID=America/New_York:20251209T073000
DTSTAMP:20260420T025207
CREATED:20251201T144636Z
LAST-MODIFIED:20251201T144636Z
UID:14246-1765265400-1765265400@bocc.geauga.oh.gov
SUMMARY:Planning Commission Meeting
DESCRIPTION:7:30 a.m. County Office Building\, Room A334
URL:https://bocc.geauga.oh.gov/event/planning-commission-meeting-14/
LOCATION:Geauga County Office Building\, 12611 Ravenwood Drive\, Chardon\, OH\, 44024\, United States
END:VEVENT
BEGIN:VEVENT
DTSTART;VALUE=DATE:20251203
DTEND;VALUE=DATE:20251206
DTSTAMP:20260420T025207
CREATED:20251112T192507Z
LAST-MODIFIED:20251112T192507Z
UID:14185-1764720000-1764979199@bocc.geauga.oh.gov
SUMMARY:CCAO Winter Conference
DESCRIPTION:CCAO Winter Conference\, Columbus\, Ohio
URL:https://bocc.geauga.oh.gov/event/ccao-winter-conference-5/
LOCATION:OH
END:VEVENT
BEGIN:VEVENT
DTSTART;TZID=America/New_York:20251202T093000
DTEND;TZID=America/New_York:20251202T093000
DTSTAMP:20260420T025207
CREATED:20251112T192300Z
LAST-MODIFIED:20251202T143325Z
UID:14183-1764667800-1764667800@bocc.geauga.oh.gov
SUMMARY:Commissioners' Meeting CANCELLED
DESCRIPTION:From: Blair\, Christine <CBlair@CO.GEAUGA.OH.US>\nSent: Tuesday\, December 2\, 2025 7:05 AM\nSubject: Commissioners Meeting Today – December 2nd – CANCELLED \nThe regular Commissioners meeting that was scheduled for today – December 2\, 2025 has been cancelled due to weather and the offices under the hiring authority of the Board of Commissioners being on a delayed start until 10:00 a.m.  There will be no meeting this week – items that were on today’s agenda will be moved to the December 9\, 2025 meeting. \nPlease stay safe.\nChristine \nChristine Blair\nGeauga County Commissioners’ Clerk\n440-279-1663 or cblair@co.geauga.oh.us
URL:https://bocc.geauga.oh.gov/event/commissioners-meeting-98/
LOCATION:Commissioners’ Chambers\, 12611 Ravenwood Drive\, Room B303\, Chardon\, OH\, 44024\, United States
END:VEVENT
BEGIN:VEVENT
DTSTART;VALUE=DATE:20251128
DTEND;VALUE=DATE:20251129
DTSTAMP:20260420T025207
CREATED:20251104T143309Z
LAST-MODIFIED:20251104T210400Z
UID:14125-1764288000-1764374399@bocc.geauga.oh.gov
SUMMARY:Commissioners' Office Closed
DESCRIPTION:County offices under the hiring authority of the Board of Commissioners will be closed for general business. Twenty-four-hour operations will continue to operate as usual.
URL:https://bocc.geauga.oh.gov/event/county-offices-closed-35/
LOCATION:OH
END:VEVENT
BEGIN:VEVENT
DTSTART;VALUE=DATE:20251127
DTEND;VALUE=DATE:20251128
DTSTAMP:20260420T025207
CREATED:20251104T143203Z
LAST-MODIFIED:20251104T205137Z
UID:14123-1764201600-1764287999@bocc.geauga.oh.gov
SUMMARY:County Offices Closed
DESCRIPTION:County Offices will be closed for general business in observance of Thanksgiving Day. Twenty-four-hour operations will continue to operate as normal.
URL:https://bocc.geauga.oh.gov/event/county-offices-closed-34/
LOCATION:OH
END:VEVENT
BEGIN:VEVENT
DTSTART;TZID=America/New_York:20251125T093000
DTEND;TZID=America/New_York:20251125T093000
DTSTAMP:20260420T025207
CREATED:20251104T142926Z
LAST-MODIFIED:20251104T142926Z
UID:14121-1764063000-1764063000@bocc.geauga.oh.gov
SUMMARY:Commissioners' Meeting
DESCRIPTION:The Commissioners will hold session at 9:30 a.m.
URL:https://bocc.geauga.oh.gov/event/commissioners-meeting-97/
LOCATION:Commissioners’ Chambers\, 12611 Ravenwood Drive\, Room B303\, Chardon\, OH\, 44024\, United States
CATEGORIES:Commissioners' Meetings
END:VEVENT
BEGIN:VEVENT
DTSTART;TZID=America/New_York:20251125T090000
DTEND;TZID=America/New_York:20251125T090000
DTSTAMP:20260420T025207
CREATED:20251104T142758Z
LAST-MODIFIED:20251104T204804Z
UID:14119-1764061200-1764061200@bocc.geauga.oh.gov
SUMMARY:Investment Advisory Committee
DESCRIPTION:Investment Advisory Committee\, 9:00 a.m. Room B303\, Chambers\, County Office Building
URL:https://bocc.geauga.oh.gov/event/investment-advisory-committee-10/
LOCATION:Commissioners’ Chambers\, 12611 Ravenwood Drive\, Room B303\, Chardon\, OH\, 44024\, United States
END:VEVENT
BEGIN:VEVENT
DTSTART;TZID=America/New_York:20251119T110000
DTEND;TZID=America/New_York:20251119T110000
DTSTAMP:20260420T025207
CREATED:20251125T141410Z
LAST-MODIFIED:20251125T141410Z
UID:14233-1763550000-1763550000@bocc.geauga.oh.gov
SUMMARY:NOC COG Board Meeting
DESCRIPTION:NOC COG Board meeting\, 11:00 a.m. Geauga County Offices\, Room A334
URL:https://bocc.geauga.oh.gov/event/noc-cog-board-meeting-3/
LOCATION:Geauga County Office Building\, 12611 Ravenwood Drive\, Chardon\, OH\, 44024\, United States
END:VEVENT
BEGIN:VEVENT
DTSTART;TZID=America/New_York:20251118T140000
DTEND;TZID=America/New_York:20251118T140000
DTSTAMP:20260420T025207
CREATED:20251104T142508Z
LAST-MODIFIED:20251125T141208Z
UID:14117-1763474400-1763474400@bocc.geauga.oh.gov
SUMMARY:Geauga Trumbull Solid Waste Management District Meeting CANCELLED
DESCRIPTION:Geauga Trumbull Solid Waste Management District meeting scheduled\, has been CANCELLED
URL:https://bocc.geauga.oh.gov/event/geauga-trumbull-solid-waste-management-district-meeting-2/
LOCATION:Geauga-Trumbull Solid Waste Management District\, Warren\, District Office\, 5138 Enterprise Dr NW\, Warren\, OH\, 44481\, United States
END:VEVENT
BEGIN:VEVENT
DTSTART;TZID=America/New_York:20251118T093000
DTEND;TZID=America/New_York:20251118T093000
DTSTAMP:20260420T025207
CREATED:20251104T142226Z
LAST-MODIFIED:20251104T142313Z
UID:14115-1763458200-1763458200@bocc.geauga.oh.gov
SUMMARY:Commissioners' Meeting
DESCRIPTION:The Commissioners will hold session at 9:30 a.m.
URL:https://bocc.geauga.oh.gov/event/commissioners-meeting-96/
LOCATION:Commissioners’ Chambers\, 12611 Ravenwood Drive\, Room B303\, Chardon\, OH\, 44024\, United States
CATEGORIES:Commissioners' Meetings
END:VEVENT
BEGIN:VEVENT
DTSTART;TZID=America/New_York:20251117T133000
DTEND;TZID=America/New_York:20251117T133000
DTSTAMP:20260420T025207
CREATED:20251023T121515Z
LAST-MODIFIED:20251023T121515Z
UID:14046-1763386200-1763386200@bocc.geauga.oh.gov
SUMMARY:Family First Council
DESCRIPTION:Family First Council\, 1:30 p.m. County Office Building.
URL:https://bocc.geauga.oh.gov/event/family-first-council-28/
LOCATION:Geauga County Office Building\, 12611 Ravenwood Drive\, Chardon\, OH\, 44024\, United States
END:VEVENT
BEGIN:VEVENT
DTSTART;TZID=America/New_York:20251113T093000
DTEND;TZID=America/New_York:20251113T093000
DTSTAMP:20260420T025207
CREATED:20251023T121235Z
LAST-MODIFIED:20251104T140455Z
UID:14044-1763026200-1763026200@bocc.geauga.oh.gov
SUMMARY:Commissioners' Meeting
DESCRIPTION:The Commissioners will hold session at 9:30 a.m.
URL:https://bocc.geauga.oh.gov/event/commissioners-meeting-95/
LOCATION:Commissioners’ Chambers\, 12611 Ravenwood Drive\, Room B303\, Chardon\, OH\, 44024\, United States
CATEGORIES:Commissioners' Meetings
END:VEVENT
BEGIN:VEVENT
DTSTART;TZID=America/New_York:20251113T073000
DTEND;TZID=America/New_York:20251113T073000
DTSTAMP:20260420T025207
CREATED:20251023T120226Z
LAST-MODIFIED:20251023T120226Z
UID:14041-1763019000-1763019000@bocc.geauga.oh.gov
SUMMARY:Planning Commission Meeting
DESCRIPTION:Planning Commission\, 7:30 a.m. County Office Building\, Room A334
URL:https://bocc.geauga.oh.gov/event/planning-commission-meeting-13/
LOCATION:Geauga County Office Building\, 12611 Ravenwood Drive\, Chardon\, OH\, 44024\, United States
CATEGORIES:Planning Commission
END:VEVENT
BEGIN:VEVENT
DTSTART;VALUE=DATE:20251111
DTEND;VALUE=DATE:20251112
DTSTAMP:20260420T025207
CREATED:20251023T115814Z
LAST-MODIFIED:20251104T212450Z
UID:14039-1762819200-1762905599@bocc.geauga.oh.gov
SUMMARY:County Offices Closed
DESCRIPTION:County Offices are Closed in observance of Veterans’ Day. Twenty-four-hour operations will continue to operate as normal.
URL:https://bocc.geauga.oh.gov/event/county-offices-closed-33/
LOCATION:OH
END:VEVENT
BEGIN:VEVENT
DTSTART;TZID=America/New_York:20251104T093000
DTEND;TZID=America/New_York:20251104T093000
DTSTAMP:20260420T025207
CREATED:20251023T115521Z
LAST-MODIFIED:20251104T140345Z
UID:14037-1762248600-1762248600@bocc.geauga.oh.gov
SUMMARY:Commissioners' Meeting
DESCRIPTION:The Commissioners will hold session at 9:30 a.m.
URL:https://bocc.geauga.oh.gov/event/commissioners-meeting-94/
LOCATION:Commissioners’ Chambers\, 12611 Ravenwood Drive\, Room B303\, Chardon\, OH\, 44024\, United States
CATEGORIES:Commissioners' Meetings
END:VEVENT
BEGIN:VEVENT
DTSTART;TZID=America/New_York:20251030T090000
DTEND;TZID=America/New_York:20251030T090000
DTSTAMP:20260420T025207
CREATED:20251104T135637Z
LAST-MODIFIED:20251104T135637Z
UID:14110-1761814800-1761814800@bocc.geauga.oh.gov
SUMMARY:Board of Revision
DESCRIPTION:Board of Revision\, 9:00 a.m. Auditor’s Appraisal Conference Room
URL:https://bocc.geauga.oh.gov/event/board-of-revision-47/
LOCATION:Auditor’s Appraisal Conference Room\, Chardon\, OH\, United States
END:VEVENT
BEGIN:VEVENT
DTSTART;TZID=America/New_York:20251028T093000
DTEND;TZID=America/New_York:20251028T093000
DTSTAMP:20260420T025207
CREATED:20251007T115534Z
LAST-MODIFIED:20251104T140422Z
UID:14001-1761643800-1761643800@bocc.geauga.oh.gov
SUMMARY:Commissioners' Meeting
DESCRIPTION:The Commissioners will hold session at 9:30 a.m.
URL:https://bocc.geauga.oh.gov/event/commissioners-meeting-93/
LOCATION:Commissioners’ Chambers\, 12611 Ravenwood Drive\, Room B303\, Chardon\, OH\, 44024\, United States
END:VEVENT
BEGIN:VEVENT
DTSTART;TZID=America/New_York:20251027T133000
DTEND;TZID=America/New_York:20251027T133000
DTSTAMP:20260420T025207
CREATED:20251007T115250Z
LAST-MODIFIED:20251007T115250Z
UID:13998-1761571800-1761571800@bocc.geauga.oh.gov
SUMMARY:Family First Council
DESCRIPTION:Family First Council\, 1:30 p.m. County Office Building.
URL:https://bocc.geauga.oh.gov/event/family-first-council-27/
LOCATION:Geauga County Office Building\, 12611 Ravenwood Drive\, Chardon\, OH\, 44024\, United States
END:VEVENT
BEGIN:VEVENT
DTSTART;TZID=America/New_York:20251021T093000
DTEND;TZID=America/New_York:20251021T093000
DTSTAMP:20260420T025207
CREATED:20250930T121215Z
LAST-MODIFIED:20250930T121215Z
UID:13982-1761039000-1761039000@bocc.geauga.oh.gov
SUMMARY:Commissioners' Meeting
DESCRIPTION:The Commissioners will hold session at 9:30 a.m.
URL:https://bocc.geauga.oh.gov/event/commissioners-meeting-92/
LOCATION:Commissioners’ Chambers\, 12611 Ravenwood Drive\, Room B303\, Chardon\, OH\, 44024\, United States
CATEGORIES:Commissioners' Meetings
END:VEVENT
BEGIN:VEVENT
DTSTART;TZID=America/New_York:20251016T093000
DTEND;TZID=America/New_York:20251016T093000
DTSTAMP:20260420T025207
CREATED:20250923T125716Z
LAST-MODIFIED:20250923T125716Z
UID:13929-1760607000-1760607000@bocc.geauga.oh.gov
SUMMARY:Commissioners' Meeting
DESCRIPTION:The Commissioners will hold session at 9:30 a.m.
URL:https://bocc.geauga.oh.gov/event/commissioners-meeting-91/
LOCATION:Commissioners’ Chambers\, 12611 Ravenwood Drive\, Room B303\, Chardon\, OH\, 44024\, United States
END:VEVENT
BEGIN:VEVENT
DTSTART;TZID=America/New_York:20251016T073000
DTEND;TZID=America/New_York:20251016T073000
DTSTAMP:20260420T025207
CREATED:20250930T120937Z
LAST-MODIFIED:20250930T120937Z
UID:13978-1760599800-1760599800@bocc.geauga.oh.gov
SUMMARY:Planning Commission Meeting
DESCRIPTION:Planning Commission\, 7:30 a.m. County Office Building\, Room A334
URL:https://bocc.geauga.oh.gov/event/planning-commission-meeting-12/
LOCATION:Geauga County Office Building\, 12611 Ravenwood Drive\, Chardon\, OH\, 44024\, United States
CATEGORIES:Planning Commission
END:VEVENT
BEGIN:VEVENT
DTSTART;TZID=America/New_York:20251014T120000
DTEND;TZID=America/New_York:20251014T120000
DTSTAMP:20260420T025207
CREATED:20250930T120541Z
LAST-MODIFIED:20250930T120541Z
UID:13976-1760443200-1760443200@bocc.geauga.oh.gov
SUMMARY:University Hospitals Wellness Trail Ribbon Cutting
DESCRIPTION:University Hospitals Wellness Trail Ribbon Cutting\, 12:00 p.m.\, Ravenwood Drive
URL:https://bocc.geauga.oh.gov/event/university-hospitals-wellness-trail-ribbon-cutting/
LOCATION:OH
END:VEVENT
BEGIN:VEVENT
DTSTART;VALUE=DATE:20251013
DTEND;VALUE=DATE:20251014
DTSTAMP:20260420T025207
CREATED:20250923T125620Z
LAST-MODIFIED:20250923T131449Z
UID:13927-1760313600-1760399999@bocc.geauga.oh.gov
SUMMARY:County Offices Closed
DESCRIPTION:County offices will be closed for general business due to Columbus Day.\nTwenty-four-hour operations will continue to operate as usual.
URL:https://bocc.geauga.oh.gov/event/county-offices-closed-32/
LOCATION:OH
END:VEVENT
END:VCALENDAR