BEGIN:VCALENDAR
VERSION:2.0
PRODID:-//Geauga County Board of Commissioners - ECPv6.15.20//NONSGML v1.0//EN
CALSCALE:GREGORIAN
METHOD:PUBLISH
X-WR-CALNAME:Geauga County Board of Commissioners
X-ORIGINAL-URL:https://bocc.geauga.oh.gov
X-WR-CALDESC:Events for Geauga County Board of Commissioners
REFRESH-INTERVAL;VALUE=DURATION:PT1H
X-Robots-Tag:noindex
X-PUBLISHED-TTL:PT1H
BEGIN:VTIMEZONE
TZID:America/New_York
BEGIN:DAYLIGHT
TZOFFSETFROM:-0500
TZOFFSETTO:-0400
TZNAME:EDT
DTSTART:20240310T070000
END:DAYLIGHT
BEGIN:STANDARD
TZOFFSETFROM:-0400
TZOFFSETTO:-0500
TZNAME:EST
DTSTART:20241103T060000
END:STANDARD
BEGIN:DAYLIGHT
TZOFFSETFROM:-0500
TZOFFSETTO:-0400
TZNAME:EDT
DTSTART:20250309T070000
END:DAYLIGHT
BEGIN:STANDARD
TZOFFSETFROM:-0400
TZOFFSETTO:-0500
TZNAME:EST
DTSTART:20251102T060000
END:STANDARD
BEGIN:DAYLIGHT
TZOFFSETFROM:-0500
TZOFFSETTO:-0400
TZNAME:EDT
DTSTART:20260308T070000
END:DAYLIGHT
BEGIN:STANDARD
TZOFFSETFROM:-0400
TZOFFSETTO:-0500
TZNAME:EST
DTSTART:20261101T060000
END:STANDARD
BEGIN:DAYLIGHT
TZOFFSETFROM:-0500
TZOFFSETTO:-0400
TZNAME:EDT
DTSTART:20270314T070000
END:DAYLIGHT
BEGIN:STANDARD
TZOFFSETFROM:-0400
TZOFFSETTO:-0500
TZNAME:EST
DTSTART:20271107T060000
END:STANDARD
END:VTIMEZONE
BEGIN:VEVENT
DTSTART;TZID=America/New_York:20260226T090000
DTEND;TZID=America/New_York:20260226T090000
DTSTAMP:20260419T234459
CREATED:20260225T123626Z
LAST-MODIFIED:20260225T123626Z
UID:14643-1772096400-1772096400@bocc.geauga.oh.gov
SUMMARY:Commissioners' Meeting
DESCRIPTION:The Commissioners will hold a work session at 9:00 a.m. with Maintenance to discuss facilities.
URL:https://bocc.geauga.oh.gov/event/commissioners-meeting-113/
LOCATION:OH
CATEGORIES:Commissioners' Meetings
END:VEVENT
BEGIN:VEVENT
DTSTART;TZID=America/New_York:20260225T090000
DTEND;TZID=America/New_York:20260225T090000
DTSTAMP:20260419T234459
CREATED:20260218T192907Z
LAST-MODIFIED:20260218T192907Z
UID:14627-1772010000-1772010000@bocc.geauga.oh.gov
SUMMARY:9-1-1 Program Review Council Meeting
DESCRIPTION:9-1-1 Program Review Committee meeting\, 9:00 a.m. Geauga County Office Building\, Room B303 (chambers)
URL:https://bocc.geauga.oh.gov/event/9-1-1-program-review-council-meeting/
LOCATION:Commissioners’ Chambers\, 12611 Ravenwood Drive\, Room B303\, Chardon\, OH\, 44024\, United States
END:VEVENT
BEGIN:VEVENT
DTSTART;TZID=America/New_York:20260225T090000
DTEND;TZID=America/New_York:20260225T090000
DTSTAMP:20260419T234459
CREATED:20260211T123618Z
LAST-MODIFIED:20260211T123618Z
UID:14602-1772010000-1772010000@bocc.geauga.oh.gov
SUMMARY:Board of Revision
DESCRIPTION:Board of Revision\, 9:00 a.m. Auditor’s Appraisal Conference Room
URL:https://bocc.geauga.oh.gov/event/board-of-revision-49/
LOCATION:Auditor’s Appraisal Conference Room\, Chardon\, OH\, United States
END:VEVENT
BEGIN:VEVENT
DTSTART;TZID=America/New_York:20260224T140000
DTEND;TZID=America/New_York:20260224T140000
DTSTAMP:20260419T234459
CREATED:20260211T123152Z
LAST-MODIFIED:20260211T123151Z
UID:14599-1771941600-1771941600@bocc.geauga.oh.gov
SUMMARY:Geauga Trumbull Solid Waste Management District Board of Directors Meeting
DESCRIPTION:Geauga Trumbull Solid Waste Management District Board of Directors meeting\, 2:00 p.m. Warren\, District Office
URL:https://bocc.geauga.oh.gov/event/geauga-trumbull-solid-waste-management-district-board-of-directors-meeting-11/
LOCATION:Geauga-Trumbull Solid Waste Management District\, Warren\, District Office\, 5138 Enterprise Dr NW\, Warren\, OH\, 44481\, United States
CATEGORIES:Meetings
END:VEVENT
BEGIN:VEVENT
DTSTART;TZID=America/New_York:20260224T093000
DTEND;TZID=America/New_York:20260224T093000
DTSTAMP:20260419T234459
CREATED:20260204T125133Z
LAST-MODIFIED:20260204T125133Z
UID:14553-1771925400-1771925400@bocc.geauga.oh.gov
SUMMARY:Commissioner's Meeting
DESCRIPTION:The Commissioners will hold session at 9:30 a.m.
URL:https://bocc.geauga.oh.gov/event/commissioners-meeting-110/
LOCATION:Commissioners’ Chambers\, 12611 Ravenwood Drive\, Room B303\, Chardon\, OH\, 44024\, United States
CATEGORIES:Commissioners' Meetings
END:VEVENT
BEGIN:VEVENT
DTSTART;TZID=America/New_York:20260223T133000
DTEND;TZID=America/New_York:20260223T133000
DTSTAMP:20260419T234459
CREATED:20260204T125228Z
LAST-MODIFIED:20260204T125320Z
UID:14555-1771853400-1771853400@bocc.geauga.oh.gov
SUMMARY:Family First Council
DESCRIPTION:Family First Council\, 1:30 p.m.\, County Office Building.
URL:https://bocc.geauga.oh.gov/event/family-first-council-31/
LOCATION:Geauga County Office Building\, 12611 Ravenwood Drive\, Chardon\, OH\, 44024\, United States
CATEGORIES:Family First Council
END:VEVENT
BEGIN:VEVENT
DTSTART;TZID=America/New_York:20260223T090000
DTEND;TZID=America/New_York:20260223T090000
DTSTAMP:20260419T234459
CREATED:20260211T122958Z
LAST-MODIFIED:20260211T122957Z
UID:14597-1771837200-1771837200@bocc.geauga.oh.gov
SUMMARY:Special ADP Meeting
DESCRIPTION:Special ADP Meeting\, 9:00 a.m.\, Auditor’s Appraisal Conference Room
URL:https://bocc.geauga.oh.gov/event/special-adp-meeting-4/
LOCATION:Auditor’s Appraisal Conference Room\, Chardon\, OH\, United States
CATEGORIES:ADP Board
END:VEVENT
BEGIN:VEVENT
DTSTART;TZID=America/New_York:20260219T093000
DTEND;TZID=America/New_York:20260219T093000
DTSTAMP:20260419T234459
CREATED:20260204T125034Z
LAST-MODIFIED:20260204T125034Z
UID:14551-1771493400-1771493400@bocc.geauga.oh.gov
SUMMARY:Commissioner's Meeting
DESCRIPTION:The Commissioners will hold session at 9:30 a.m.
URL:https://bocc.geauga.oh.gov/event/commissioners-meeting-109/
LOCATION:Commissioners’ Chambers\, 12611 Ravenwood Drive\, Room B303\, Chardon\, OH\, 44024\, United States
CATEGORIES:Commissioners' Meetings
END:VEVENT
BEGIN:VEVENT
DTSTART;VALUE=DATE:20260216
DTEND;VALUE=DATE:20260217
DTSTAMP:20260419T234459
CREATED:20260204T124942Z
LAST-MODIFIED:20260209T211346Z
UID:14549-1771200000-1771286399@bocc.geauga.oh.gov
SUMMARY:County Offices Closed
DESCRIPTION:County offices will be closed for general business due to the Presidents’ Day holiday. Twenty-four-hour operations will continue to operate as usual.
URL:https://bocc.geauga.oh.gov/event/county-offices-closed-37/
LOCATION:OH
END:VEVENT
BEGIN:VEVENT
DTSTART;TZID=America/New_York:20260211T090000
DTEND;TZID=America/New_York:20260211T090000
DTSTAMP:20260419T234459
CREATED:20260204T124838Z
LAST-MODIFIED:20260204T124838Z
UID:14547-1770800400-1770800400@bocc.geauga.oh.gov
SUMMARY:Tax Incentive Review Committee Meetings
DESCRIPTION:Tax Incentive Review Committee meetings\, 9:00 a.m. Bainbridge\, 10:00 a.m. Middlefield and\n1:00 p.m. Chardon\, Auditor’s Office\, Chardon\, Ohio
URL:https://bocc.geauga.oh.gov/event/tax-incentive-review-committee-meetings/
LOCATION:OH
END:VEVENT
BEGIN:VEVENT
DTSTART;TZID=America/New_York:20260210T093000
DTEND;TZID=America/New_York:20260210T093000
DTSTAMP:20260419T234459
CREATED:20260121T184901Z
LAST-MODIFIED:20260121T185021Z
UID:14487-1770715800-1770715800@bocc.geauga.oh.gov
SUMMARY:Commissioners' Meeting
DESCRIPTION:The Commissioners will hold session at 9:30 a.m.
URL:https://bocc.geauga.oh.gov/event/commissioners-meeting-108/
LOCATION:Commissioners’ Chambers\, 12611 Ravenwood Drive\, Room B303\, Chardon\, OH\, 44024\, United States
END:VEVENT
BEGIN:VEVENT
DTSTART;TZID=America/New_York:20260210T073000
DTEND;TZID=America/New_York:20260210T073000
DTSTAMP:20260419T234459
CREATED:20260209T211635Z
LAST-MODIFIED:20260209T211635Z
UID:14590-1770708600-1770708600@bocc.geauga.oh.gov
SUMMARY:Planning Commission Meeting
DESCRIPTION:Planning Commission\, 7:30 a.m.\, County Office Building\, Room A334\, Third Floor
URL:https://bocc.geauga.oh.gov/event/planning-commission-meeting-16/
LOCATION:Geauga County Office Building\, 12611 Ravenwood Drive\, Chardon\, OH\, 44024\, United States
END:VEVENT
BEGIN:VEVENT
DTSTART;TZID=America/New_York:20260203T093000
DTEND;TZID=America/New_York:20260203T093000
DTSTAMP:20260419T234459
CREATED:20260121T184749Z
LAST-MODIFIED:20260121T184749Z
UID:14485-1770111000-1770111000@bocc.geauga.oh.gov
SUMMARY:Commissioners' Meeting
DESCRIPTION:The Commissioners will hold session at 9:30 a.m.
URL:https://bocc.geauga.oh.gov/event/commissioners-meeting-107/
LOCATION:Commissioners’ Chambers\, 12611 Ravenwood Drive\, Room B303\, Chardon\, OH\, 44024\, United States
END:VEVENT
BEGIN:VEVENT
DTSTART;TZID=America/New_York:20260127T093000
DTEND;TZID=America/New_York:20260127T093000
DTSTAMP:20260419T234459
CREATED:20260105T205939Z
LAST-MODIFIED:20260105T205939Z
UID:14431-1769506200-1769506200@bocc.geauga.oh.gov
SUMMARY:Commissioners' Meeting
DESCRIPTION:The Commissioners will hold session at 9:30 a.m.
URL:https://bocc.geauga.oh.gov/event/commissioners-meeting-106/
LOCATION:Commissioners’ Chambers\, 12611 Ravenwood Drive\, Room B303\, Chardon\, OH\, 44024\, United States
CATEGORIES:Commissioners' Meetings
END:VEVENT
BEGIN:VEVENT
DTSTART;TZID=America/New_York:20260127T090000
DTEND;TZID=America/New_York:20260127T090000
DTSTAMP:20260419T234459
CREATED:20260116T122721Z
LAST-MODIFIED:20260116T122721Z
UID:14475-1769504400-1769504400@bocc.geauga.oh.gov
SUMMARY:Investment Advisory Committee
DESCRIPTION:Investment Advisory Committee\, 9:00 a.m.\, Geauga County Office Building\, Room B303
URL:https://bocc.geauga.oh.gov/event/investment-advisory-committee-11/
LOCATION:Geauga County Office Building\, 12611 Ravenwood Drive\, Chardon\, OH\, 44024\, United States
END:VEVENT
BEGIN:VEVENT
DTSTART;TZID=America/New_York:20260126T133000
DTEND;TZID=America/New_York:20260126T133000
DTSTAMP:20260419T234459
CREATED:20260116T122606Z
LAST-MODIFIED:20260116T122606Z
UID:14473-1769434200-1769434200@bocc.geauga.oh.gov
SUMMARY:Family First Council
DESCRIPTION:Family First Council\, 1:30 p.m. County Office Building.
URL:https://bocc.geauga.oh.gov/event/family-first-council-30/
LOCATION:Geauga County Office Building\, 12611 Ravenwood Drive\, Chardon\, OH\, 44024\, United States
END:VEVENT
BEGIN:VEVENT
DTSTART;TZID=America/New_York:20260122T093000
DTEND;TZID=America/New_York:20260122T093000
DTSTAMP:20260419T234459
CREATED:20260105T205853Z
LAST-MODIFIED:20260105T205853Z
UID:14429-1769074200-1769074200@bocc.geauga.oh.gov
SUMMARY:Commissioners' Meeting
DESCRIPTION:The Commissioners will hold session at 9:30 a.m.
URL:https://bocc.geauga.oh.gov/event/commissioners-meeting-105/
LOCATION:Commissioners’ Chambers\, 12611 Ravenwood Drive\, Room B303\, Chardon\, OH\, 44024\, United States
CATEGORIES:Commissioners' Meetings
END:VEVENT
BEGIN:VEVENT
DTSTART;VALUE=DATE:20260119
DTEND;VALUE=DATE:20260120
DTSTAMP:20260419T234459
CREATED:20260106T145730Z
LAST-MODIFIED:20260106T145730Z
UID:14443-1768780800-1768867199@bocc.geauga.oh.gov
SUMMARY:County Offices Closed
DESCRIPTION:County Offices will be closed in honor of Martin Luther King Jr. Day. Twenty–four–hour operations will continue to operate as normal.
URL:https://bocc.geauga.oh.gov/event/county-offices-closed-36/
LOCATION:OH
END:VEVENT
BEGIN:VEVENT
DTSTART;TZID=America/New_York:20260114T110000
DTEND;TZID=America/New_York:20260114T110000
DTSTAMP:20260419T234459
CREATED:20260120T143105Z
LAST-MODIFIED:20260120T143105Z
UID:14480-1768388400-1768388400@bocc.geauga.oh.gov
SUMMARY:Ohio Public Works Commission (OPWC)
DESCRIPTION:Ohio Public Works Commission (OPWC) – District 7\, Integrating Committee\, 11:00 a.m.\, Engineer’s Conference Room
URL:https://bocc.geauga.oh.gov/event/ohio-public-works-commission-opwc/
LOCATION:OH
END:VEVENT
BEGIN:VEVENT
DTSTART;TZID=America/New_York:20260113T093000
DTEND;TZID=America/New_York:20260113T093000
DTSTAMP:20260419T234459
CREATED:20260105T205743Z
LAST-MODIFIED:20260105T205743Z
UID:14427-1768296600-1768296600@bocc.geauga.oh.gov
SUMMARY:Commissioners' Meeting
DESCRIPTION:The Commissioners will hold session at 9:30 a.m.
URL:https://bocc.geauga.oh.gov/event/commissioners-meeting-104/
LOCATION:Commissioners’ Chambers\, 12611 Ravenwood Drive\, Room B303\, Chardon\, OH\, 44024\, United States
CATEGORIES:Commissioners' Meetings
END:VEVENT
BEGIN:VEVENT
DTSTART;TZID=America/New_York:20260113T073000
DTEND;TZID=America/New_York:20260113T073000
DTSTAMP:20260419T234459
CREATED:20260106T145325Z
LAST-MODIFIED:20260106T145527Z
UID:14437-1768289400-1768289400@bocc.geauga.oh.gov
SUMMARY:Planning Commission Meeting
DESCRIPTION:Planning Commission Meeting\, 7:30 a.m. County Office Building\, 3rd Floor Conference RoomA334\, Chardon
URL:https://bocc.geauga.oh.gov/event/planning-commission-meeting-15/
LOCATION:Geauga County Office Building\, 12611 Ravenwood Drive\, Chardon\, OH\, 44024\, United States
CATEGORIES:Planning Commission
END:VEVENT
BEGIN:VEVENT
DTSTART;TZID=America/New_York:20260112T140000
DTEND;TZID=America/New_York:20260112T140000
DTSTAMP:20260419T234459
CREATED:20260106T145437Z
LAST-MODIFIED:20260106T145437Z
UID:14439-1768226400-1768226400@bocc.geauga.oh.gov
SUMMARY:ADP Board Meeting
DESCRIPTION:ADP Board (Organizational) Meeting\, 2:00 p.m. 
URL:https://bocc.geauga.oh.gov/event/adp-board-meeting-3/
LOCATION:Auditor’s Appraisal Conference Room\, Chardon\, OH\, United States
CATEGORIES:ADP Board
END:VEVENT
BEGIN:VEVENT
DTSTART;TZID=America/New_York:20260112T110000
DTEND;TZID=America/New_York:20260112T110000
DTSTAMP:20260419T234459
CREATED:20260106T145154Z
LAST-MODIFIED:20260106T145154Z
UID:14435-1768215600-1768215600@bocc.geauga.oh.gov
SUMMARY:Board of Revision
DESCRIPTION:Board of Revision\, 11:00 a.m. Organizational Meeting\, followed by Special Meeting.
URL:https://bocc.geauga.oh.gov/event/board-of-revision-48/
LOCATION:Auditor’s Appraisal Conference Room\, Chardon\, OH\, United States
END:VEVENT
BEGIN:VEVENT
DTSTART;TZID=America/New_York:20260106T093000
DTEND;TZID=America/New_York:20260106T093000
DTSTAMP:20260419T234459
CREATED:20251222T190939Z
LAST-MODIFIED:20251222T190939Z
UID:14408-1767691800-1767691800@bocc.geauga.oh.gov
SUMMARY:Commissioners' Meeting
DESCRIPTION:The Commissioners will hold session at 9:30 a.m.\, that will include their annual organizational\nmeeting
URL:https://bocc.geauga.oh.gov/event/commissioners-meeting-103/
LOCATION:Commissioners’ Chambers\, 12611 Ravenwood Drive\, Room B303\, Chardon\, OH\, 44024\, United States
END:VEVENT
BEGIN:VEVENT
DTSTART;VALUE=DATE:20260101
DTEND;VALUE=DATE:20260102
DTSTAMP:20260419T234459
CREATED:20251201T195537Z
LAST-MODIFIED:20251215T213241Z
UID:14264-1767225600-1767311999@bocc.geauga.oh.gov
SUMMARY:Offices Closed
DESCRIPTION:County Offices will be closed in honor of New Year’s Day. Twenty-four-hour operations will\ncontinue to operate as normal.
URL:https://bocc.geauga.oh.gov/event/new-years-day/
LOCATION:OH
END:VEVENT
BEGIN:VEVENT
DTSTART;TZID=America/New_York:20251230T093000
DTEND;TZID=America/New_York:20251230T093000
DTSTAMP:20260419T234459
CREATED:20251201T194308Z
LAST-MODIFIED:20251201T201209Z
UID:14260-1767087000-1767087000@bocc.geauga.oh.gov
SUMMARY:Commissioners' Meeting
DESCRIPTION:The Commissioners will hold session at 9:30 a.m.
URL:https://bocc.geauga.oh.gov/event/commissioners-meeting-102/
LOCATION:Commissioners’ Chambers\, 12611 Ravenwood Drive\, Room B303\, Chardon\, OH\, 44024\, United States
END:VEVENT
BEGIN:VEVENT
DTSTART;VALUE=DATE:20251224
DTEND;VALUE=DATE:20251227
DTSTAMP:20260419T234459
CREATED:20251201T195446Z
LAST-MODIFIED:20251215T213142Z
UID:14262-1766534400-1766793599@bocc.geauga.oh.gov
SUMMARY:Offices Closed
DESCRIPTION:County Offices will be closed in honor of Christmas. Twenty-four-hour operations will continue to operate as normal.
URL:https://bocc.geauga.oh.gov/event/christmas/
LOCATION:OH
END:VEVENT
BEGIN:VEVENT
DTSTART;TZID=America/New_York:20251223T093000
DTEND;TZID=America/New_York:20251223T093000
DTSTAMP:20260419T234459
CREATED:20251201T194049Z
LAST-MODIFIED:20251201T200856Z
UID:14258-1766482200-1766482200@bocc.geauga.oh.gov
SUMMARY:Commissioners' Meeting
DESCRIPTION:The Commissioners will hold session at 9:30 a.m.
URL:https://bocc.geauga.oh.gov/event/commissioners-meeting-101/
LOCATION:Commissioners’ Chambers\, 12611 Ravenwood Drive\, Room B303\, Chardon\, OH\, 44024\, United States
END:VEVENT
BEGIN:VEVENT
DTSTART;TZID=America/New_York:20251216T093000
DTEND;TZID=America/New_York:20251216T093000
DTSTAMP:20260419T234459
CREATED:20251201T193857Z
LAST-MODIFIED:20251201T200809Z
UID:14256-1765877400-1765877400@bocc.geauga.oh.gov
SUMMARY:Commissioners' Meeting
DESCRIPTION:The Commissioners will hold session at 9:30 a.m.
URL:https://bocc.geauga.oh.gov/event/commissioners-meeting-100/
LOCATION:Commissioners’ Chambers\, 12611 Ravenwood Drive\, Room B303\, Chardon\, OH\, 44024\, United States
END:VEVENT
BEGIN:VEVENT
DTSTART;TZID=America/New_York:20251215T133000
DTEND;TZID=America/New_York:20251215T133000
DTSTAMP:20260419T234459
CREATED:20251201T193648Z
LAST-MODIFIED:20251201T193648Z
UID:14254-1765805400-1765805400@bocc.geauga.oh.gov
SUMMARY:Family First Council
DESCRIPTION:Family First Council\, 1:30 p.m. County Office Building
URL:https://bocc.geauga.oh.gov/event/family-first-council-29/
LOCATION:Geauga County Office Building\, 12611 Ravenwood Drive\, Chardon\, OH\, 44024\, United States
END:VEVENT
END:VCALENDAR