BEGIN:VCALENDAR
VERSION:2.0
PRODID:-//Geauga County Board of Commissioners - ECPv6.15.20//NONSGML v1.0//EN
CALSCALE:GREGORIAN
METHOD:PUBLISH
X-WR-CALNAME:Geauga County Board of Commissioners
X-ORIGINAL-URL:https://bocc.geauga.oh.gov
X-WR-CALDESC:Events for Geauga County Board of Commissioners
REFRESH-INTERVAL;VALUE=DURATION:PT1H
X-Robots-Tag:noindex
X-PUBLISHED-TTL:PT1H
BEGIN:VTIMEZONE
TZID:America/New_York
BEGIN:DAYLIGHT
TZOFFSETFROM:-0500
TZOFFSETTO:-0400
TZNAME:EDT
DTSTART:20240310T070000
END:DAYLIGHT
BEGIN:STANDARD
TZOFFSETFROM:-0400
TZOFFSETTO:-0500
TZNAME:EST
DTSTART:20241103T060000
END:STANDARD
BEGIN:DAYLIGHT
TZOFFSETFROM:-0500
TZOFFSETTO:-0400
TZNAME:EDT
DTSTART:20250309T070000
END:DAYLIGHT
BEGIN:STANDARD
TZOFFSETFROM:-0400
TZOFFSETTO:-0500
TZNAME:EST
DTSTART:20251102T060000
END:STANDARD
BEGIN:DAYLIGHT
TZOFFSETFROM:-0500
TZOFFSETTO:-0400
TZNAME:EDT
DTSTART:20260308T070000
END:DAYLIGHT
BEGIN:STANDARD
TZOFFSETFROM:-0400
TZOFFSETTO:-0500
TZNAME:EST
DTSTART:20261101T060000
END:STANDARD
END:VTIMEZONE
BEGIN:VEVENT
DTSTART;TZID=America/New_York:20251014T120000
DTEND;TZID=America/New_York:20251014T120000
DTSTAMP:20260422T185523
CREATED:20250930T120541Z
LAST-MODIFIED:20250930T120541Z
UID:13976-1760443200-1760443200@bocc.geauga.oh.gov
SUMMARY:University Hospitals Wellness Trail Ribbon Cutting
DESCRIPTION:University Hospitals Wellness Trail Ribbon Cutting\, 12:00 p.m.\, Ravenwood Drive
URL:https://bocc.geauga.oh.gov/event/university-hospitals-wellness-trail-ribbon-cutting/
LOCATION:OH
END:VEVENT
BEGIN:VEVENT
DTSTART;VALUE=DATE:20251013
DTEND;VALUE=DATE:20251014
DTSTAMP:20260422T185523
CREATED:20250923T125620Z
LAST-MODIFIED:20250923T131449Z
UID:13927-1760313600-1760399999@bocc.geauga.oh.gov
SUMMARY:County Offices Closed
DESCRIPTION:County offices will be closed for general business due to Columbus Day.\nTwenty-four-hour operations will continue to operate as usual.
URL:https://bocc.geauga.oh.gov/event/county-offices-closed-32/
LOCATION:OH
END:VEVENT
BEGIN:VEVENT
DTSTART;TZID=America/New_York:20251009T180000
DTEND;TZID=America/New_York:20251009T180000
DTSTAMP:20260422T185523
CREATED:20250930T120323Z
LAST-MODIFIED:20250930T120323Z
UID:13974-1760032800-1760032800@bocc.geauga.oh.gov
SUMMARY:Geauga County Agricultural Society Annual Meeting and Dinner
DESCRIPTION:Geauga County Agricultural Society Annual Meeting and Dinner\, 6:00 p.m. Mary Yoder’s
URL:https://bocc.geauga.oh.gov/event/geauga-county-agricultural-society-annual-meeting-and-dinner/
LOCATION:Mary Yoder’s Amish Kitchen\, 14743 North State Street\, Middlefield\, OH\, 44062\, United States
END:VEVENT
BEGIN:VEVENT
DTSTART;TZID=America/New_York:20251009T110000
DTEND;TZID=America/New_York:20251009T110000
DTSTAMP:20260422T185523
CREATED:20251007T115100Z
LAST-MODIFIED:20251007T115100Z
UID:13996-1760007600-1760007600@bocc.geauga.oh.gov
SUMMARY:Special ADP Meeting
DESCRIPTION:Special ADP meeting\, 11:00 a.m.\, Auditor’s Appraisal Conference Room.
URL:https://bocc.geauga.oh.gov/event/special-adp-meeting-3/
LOCATION:Auditor’s Appraisal Conference Room\, Chardon\, OH\, United States
END:VEVENT
BEGIN:VEVENT
DTSTART;TZID=America/New_York:20251008T180000
DTEND;TZID=America/New_York:20251008T180000
DTSTAMP:20260422T185523
CREATED:20250930T120112Z
LAST-MODIFIED:20250930T120112Z
UID:13972-1759946400-1759946400@bocc.geauga.oh.gov
SUMMARY:Geauga County Township Association Meeting and Dinner
DESCRIPTION:Geauga County Township Association Meeting and Dinner\, 6:00 p.m. Schoolyard Studio\, Burton
URL:https://bocc.geauga.oh.gov/event/geauga-county-township-association-meeting-and-dinner/
LOCATION:OH
END:VEVENT
BEGIN:VEVENT
DTSTART;TZID=America/New_York:20251007T093000
DTEND;TZID=America/New_York:20251007T093000
DTSTAMP:20260422T185523
CREATED:20250923T125523Z
LAST-MODIFIED:20250923T125523Z
UID:13925-1759829400-1759829400@bocc.geauga.oh.gov
SUMMARY:Commissioners' Meeting
DESCRIPTION:The Commissioners will hold session at 9:30 a.m.
URL:https://bocc.geauga.oh.gov/event/commissioners-meeting-90/
LOCATION:Commissioners’ Chambers\, 12611 Ravenwood Drive\, Room B303\, Chardon\, OH\, 44024\, United States
END:VEVENT
BEGIN:VEVENT
DTSTART;TZID=America/New_York:20251003T120000
DTEND;TZID=America/New_York:20251003T120000
DTSTAMP:20260422T185523
CREATED:20250923T125202Z
LAST-MODIFIED:20250923T125239Z
UID:13923-1759492800-1759492800@bocc.geauga.oh.gov
SUMMARY:NOACA Annual meeting
DESCRIPTION:NOACA Annual meeting\, 12:00 p.m. Cleveland
URL:https://bocc.geauga.oh.gov/event/noaca-annual-meeting/
LOCATION:OH
END:VEVENT
BEGIN:VEVENT
DTSTART;TZID=America/New_York:20251002T173000
DTEND;TZID=America/New_York:20251002T173000
DTSTAMP:20260422T185523
CREATED:20250930T115813Z
LAST-MODIFIED:20250930T124751Z
UID:13970-1759426200-1759426200@bocc.geauga.oh.gov
SUMMARY:Geauga Soil and Water Conservation District Annual Dinner and Election
DESCRIPTION:Geauga Soil and Water Conservation District Annual Dinner and Election\, 5:30 p.m.\, Veterans\nLegacy Woods Tribute Lodge
URL:https://bocc.geauga.oh.gov/event/geauga-soil-and-water-conservation-district-annual-dinner-and-election/
LOCATION:Veterans Legacy Woods’ Tribute Lodge\, 14085 Ravenna Road\, Newbury\, OH\, 44065\, United States
END:VEVENT
BEGIN:VEVENT
DTSTART;TZID=America/New_York:20250930T093000
DTEND;TZID=America/New_York:20250930T093000
DTSTAMP:20260422T185523
CREATED:20250904T125424Z
LAST-MODIFIED:20250904T125527Z
UID:13833-1759224600-1759224600@bocc.geauga.oh.gov
SUMMARY:Commissioners' Meeting
DESCRIPTION:The Commissioners will hold session at 9:30 a.m.
URL:https://bocc.geauga.oh.gov/event/commissioners-meeting-89/
LOCATION:Commissioners’ Chambers\, 12611 Ravenwood Drive\, Room B303\, Chardon\, OH\, 44024\, United States
END:VEVENT
BEGIN:VEVENT
DTSTART;TZID=America/New_York:20250925T100000
DTEND;TZID=America/New_York:20250925T100000
DTSTAMP:20260422T185523
CREATED:20250923T125012Z
LAST-MODIFIED:20250923T125012Z
UID:13921-1758794400-1758794400@bocc.geauga.oh.gov
SUMMARY:Special ADP Board Meeting
DESCRIPTION:Special ADP Board meeting\, 10:00 a.m. Auditor’s Appraisal Conference Room
URL:https://bocc.geauga.oh.gov/event/special-adp-board-meeting-3/
LOCATION:Auditor’s Appraisal Conference Room\, Chardon\, OH\, United States
END:VEVENT
BEGIN:VEVENT
DTSTART;TZID=America/New_York:20250924T100000
DTEND;TZID=America/New_York:20250924T100000
DTSTAMP:20260422T185523
CREATED:20250915T175701Z
LAST-MODIFIED:20250924T124223Z
UID:13886-1758708000-1758708000@bocc.geauga.oh.gov
SUMMARY:Commissioners' Special Session: Ribbon Cutting
DESCRIPTION:AGENDA \nFor the Board of County Commissioners Special Meeting of September 24\, 2025 \nNOTE LOCATION:  GEAUGA COUNTY AIRPORT AUTHORITY\n15421 OLD STATE ROAD\, MIDDLEFIELD\nLOCATION – PARALLEL TAXIWAY AND GROUNDBREAKING \nOpen the meeting at 10:00 a.m. \n\nThe Commissioners’ will attend and be part of the Geauga County Airport Authority Ribbon Cutting and Groundbreaking Ceremony of the Parallel Taxiway and new T-Hangars – this will include speakers from the Airport Authority\, the Commissioners\, and the Village of Middlefield\, then the official Ribbon Cutting and Groundbreaking.\n\n  \n* This meeting was scheduled pursuant to Resolution #25-180 on September 16\, 2025.
URL:https://bocc.geauga.oh.gov/event/commissioners-special-session-2/
LOCATION:Geauga County Airport\, 15421 Old State Road\, Middlefield\, 44062\, United States
END:VEVENT
BEGIN:VEVENT
DTSTART;TZID=America/New_York:20250923T150000
DTEND;TZID=America/New_York:20250923T150000
DTSTAMP:20260422T185523
CREATED:20250904T125221Z
LAST-MODIFIED:20250904T125254Z
UID:13831-1758639600-1758639600@bocc.geauga.oh.gov
SUMMARY:Geauga Trumbull Solid Waste Management District\, Board of Directors Meeting
DESCRIPTION:Geauga Trumbull Solid Waste Management District\, Board of Directors meeting\, 3:00 p.m.\,Geauga County Office Building\, Room B200
URL:https://bocc.geauga.oh.gov/event/geauga-trumbull-solid-waste-management-district-board-of-directors-meeting-10/
LOCATION:Geauga County Office Building\, 12611 Ravenwood Drive\, Chardon\, OH\, 44024\, United States
END:VEVENT
BEGIN:VEVENT
DTSTART;TZID=America/New_York:20250923T093000
DTEND;TZID=America/New_York:20250923T093000
DTSTAMP:20260422T185523
CREATED:20250904T124839Z
LAST-MODIFIED:20250904T124839Z
UID:13829-1758619800-1758619800@bocc.geauga.oh.gov
SUMMARY:Commissioners' Meeting
DESCRIPTION:The Commissioners will hold session at 9:30 a.m.
URL:https://bocc.geauga.oh.gov/event/commissioners-meeting-88/
LOCATION:Commissioners’ Chambers\, 12611 Ravenwood Drive\, Room B303\, Chardon\, OH\, 44024\, United States
END:VEVENT
BEGIN:VEVENT
DTSTART;TZID=America/New_York:20250916T093000
DTEND;TZID=America/New_York:20250916T093000
DTSTAMP:20260422T185523
CREATED:20250904T124357Z
LAST-MODIFIED:20250904T124700Z
UID:13827-1758015000-1758015000@bocc.geauga.oh.gov
SUMMARY:Commissioners' Meeting
DESCRIPTION:The Commissioners will hold session at 9:30 a.m.
URL:https://bocc.geauga.oh.gov/event/commissioners-meeting-87/
LOCATION:Commissioners’ Chambers\, 12611 Ravenwood Drive\, Room B303\, Chardon\, OH\, 44024\, United States
END:VEVENT
BEGIN:VEVENT
DTSTART;TZID=America/New_York:20250915T133000
DTEND;TZID=America/New_York:20250915T133000
DTSTAMP:20260422T185523
CREATED:20250904T123931Z
LAST-MODIFIED:20250904T123932Z
UID:13825-1757943000-1757943000@bocc.geauga.oh.gov
SUMMARY:Family First Council
DESCRIPTION:Family First Council\, 1:30 p.m. County Office Building\, Room B167-168
URL:https://bocc.geauga.oh.gov/event/family-first-council-26/
LOCATION:Geauga County Office Building\, 12611 Ravenwood Drive\, Chardon\, OH\, 44024\, United States
END:VEVENT
BEGIN:VEVENT
DTSTART;TZID=America/New_York:20250910T090000
DTEND;TZID=America/New_York:20250910T090000
DTSTAMP:20260422T185523
CREATED:20250818T182649Z
LAST-MODIFIED:20250818T182649Z
UID:13758-1757494800-1757494800@bocc.geauga.oh.gov
SUMMARY:Board of Revision
DESCRIPTION:Board of Revision\, 9:00 a.m. Auditor’s Appraisal Conference Room
URL:https://bocc.geauga.oh.gov/event/board-of-revision-46/
LOCATION:Auditor’s Appraisal Conference Room\, Chardon\, OH\, United States
END:VEVENT
BEGIN:VEVENT
DTSTART;TZID=America/New_York:20250909T140000
DTEND;TZID=America/New_York:20250909T140000
DTSTAMP:20260422T185523
CREATED:20250915T180922Z
LAST-MODIFIED:20250915T180922Z
UID:13889-1757426400-1757426400@bocc.geauga.oh.gov
SUMMARY:ADP Board Meeting
DESCRIPTION:ADP Board\, regular meeting\, 2:00 p.m.  Auditor’s Appraisal conference Room
URL:https://bocc.geauga.oh.gov/event/adp-board-meeting-2/
LOCATION:Auditor’s Appraisal Conference Room\, Chardon\, OH\, United States
END:VEVENT
BEGIN:VEVENT
DTSTART;TZID=America/New_York:20250909T093000
DTEND;TZID=America/New_York:20250909T093000
DTSTAMP:20260422T185523
CREATED:20250811T202820Z
LAST-MODIFIED:20250811T202820Z
UID:13712-1757410200-1757410200@bocc.geauga.oh.gov
SUMMARY:Commissioners' Meeting
DESCRIPTION:The Commissioners will hold session at 9:30 a.m.
URL:https://bocc.geauga.oh.gov/event/commissioners-meeting-86/
LOCATION:Commissioners’ Chambers\, 12611 Ravenwood Drive\, Room B303\, Chardon\, OH\, 44024\, United States
END:VEVENT
BEGIN:VEVENT
DTSTART;TZID=America/New_York:20250909T073000
DTEND;TZID=America/New_York:20250909T073000
DTSTAMP:20260422T185523
CREATED:20250811T202730Z
LAST-MODIFIED:20250811T202730Z
UID:13710-1757403000-1757403000@bocc.geauga.oh.gov
SUMMARY:Planning Commission
DESCRIPTION:Planning Commission\, 7:30 a.m. County Office Building\, Room A334
URL:https://bocc.geauga.oh.gov/event/planning-commission-2/
LOCATION:Geauga County Office Building\, 12611 Ravenwood Drive\, Chardon\, OH\, 44024\, United States
END:VEVENT
BEGIN:VEVENT
DTSTART;TZID=America/New_York:20250904T093000
DTEND;TZID=America/New_York:20250904T093000
DTSTAMP:20260422T185523
CREATED:20250806T125707Z
LAST-MODIFIED:20250806T125707Z
UID:13688-1756978200-1756978200@bocc.geauga.oh.gov
SUMMARY:Commissioners' Meeting
DESCRIPTION:The Commissioners will hold session at 9:30 a.m.
URL:https://bocc.geauga.oh.gov/event/commissioners-meeting-85/
LOCATION:Commissioners’ Chambers\, 12611 Ravenwood Drive\, Room B303\, Chardon\, OH\, 44024\, United States
END:VEVENT
BEGIN:VEVENT
DTSTART;VALUE=DATE:20250901
DTEND;VALUE=DATE:20250902
DTSTAMP:20260422T185523
CREATED:20250806T125558Z
LAST-MODIFIED:20250806T125558Z
UID:13686-1756684800-1756771199@bocc.geauga.oh.gov
SUMMARY:Offices Closed
DESCRIPTION:County Offices will be closed in honor of the Labor Day holiday. Twenty-four-hour operations will continue to operate as normal.
URL:https://bocc.geauga.oh.gov/event/offices-closed-3/
LOCATION:OH
END:VEVENT
BEGIN:VEVENT
DTSTART;TZID=America/New_York:20250828T100000
DTEND;TZID=America/New_York:20250828T100000
DTSTAMP:20260422T185523
CREATED:20250806T125140Z
LAST-MODIFIED:20250806T125140Z
UID:13682-1756375200-1756375200@bocc.geauga.oh.gov
SUMMARY:Commissioners' Meeting at Fair
DESCRIPTION:The Commissioners will hold session at 10:00 a.m. at the Great Geauga County Fair\, Jr. Fair Stage\, Burton
URL:https://bocc.geauga.oh.gov/event/commissioners-meeting-at-fair/
LOCATION:Geauga County Fairgrounds\, 14373 North Cheshire Street\, Burton\, 44021\, United States
END:VEVENT
BEGIN:VEVENT
DTSTART;VALUE=DATE:20250828
DTEND;VALUE=DATE:20250902
DTSTAMP:20260422T185523
CREATED:20250806T125417Z
LAST-MODIFIED:20250806T125417Z
UID:13684-1756339200-1756771199@bocc.geauga.oh.gov
SUMMARY:Great Geauga County Fair
DESCRIPTION:Great Geauga County Fair\, Burton
URL:https://bocc.geauga.oh.gov/event/great-geauga-county-fair-2/
LOCATION:Geauga County Fairgrounds\, 14373 North Cheshire Street\, Burton\, 44021\, United States
END:VEVENT
BEGIN:VEVENT
DTSTART;TZID=America/New_York:20250824T170000
DTEND;TZID=America/New_York:20250824T170000
DTSTAMP:20260422T185523
CREATED:20250822T203536Z
LAST-MODIFIED:20250822T203536Z
UID:13805-1756054800-1756054800@bocc.geauga.oh.gov
SUMMARY:Special Commissioners' Meeting
DESCRIPTION:AGENDA \nFor the Board of County Commissioners Special Meeting for August 24\, 2025 \nNOTE LOCATION:  GEAUGA COUNTY FAIRGROUNDS\nLOCATION OF NEW POULTRY BARN AND YOUTH AND LIVESTOCK CENTER \nOpen the meeting at 5:00 p.m. \n\nThe Commissioners’ will attend and be part of the Great Geauga County Fair Ribbon Cutting Ceremony of the new Poultry Barn and Youth and Livestock Center – this will include speakers from the Agricultural Society and the Commissioners and the official ribbon cutting.
URL:https://bocc.geauga.oh.gov/event/special-commissioners-meeting/
LOCATION:Geauga County Fairgrounds\, 14373 North Cheshire Street\, Burton\, 44021\, United States
END:VEVENT
BEGIN:VEVENT
DTSTART;TZID=America/New_York:20250819T093000
DTEND;TZID=America/New_York:20250819T093000
DTSTAMP:20260422T185523
CREATED:20250801T145417Z
LAST-MODIFIED:20250801T145417Z
UID:13660-1755595800-1755595800@bocc.geauga.oh.gov
SUMMARY:Commissioners Meeting
DESCRIPTION:The Commissioners will hold session at 9:30 a.m.
URL:https://bocc.geauga.oh.gov/event/commissioners-meeting-84/
LOCATION:Commissioners’ Chambers\, 12611 Ravenwood Drive\, Room B303\, Chardon\, OH\, 44024\, United States
END:VEVENT
BEGIN:VEVENT
DTSTART;TZID=America/New_York:20250818T133000
DTEND;TZID=America/New_York:20250818T133000
DTSTAMP:20260422T185523
CREATED:20250801T145257Z
LAST-MODIFIED:20250801T145257Z
UID:13658-1755523800-1755523800@bocc.geauga.oh.gov
SUMMARY:Family First Council Meeting
DESCRIPTION:Family First Council\, 1:30 p.m.
URL:https://bocc.geauga.oh.gov/event/family-first-council-meeting-3/
LOCATION:OH
END:VEVENT
BEGIN:VEVENT
DTSTART;TZID=America/New_York:20250812T093000
DTEND;TZID=America/New_York:20250812T093000
DTSTAMP:20260422T185523
CREATED:20250801T145043Z
LAST-MODIFIED:20250801T182129Z
UID:13656-1754991000-1754991000@bocc.geauga.oh.gov
SUMMARY:Commissioners' Meeting & Public Hearing
DESCRIPTION:The Commissioners will hold session at 9:30 a.m. that will include Public Hearing #3 at 9:45 a.m. for the CDBG Revolving Loan Fund Program.
URL:https://bocc.geauga.oh.gov/event/commissioners-meeting-83/
LOCATION:Commissioners’ Chambers\, 12611 Ravenwood Drive\, Room B303\, Chardon\, OH\, 44024\, United States
END:VEVENT
BEGIN:VEVENT
DTSTART;TZID=America/New_York:20250812T073000
DTEND;TZID=America/New_York:20250812T073000
DTSTAMP:20260422T185523
CREATED:20250801T144827Z
LAST-MODIFIED:20250801T144827Z
UID:13653-1754983800-1754983800@bocc.geauga.oh.gov
SUMMARY:Planning Commission Meeting
DESCRIPTION:Planning Commission\, 7:30 a.m. County Office Building\, Room A334.
URL:https://bocc.geauga.oh.gov/event/planning-commission-meeting-11/
LOCATION:Geauga County Office Building\, 12611 Ravenwood Drive\, Chardon\, OH\, 44024\, United States
END:VEVENT
BEGIN:VEVENT
DTSTART;TZID=America/New_York:20250805T093000
DTEND;TZID=America/New_York:20250805T093000
DTSTAMP:20260422T185523
CREATED:20250801T144142Z
LAST-MODIFIED:20250801T144142Z
UID:13650-1754386200-1754386200@bocc.geauga.oh.gov
SUMMARY:Commissioners Meeting
DESCRIPTION:The Commissioners will hold session at 9:30 a.m.
URL:https://bocc.geauga.oh.gov/event/commissioners-meeting-82/
LOCATION:Commissioners’ Chambers\, 12611 Ravenwood Drive\, Room B303\, Chardon\, OH\, 44024\, United States
END:VEVENT
BEGIN:VEVENT
DTSTART;TZID=America/New_York:20250730T090000
DTEND;TZID=America/New_York:20250730T090000
DTSTAMP:20260422T185523
CREATED:20250801T182305Z
LAST-MODIFIED:20250801T182305Z
UID:13664-1753866000-1753866000@bocc.geauga.oh.gov
SUMMARY:Special Board of Revision Hearing
DESCRIPTION:Special Board of Revision Hearing\, 9:00 a.m. Auditor’s Appraisal Conference Room
URL:https://bocc.geauga.oh.gov/event/special-board-of-revision-hearing/
LOCATION:Auditor’s Appraisal Conference Room\, Chardon\, OH\, United States
END:VEVENT
END:VCALENDAR