BEGIN:VCALENDAR
VERSION:2.0
PRODID:-//Geauga County Board of Commissioners - ECPv6.15.20//NONSGML v1.0//EN
CALSCALE:GREGORIAN
METHOD:PUBLISH
X-WR-CALNAME:Geauga County Board of Commissioners
X-ORIGINAL-URL:https://bocc.geauga.oh.gov
X-WR-CALDESC:Events for Geauga County Board of Commissioners
REFRESH-INTERVAL;VALUE=DURATION:PT1H
X-Robots-Tag:noindex
X-PUBLISHED-TTL:PT1H
BEGIN:VTIMEZONE
TZID:America/New_York
BEGIN:DAYLIGHT
TZOFFSETFROM:-0500
TZOFFSETTO:-0400
TZNAME:EDT
DTSTART:20250309T070000
END:DAYLIGHT
BEGIN:STANDARD
TZOFFSETFROM:-0400
TZOFFSETTO:-0500
TZNAME:EST
DTSTART:20251102T060000
END:STANDARD
BEGIN:DAYLIGHT
TZOFFSETFROM:-0500
TZOFFSETTO:-0400
TZNAME:EDT
DTSTART:20260308T070000
END:DAYLIGHT
BEGIN:STANDARD
TZOFFSETFROM:-0400
TZOFFSETTO:-0500
TZNAME:EST
DTSTART:20261101T060000
END:STANDARD
BEGIN:DAYLIGHT
TZOFFSETFROM:-0500
TZOFFSETTO:-0400
TZNAME:EDT
DTSTART:20270314T070000
END:DAYLIGHT
BEGIN:STANDARD
TZOFFSETFROM:-0400
TZOFFSETTO:-0500
TZNAME:EST
DTSTART:20271107T060000
END:STANDARD
END:VTIMEZONE
BEGIN:VEVENT
DTSTART;TZID=America/New_York:20260325T090000
DTEND;TZID=America/New_York:20260325T090000
DTSTAMP:20260422T235154
CREATED:20260318T115626Z
LAST-MODIFIED:20260318T115626Z
UID:14753-1774429200-1774429200@bocc.geauga.oh.gov
SUMMARY:Board of Revision
DESCRIPTION:Board of Revision\, 9:00 a.m. Auditor’s Appraisal Conference Room
URL:https://bocc.geauga.oh.gov/event/board-of-revision-50/
LOCATION:Auditor’s Appraisal Conference Room\, Chardon\, OH\, United States
END:VEVENT
BEGIN:VEVENT
DTSTART;TZID=America/New_York:20260330T183000
DTEND;TZID=America/New_York:20260330T194500
DTSTAMP:20260422T235154
CREATED:20260313T121320Z
LAST-MODIFIED:20260331T125329Z
UID:14734-1774895400-1774899900@bocc.geauga.oh.gov
SUMMARY:Protecting Geauga Residents & Businesses: Cybersecurity Awareness
DESCRIPTION:Protecting Geauga Residents and Businesses \nCybersecurity Awareness \n\n    March 30th\n    6:30 PM – 7:45 PM\n    Geauga County Office Building\n    Third Floor Conference Room A334\n \n\n    Speakers\n    Jim Dvorak\, Commissioner\n    Jim Jonovich\, Lieutenant\, Sheriff’s Office\n    Rick Warner\, Criminal Investigator\, Prosecutor’s Office\n    Zach McLeod\, Director of Cybersecurity\, ADP\n \nLearn how to protect your family from hackers.
URL:https://bocc.geauga.oh.gov/event/protecting-geauga-residents-businesses-cybersecurity-awareness/
LOCATION:Geauga County Office Building\, 12611 Ravenwood Drive\, Chardon\, OH\, 44024\, United States
END:VEVENT
BEGIN:VEVENT
DTSTART;TZID=America/New_York:20260331T093000
DTEND;TZID=America/New_York:20260331T093000
DTSTAMP:20260422T235154
CREATED:20260318T115956Z
LAST-MODIFIED:20260318T115956Z
UID:14755-1774949400-1774949400@bocc.geauga.oh.gov
SUMMARY:Commissioners' Meeting
DESCRIPTION:The Commissioners will hold session at 9:30 a.m. that will include a meeting at 10:00 a.m. of the Statutory Group\, consisting of the Commissioners\, Sheriff\, Judge of the Common Pleas Court\, Judge of the Probate Court and Clerk of Courts\, pursuant to O.R.C. 153.36 for the review andapproval of plans\, drawings\, representations\, bills of materials\, specifications of work and estimates of the cost thereof in detail and in the aggregate for the proposed Geauga County Safety Center Roof Upgrade Project.
URL:https://bocc.geauga.oh.gov/event/commissioners-meeting-115/
LOCATION:Commissioners’ Chambers\, 12611 Ravenwood Drive\, Room B303\, Chardon\, OH\, 44024\, United States
CATEGORIES:Commissioners' Meetings
END:VEVENT
BEGIN:VEVENT
DTSTART;TZID=America/New_York:20260402T100000
DTEND;TZID=America/New_York:20260402T100000
DTSTAMP:20260422T235154
CREATED:20260318T120536Z
LAST-MODIFIED:20260319T193550Z
UID:14761-1775124000-1775124000@bocc.geauga.oh.gov
SUMMARY:Work Session
DESCRIPTION:Work Session\, 10:00 a.m. County Office Building\, Room B303
URL:https://bocc.geauga.oh.gov/event/work-session/
LOCATION:Commissioners’ Chambers\, 12611 Ravenwood Drive\, Room B303\, Chardon\, OH\, 44024\, United States
END:VEVENT
BEGIN:VEVENT
DTSTART;TZID=America/New_York:20260407T100000
DTEND;TZID=America/New_York:20260407T100000
DTSTAMP:20260422T235154
CREATED:20260318T120414Z
LAST-MODIFIED:20260318T120414Z
UID:14759-1775556000-1775556000@bocc.geauga.oh.gov
SUMMARY:Commissioners' Meeting
DESCRIPTION:The Commissioners will hold session at 10:00 a.m. in Judge Paschke’s Courtroom\, Chardon\, thatwill include the Ribbon Cutting on the new Courthouse Expansion and conclude at the Heritage House.
URL:https://bocc.geauga.oh.gov/event/commissioners-meeting-117/
LOCATION:Geauga County Courthouse\, 100 Short Court Street\, Chardon\, OH\, 44024\, United States
CATEGORIES:Commissioners' Meetings
END:VEVENT
BEGIN:VEVENT
DTSTART;TZID=America/New_York:20260408T120000
DTEND;TZID=America/New_York:20260408T120000
DTSTAMP:20260422T235154
CREATED:20260401T120043Z
LAST-MODIFIED:20260401T120043Z
UID:14810-1775649600-1775649600@bocc.geauga.oh.gov
SUMMARY:Board of Revision
DESCRIPTION:Board of Revision\, 12:00 p.m. Auditor’s Appraisal Conference Room
URL:https://bocc.geauga.oh.gov/event/board-of-revision-51/
LOCATION:Auditor’s Appraisal Conference Room\, Chardon\, OH\, United States
END:VEVENT
BEGIN:VEVENT
DTSTART;TZID=America/New_York:20260413T130000
DTEND;TZID=America/New_York:20260413T130000
DTSTAMP:20260422T235154
CREATED:20260408T121043Z
LAST-MODIFIED:20260408T121043Z
UID:14828-1776085200-1776085200@bocc.geauga.oh.gov
SUMMARY:Special ADP Board Meeting
DESCRIPTION:Special ADP Board meeting\, 1:00 p.m. Auditor’s Appraisal Conference Room
URL:https://bocc.geauga.oh.gov/event/special-adp-board-meeting-4/
LOCATION:Auditor’s Appraisal Conference Room\, Chardon\, OH\, United States
CATEGORIES:ADP Board
END:VEVENT
BEGIN:VEVENT
DTSTART;TZID=America/New_York:20260414T073000
DTEND;TZID=America/New_York:20260414T073000
DTSTAMP:20260422T235154
CREATED:20260318T120704Z
LAST-MODIFIED:20260318T120704Z
UID:14763-1776151800-1776151800@bocc.geauga.oh.gov
SUMMARY:Planning Commission
DESCRIPTION:Planning Commission\, 7:30 a.m. County Office Building\, Room A334\, Chardon
URL:https://bocc.geauga.oh.gov/event/planning-commission-3/
LOCATION:Geauga County Office Building\, 12611 Ravenwood Drive\, Chardon\, OH\, 44024\, United States
CATEGORIES:Planning Commission
END:VEVENT
BEGIN:VEVENT
DTSTART;TZID=America/New_York:20260414T090000
DTEND;TZID=America/New_York:20260414T090000
DTSTAMP:20260422T235154
CREATED:20260318T120824Z
LAST-MODIFIED:20260319T193414Z
UID:14765-1776157200-1776157200@bocc.geauga.oh.gov
SUMMARY:Investment Advisory Committee
DESCRIPTION:Investment Advisory Committee\, 9:00 a.m. County Office Building\, Room B303
URL:https://bocc.geauga.oh.gov/event/investment-advisory-committee-12/
LOCATION:Commissioners’ Chambers\, 12611 Ravenwood Drive\, Room B303\, Chardon\, OH\, 44024\, United States
END:VEVENT
BEGIN:VEVENT
DTSTART;TZID=America/New_York:20260414T093000
DTEND;TZID=America/New_York:20260414T093000
DTSTAMP:20260422T235154
CREATED:20260318T120202Z
LAST-MODIFIED:20260318T120202Z
UID:14757-1776159000-1776159000@bocc.geauga.oh.gov
SUMMARY:Commissioners' Meeting
DESCRIPTION:The Commissioners will hold session at 9:30 a.m.
URL:https://bocc.geauga.oh.gov/event/commissioners-meeting-116/
LOCATION:Commissioners’ Chambers\, 12611 Ravenwood Drive\, Room B303\, Chardon\, OH\, 44024\, United States
CATEGORIES:Commissioners' Meetings
END:VEVENT
BEGIN:VEVENT
DTSTART;TZID=America/New_York:20260420T133000
DTEND;TZID=America/New_York:20260420T133000
DTSTAMP:20260422T235154
CREATED:20260401T120214Z
LAST-MODIFIED:20260401T120214Z
UID:14812-1776691800-1776691800@bocc.geauga.oh.gov
SUMMARY:Family First Council
DESCRIPTION:Family First Council\, 1:30 p.m. County Office Building\, Suite B168
URL:https://bocc.geauga.oh.gov/event/family-first-council-33/
LOCATION:Geauga County Office Building\, 12611 Ravenwood Drive\, Chardon\, OH\, 44024\, United States
CATEGORIES:Family First Council
END:VEVENT
BEGIN:VEVENT
DTSTART;TZID=America/New_York:20260421T093000
DTEND;TZID=America/New_York:20260421T093000
DTSTAMP:20260422T235154
CREATED:20260401T120341Z
LAST-MODIFIED:20260401T120341Z
UID:14814-1776763800-1776763800@bocc.geauga.oh.gov
SUMMARY:Commissioners' Meeting
DESCRIPTION:The Commissioners will hold session at 9:30 a.m.
URL:https://bocc.geauga.oh.gov/event/commissioners-meeting-118/
LOCATION:Commissioners’ Chambers\, 12611 Ravenwood Drive\, Room B303\, Chardon\, OH\, 44024\, United States
CATEGORIES:Commissioners' Meetings
END:VEVENT
BEGIN:VEVENT
DTSTART;TZID=America/New_York:20260421T150000
DTEND;TZID=America/New_York:20260421T150000
DTSTAMP:20260422T235154
CREATED:20260401T120635Z
LAST-MODIFIED:20260401T120635Z
UID:14818-1776783600-1776783600@bocc.geauga.oh.gov
SUMMARY:Geauga Trumbull Solid Waste Management District\, Directors Meeting
DESCRIPTION:Geauga Trumbull Solid Waste Management District\, Directors Meeting\, 3:00 p.m. County OfficeBuilding\, Room B168
URL:https://bocc.geauga.oh.gov/event/geauga-trumbull-solid-waste-management-district-directors-meeting/
LOCATION:Geauga County Office Building\, 12611 Ravenwood Drive\, Chardon\, OH\, 44024\, United States
END:VEVENT
BEGIN:VEVENT
DTSTART;TZID=America/New_York:20260422T090000
DTEND;TZID=America/New_York:20260422T090000
DTSTAMP:20260422T235154
CREATED:20260408T121206Z
LAST-MODIFIED:20260408T121206Z
UID:14830-1776848400-1776848400@bocc.geauga.oh.gov
SUMMARY:Board of Revision
DESCRIPTION:Board of Revision\, 9:00 a.m. Auditor’s Appraisal Conference Room
URL:https://bocc.geauga.oh.gov/event/board-of-revision-52/
LOCATION:Auditor’s Appraisal Conference Room\, Chardon\, OH\, United States
END:VEVENT
BEGIN:VEVENT
DTSTART;TZID=America/New_York:20260423T090000
DTEND;TZID=America/New_York:20260423T090000
DTSTAMP:20260422T235154
CREATED:20260408T121337Z
LAST-MODIFIED:20260421T160305Z
UID:14832-1776934800-1776934800@bocc.geauga.oh.gov
SUMMARY:Commissioners' Work Session
DESCRIPTION:April 21\, 2026 \nNOTICE OF SPECIAL MEETING \nThe Geauga County Board of Commissioners will hold a special meeting on Thursday\, April 23\, 2026\, at 9:00 a.m.\, that will include a Work Session with the Building Department. This meeting will be held at the Geauga County Office Building\, Room B303\, 12611 Ravenwood Drive\, Chardon\, Ohio. \n  \nChristine Blair\, Clerk
URL:https://bocc.geauga.oh.gov/event/commissioners-work-session/
LOCATION:Commissioners’ Chambers\, 12611 Ravenwood Drive\, Room B303\, Chardon\, OH\, 44024\, United States
END:VEVENT
BEGIN:VEVENT
DTSTART;TZID=America/New_York:20260428T093000
DTEND;TZID=America/New_York:20260428T093000
DTSTAMP:20260422T235154
CREATED:20260401T120428Z
LAST-MODIFIED:20260401T120428Z
UID:14816-1777368600-1777368600@bocc.geauga.oh.gov
SUMMARY:Commissioners' Meeting
DESCRIPTION:The Commissioners will hold session at 9:30 a.m.
URL:https://bocc.geauga.oh.gov/event/commissioners-meeting-119/
LOCATION:Commissioners’ Chambers\, 12611 Ravenwood Drive\, Room B303\, Chardon\, OH\, 44024\, United States
CATEGORIES:Commissioners' Meetings
END:VEVENT
BEGIN:VEVENT
DTSTART;TZID=America/New_York:20260505T093000
DTEND;TZID=America/New_York:20260505T093000
DTSTAMP:20260422T235154
CREATED:20260422T120912Z
LAST-MODIFIED:20260422T120912Z
UID:14863-1777973400-1777973400@bocc.geauga.oh.gov
SUMMARY:Commissioners' Meeting
DESCRIPTION:The Commissioners will hold session at 9:30 a.m.
URL:https://bocc.geauga.oh.gov/event/commissioners-meeting-120/
LOCATION:Commissioners’ Chambers\, 12611 Ravenwood Drive\, Room B303\, Chardon\, OH\, 44024\, United States
CATEGORIES:Commissioners' Meetings
END:VEVENT
BEGIN:VEVENT
DTSTART;TZID=America/New_York:20260505T120000
DTEND;TZID=America/New_York:20260505T163000
DTSTAMP:20260422T235154
CREATED:20260422T121036Z
LAST-MODIFIED:20260422T141905Z
UID:14867-1777982400-1777998600@bocc.geauga.oh.gov
SUMMARY:2027 Tax Budget Hearings
DESCRIPTION:The Commissioners will hold 2027 Tax Budget Hearings 12:00 – 4:30 p.m.\, Room B303
URL:https://bocc.geauga.oh.gov/event/commissioners-2027-tax-budget-hearings/
LOCATION:Commissioners’ Chambers\, 12611 Ravenwood Drive\, Room B303\, Chardon\, OH\, 44024\, United States
END:VEVENT
BEGIN:VEVENT
DTSTART;TZID=America/New_York:20260506T120000
DTEND;TZID=America/New_York:20260506T120000
DTSTAMP:20260422T235154
CREATED:20260422T121211Z
LAST-MODIFIED:20260422T141541Z
UID:14869-1778068800-1778068800@bocc.geauga.oh.gov
SUMMARY:Board of Revision
DESCRIPTION:Board of Revision\, 12:00 p.m. Auditor’s Appraisal Conference Room.
URL:https://bocc.geauga.oh.gov/event/board-of-revision-53/
LOCATION:Auditor’s Appraisal Conference Room\, Chardon\, OH\, United States
END:VEVENT
BEGIN:VEVENT
DTSTART;TZID=America/New_York:20260512T073000
DTEND;TZID=America/New_York:20260512T073000
DTSTAMP:20260422T235154
CREATED:20260422T121539Z
LAST-MODIFIED:20260422T121539Z
UID:14871-1778571000-1778571000@bocc.geauga.oh.gov
SUMMARY:Planning Commission
DESCRIPTION:Planning Commission\, 7:30 a.m. County Office Building\, Room A334\, Chardon.
URL:https://bocc.geauga.oh.gov/event/planning-commission-4/
LOCATION:Geauga County Office Building\, 12611 Ravenwood Drive\, Chardon\, OH\, 44024\, United States
CATEGORIES:Planning Commission
END:VEVENT
BEGIN:VEVENT
DTSTART;TZID=America/New_York:20260512T093000
DTEND;TZID=America/New_York:20260512T093000
DTSTAMP:20260422T235154
CREATED:20260422T121904Z
LAST-MODIFIED:20260422T121904Z
UID:14873-1778578200-1778578200@bocc.geauga.oh.gov
SUMMARY:Commissioners' Meeting
DESCRIPTION:The Commissioners will hold session at 9:30 a.m
URL:https://bocc.geauga.oh.gov/event/commissioners-meeting-121/
LOCATION:Commissioners’ Chambers\, 12611 Ravenwood Drive\, Room B303\, Chardon\, OH\, 44024\, United States
CATEGORIES:Commissioners' Meetings
END:VEVENT
BEGIN:VEVENT
DTSTART;TZID=America/New_York:20260512T120000
DTEND;TZID=America/New_York:20260512T163000
DTSTAMP:20260422T235154
CREATED:20260422T122055Z
LAST-MODIFIED:20260422T142116Z
UID:14875-1778587200-1778603400@bocc.geauga.oh.gov
SUMMARY:2027 Tax Budget Hearings
DESCRIPTION:The Commissioners will hold 2027 Tax Budget Hearings 12:00 – 4:30 p.m.\, Room B303
URL:https://bocc.geauga.oh.gov/event/commissioners-2027-tax-budget-hearing/
LOCATION:Commissioners’ Chambers\, 12611 Ravenwood Drive\, Room B303\, Chardon\, OH\, 44024\, United States
END:VEVENT
BEGIN:VEVENT
DTSTART;TZID=America/New_York:20260518T133000
DTEND;TZID=America/New_York:20260518T133000
DTSTAMP:20260422T235154
CREATED:20260422T122202Z
LAST-MODIFIED:20260422T122202Z
UID:14877-1779111000-1779111000@bocc.geauga.oh.gov
SUMMARY:Family First Council
DESCRIPTION:Family First Council\, 1:30 p.m. County Office Building
URL:https://bocc.geauga.oh.gov/event/family-first-council-34/
LOCATION:Geauga County Office Building\, 12611 Ravenwood Drive\, Chardon\, OH\, 44024\, United States
CATEGORIES:Family First Council
END:VEVENT
BEGIN:VEVENT
DTSTART;TZID=America/New_York:20260519T093000
DTEND;TZID=America/New_York:20260519T093000
DTSTAMP:20260422T235154
CREATED:20260422T122322Z
LAST-MODIFIED:20260422T122322Z
UID:14879-1779183000-1779183000@bocc.geauga.oh.gov
SUMMARY:Commissioners' Meeting
DESCRIPTION:The Commissioners will hold session at 9:30 a.m
URL:https://bocc.geauga.oh.gov/event/commissioners-meeting-122/
LOCATION:Commissioners’ Chambers\, 12611 Ravenwood Drive\, Room B303\, Chardon\, OH\, 44024\, United States
CATEGORIES:Commissioners' Meetings
END:VEVENT
BEGIN:VEVENT
DTSTART;TZID=America/New_York:20260519T120000
DTEND;TZID=America/New_York:20260519T163000
DTSTAMP:20260422T235154
CREATED:20260422T122531Z
LAST-MODIFIED:20260422T142026Z
UID:14881-1779192000-1779208200@bocc.geauga.oh.gov
SUMMARY:2027 Tax Budget Hearings
DESCRIPTION:The Commissioners will hold 2027 Tax Budget Hearings 12:00 – 4:30 p.m.\, Room B303
URL:https://bocc.geauga.oh.gov/event/commissioners-2027-tax-budget-hearings-2/
LOCATION:Commissioners’ Chambers\, 12611 Ravenwood Drive\, Room B303\, Chardon\, OH\, 44024\, United States
END:VEVENT
BEGIN:VEVENT
DTSTART;VALUE=DATE:20260525
DTEND;VALUE=DATE:20260526
DTSTAMP:20260422T235154
CREATED:20260422T122708Z
LAST-MODIFIED:20260422T142229Z
UID:14883-1779667200-1779753599@bocc.geauga.oh.gov
SUMMARY:County Offices Closed
DESCRIPTION:The County Offices will be closed in honor of Memorial Day. Twenty-four Hour Operations will continue to operate as usual.
URL:https://bocc.geauga.oh.gov/event/county-offices-closed-38/
LOCATION:OH
END:VEVENT
BEGIN:VEVENT
DTSTART;TZID=America/New_York:20260528T093000
DTEND;TZID=America/New_York:20260528T093000
DTSTAMP:20260422T235154
CREATED:20260422T122837Z
LAST-MODIFIED:20260422T122837Z
UID:14885-1779960600-1779960600@bocc.geauga.oh.gov
SUMMARY:Commissioners' Meeting
DESCRIPTION:The Commissioners will hold session at 9:30 a.m.
URL:https://bocc.geauga.oh.gov/event/commissioners-meeting-123/
LOCATION:Commissioners’ Chambers\, 12611 Ravenwood Drive\, Room B303\, Chardon\, OH\, 44024\, United States
CATEGORIES:Commissioners' Meetings
END:VEVENT
BEGIN:VEVENT
DTSTART;TZID=America/New_York:20260528T120000
DTEND;TZID=America/New_York:20260528T163000
DTSTAMP:20260422T235154
CREATED:20260422T122933Z
LAST-MODIFIED:20260422T142358Z
UID:14887-1779969600-1779985800@bocc.geauga.oh.gov
SUMMARY:2027 Tax Budget Hearings
DESCRIPTION:The Commissioners will hold 2027 Tax Budget Hearings 12:00 – 4:30 p.m.\, Room B303
URL:https://bocc.geauga.oh.gov/event/commissioners-2027-tax-budget-hearings-3/
LOCATION:Geauga County Office Building\, 12611 Ravenwood Drive\, Chardon\, OH\, 44024\, United States
END:VEVENT
BEGIN:VEVENT
DTSTART;TZID=America/New_York:20260611T130000
DTEND;TZID=America/New_York:20260611T130000
DTSTAMP:20260422T235154
CREATED:20260302T135233Z
LAST-MODIFIED:20260302T135232Z
UID:14671-1781182800-1781182800@bocc.geauga.oh.gov
SUMMARY:ADP Regular Meeting
DESCRIPTION:ADP Regular Meeting\, 1:00 p.m. Auditor’s Appraisal Conference Room
URL:https://bocc.geauga.oh.gov/event/adp-regular-meeting-3/
LOCATION:Auditor’s Appraisal Conference Room\, Chardon\, OH\, United States
CATEGORIES:ADP Board
END:VEVENT
BEGIN:VEVENT
DTSTART;TZID=America/New_York:20260910T130000
DTEND;TZID=America/New_York:20260910T130000
DTSTAMP:20260422T235154
CREATED:20260302T135350Z
LAST-MODIFIED:20260302T135350Z
UID:14673-1789045200-1789045200@bocc.geauga.oh.gov
SUMMARY:ADP Regular Meeting
DESCRIPTION:ADP Regular Meeting\, 1:00 p.m. Auditor’s Appraisal Conference Room
URL:https://bocc.geauga.oh.gov/event/adp-regular-meeting-4/
LOCATION:Auditor’s Appraisal Conference Room\, Chardon\, OH\, United States
CATEGORIES:ADP Board
END:VEVENT
END:VCALENDAR