BEGIN:VCALENDAR
VERSION:2.0
PRODID:-//Geauga County Board of Commissioners - ECPv6.15.20//NONSGML v1.0//EN
CALSCALE:GREGORIAN
METHOD:PUBLISH
X-WR-CALNAME:Geauga County Board of Commissioners
X-ORIGINAL-URL:https://bocc.geauga.oh.gov
X-WR-CALDESC:Events for Geauga County Board of Commissioners
REFRESH-INTERVAL;VALUE=DURATION:PT1H
X-Robots-Tag:noindex
X-PUBLISHED-TTL:PT1H
BEGIN:VTIMEZONE
TZID:America/New_York
BEGIN:DAYLIGHT
TZOFFSETFROM:-0500
TZOFFSETTO:-0400
TZNAME:EDT
DTSTART:20230312T070000
END:DAYLIGHT
BEGIN:STANDARD
TZOFFSETFROM:-0400
TZOFFSETTO:-0500
TZNAME:EST
DTSTART:20231105T060000
END:STANDARD
BEGIN:DAYLIGHT
TZOFFSETFROM:-0500
TZOFFSETTO:-0400
TZNAME:EDT
DTSTART:20240310T070000
END:DAYLIGHT
BEGIN:STANDARD
TZOFFSETFROM:-0400
TZOFFSETTO:-0500
TZNAME:EST
DTSTART:20241103T060000
END:STANDARD
BEGIN:DAYLIGHT
TZOFFSETFROM:-0500
TZOFFSETTO:-0400
TZNAME:EDT
DTSTART:20250309T070000
END:DAYLIGHT
BEGIN:STANDARD
TZOFFSETFROM:-0400
TZOFFSETTO:-0500
TZNAME:EST
DTSTART:20251102T060000
END:STANDARD
END:VTIMEZONE
BEGIN:VEVENT
DTSTART;TZID=America/New_York:20241010T183000
DTEND;TZID=America/New_York:20241010T183000
DTSTAMP:20260423T060203
CREATED:20241017T194230Z
LAST-MODIFIED:20241017T194549Z
UID:12355-1728585000-1728585000@bocc.geauga.oh.gov
SUMMARY:Geauga County Fair Board Annual Dinner Meeting
DESCRIPTION:Geauga County Fair Board Annual Dinner Meeting 6:30 p.m. at Mary Yoder’s Amish Kitchen
URL:https://bocc.geauga.oh.gov/event/geauga-county-fair-board-annual-dinner-meeting/
LOCATION:Mary Yoder’s Amish Kitchen\, 14743 North State Street\, Middlefield\, OH\, 44062\, United States
END:VEVENT
BEGIN:VEVENT
DTSTART;TZID=America/New_York:20241010T180000
DTEND;TZID=America/New_York:20241010T180000
DTSTAMP:20260423T060203
CREATED:20240925T183540Z
LAST-MODIFIED:20240925T185154Z
UID:12240-1728583200-1728583200@bocc.geauga.oh.gov
SUMMARY:Soil and Water Conservation Dinner
DESCRIPTION:Soil and Water Conservation Dinner\, 6:00 p.m. Legacy Woods Tribute Lodge
URL:https://bocc.geauga.oh.gov/event/soil-and-water-conservation-dinner/
LOCATION:Veterans Legacy Woods’ Tribute Lodge\, 14085 Ravenna Road\, Newbury\, OH\, 44065\, United States
END:VEVENT
BEGIN:VEVENT
DTSTART;TZID=America/New_York:20241010T140000
DTEND;TZID=America/New_York:20241010T140000
DTSTAMP:20260423T060203
CREATED:20241017T195801Z
LAST-MODIFIED:20241017T200126Z
UID:12363-1728568800-1728568800@bocc.geauga.oh.gov
SUMMARY:Commissioners' Special Meeting
DESCRIPTION:October 9\, 2024 \nNOTICE OF SPECIAL MEETING \nThe Geauga County Board of Commissioners will hold a special meeting on Thursday\, October 10\, 2024\, at 2:00 p.m. to consider and if necessary approving a resolution regarding the use of ARPA Standard Allowance Funds and Necessary Payroll Account Adjustments. This meeting will be held at Commissioners’ Offices at 12611 Ravenwood Drive\, Room B303\, Chardon\, Ohio. \nChristine Blair\, Commissioners’ Clerk
URL:https://bocc.geauga.oh.gov/event/special-meeting-2/
LOCATION:Commissioners’ Chambers\, 12611 Ravenwood Drive\, Room B303\, Chardon\, OH\, 44024\, United States
END:VEVENT
BEGIN:VEVENT
DTSTART;TZID=America/New_York:20241009T180000
DTEND;TZID=America/New_York:20241009T180000
DTSTAMP:20260423T060203
CREATED:20240925T182654Z
LAST-MODIFIED:20240925T183433Z
UID:12236-1728496800-1728496800@bocc.geauga.oh.gov
SUMMARY:Geauga County Township Association Dinner
DESCRIPTION:Geauga County Township Association Dinner\, Centerville Mills Dining Hall\, Bainbridge\, 6:00 p.m.
URL:https://bocc.geauga.oh.gov/event/geauga-county-township-association-dinner-5/
LOCATION:Centerville Mills Dining Hall\, 8558 Crackel Road\, Chagrin Falls\, OH\, 44023\, United States
END:VEVENT
BEGIN:VEVENT
DTSTART;TZID=America/New_York:20241008T093000
DTEND;TZID=America/New_York:20241008T093000
DTSTAMP:20260423T060203
CREATED:20240925T182041Z
LAST-MODIFIED:20240925T185838Z
UID:12228-1728379800-1728379800@bocc.geauga.oh.gov
SUMMARY:Commissioners' Meeting
DESCRIPTION:The Commissioners will hold session at 9:30 a.m.
URL:https://bocc.geauga.oh.gov/event/commissioners-meeting-40/
LOCATION:Commissioners’ Chambers\, 12611 Ravenwood Drive\, Room B303\, Chardon\, OH\, 44024\, United States
END:VEVENT
BEGIN:VEVENT
DTSTART;TZID=America/New_York:20241008T073000
DTEND;TZID=America/New_York:20241008T073000
DTSTAMP:20260423T060203
CREATED:20240925T181950Z
LAST-MODIFIED:20241001T151255Z
UID:12226-1728372600-1728372600@bocc.geauga.oh.gov
SUMMARY:Planning Commission Meeting
DESCRIPTION:Planning Commission\, 7:30 a.m. First Floor Conference Room\, B168\, Chardon
URL:https://bocc.geauga.oh.gov/event/planning-commission-meeting-9/
LOCATION:Geauga County Office Building\, 12611 Ravenwood Drive\, Chardon\, OH\, 44024\, United States
END:VEVENT
BEGIN:VEVENT
DTSTART;TZID=America/New_York:20241001T093000
DTEND;TZID=America/New_York:20241001T093000
DTSTAMP:20260423T060203
CREATED:20240904T181039Z
LAST-MODIFIED:20240904T181039Z
UID:12167-1727775000-1727775000@bocc.geauga.oh.gov
SUMMARY:Commissioners' Meeting
DESCRIPTION:The Commissioners will hold session at 9:30 a.m.
URL:https://bocc.geauga.oh.gov/event/commissioners-meeting-39/
LOCATION:Commissioners’ Chambers\, 12611 Ravenwood Drive\, Room B303\, Chardon\, OH\, 44024\, United States
END:VEVENT
BEGIN:VEVENT
DTSTART;TZID=America/New_York:20240926T093000
DTEND;TZID=America/New_York:20240926T093000
DTSTAMP:20260423T060203
CREATED:20240828T194652Z
LAST-MODIFIED:20240828T194652Z
UID:12150-1727343000-1727343000@bocc.geauga.oh.gov
SUMMARY:Commissioners' Meeting
DESCRIPTION:The Commissioners will hold session at 9:30 a.m. (moved from 9/24 due to Perry Drill)
URL:https://bocc.geauga.oh.gov/event/commissioners-meeting-38/
LOCATION:Commissioners’ Chambers\, 12611 Ravenwood Drive\, Room B303\, Chardon\, OH\, 44024\, United States
END:VEVENT
BEGIN:VEVENT
DTSTART;TZID=America/New_York:20240926T090000
DTEND;TZID=America/New_York:20240926T090000
DTSTAMP:20260423T060203
CREATED:20240925T181052Z
LAST-MODIFIED:20240925T185557Z
UID:12224-1727341200-1727341200@bocc.geauga.oh.gov
SUMMARY:Investment Advisory Committee
DESCRIPTION:Investment Advisory Committee\, 9:00 a.m. Room B303
URL:https://bocc.geauga.oh.gov/event/investment-advisory-committee-7/
LOCATION:Commissioners’ Chambers\, 12611 Ravenwood Drive\, Room B303\, Chardon\, OH\, 44024\, United States
END:VEVENT
BEGIN:VEVENT
DTSTART;TZID=America/New_York:20240925T120000
DTEND;TZID=America/New_York:20240925T120000
DTSTAMP:20260423T060203
CREATED:20240909T182749Z
LAST-MODIFIED:20240909T182749Z
UID:12179-1727265600-1727265600@bocc.geauga.oh.gov
SUMMARY:NOC COG Meeting
DESCRIPTION:NOC COG meeting\, 12:00 p.m.\, 12611 Ravenwood Drive\, Room 167-168 (first floor)
URL:https://bocc.geauga.oh.gov/event/noc-cog-meeting/
LOCATION:Geauga County Office Building\, 12611 Ravenwood Drive\, Chardon\, OH\, 44024\, United States
END:VEVENT
BEGIN:VEVENT
DTSTART;TZID=America/New_York:20240925T090000
DTEND;TZID=America/New_York:20240925T090000
DTSTAMP:20260423T060203
CREATED:20240909T182458Z
LAST-MODIFIED:20240909T182458Z
UID:12177-1727254800-1727254800@bocc.geauga.oh.gov
SUMMARY:Board of Revision
DESCRIPTION:Board of Revision\, 9:00 a.m. Auditor’s Appraisal Conference Room
URL:https://bocc.geauga.oh.gov/event/board-of-revision-36/
LOCATION:Auditor’s Appraisal Conference Room\, Chardon\, OH\, United States
END:VEVENT
BEGIN:VEVENT
DTSTART;VALUE=DATE:20240924
DTEND;VALUE=DATE:20240925
DTSTAMP:20260423T060203
CREATED:20240909T182307Z
LAST-MODIFIED:20240909T182307Z
UID:12175-1727136000-1727222399@bocc.geauga.oh.gov
SUMMARY:Perry Nuclear Power Plant Drill
DESCRIPTION:Perry Nuclear Power Plant Drill – Exercise
URL:https://bocc.geauga.oh.gov/event/perry-nuclear-power-plant-drill-2/
LOCATION:OH
END:VEVENT
BEGIN:VEVENT
DTSTART;TZID=America/New_York:20240918T090000
DTEND;TZID=America/New_York:20240918T090000
DTSTAMP:20260423T060203
CREATED:20240904T180854Z
LAST-MODIFIED:20240904T180854Z
UID:12165-1726650000-1726650000@bocc.geauga.oh.gov
SUMMARY:Board of Revision
DESCRIPTION:Board of Revision\, 9:00 a.m. Auditor’s Appraisal Conference Room
URL:https://bocc.geauga.oh.gov/event/board-of-revision-35/
LOCATION:Auditor’s Appraisal Conference Room\, Chardon\, OH\, United States
END:VEVENT
BEGIN:VEVENT
DTSTART;TZID=America/New_York:20240917T093000
DTEND;TZID=America/New_York:20240917T093000
DTSTAMP:20260423T060203
CREATED:20240828T194547Z
LAST-MODIFIED:20240828T194547Z
UID:12148-1726565400-1726565400@bocc.geauga.oh.gov
SUMMARY:Commissioners' Meeting
DESCRIPTION:The Commissioners will hold session at 9:30 a.m.
URL:https://bocc.geauga.oh.gov/event/commissioners-meeting-37/
LOCATION:Commissioners’ Chambers\, 12611 Ravenwood Drive\, Room B303\, Chardon\, OH\, 44024\, United States
END:VEVENT
BEGIN:VEVENT
DTSTART;TZID=America/New_York:20240916T133000
DTEND;TZID=America/New_York:20240916T133000
DTSTAMP:20260423T060203
CREATED:20240828T194446Z
LAST-MODIFIED:20240828T194446Z
UID:12146-1726493400-1726493400@bocc.geauga.oh.gov
SUMMARY:Family First Council
DESCRIPTION:Family First Council\, 1:30 p.m. Geauga County Office Building
URL:https://bocc.geauga.oh.gov/event/family-first-council-18/
LOCATION:Geauga County Office Building\, 12611 Ravenwood Drive\, Chardon\, OH\, 44024\, United States
END:VEVENT
BEGIN:VEVENT
DTSTART;TZID=America/New_York:20240911T090000
DTEND;TZID=America/New_York:20240911T090000
DTSTAMP:20260423T060203
CREATED:20240828T194309Z
LAST-MODIFIED:20240828T194309Z
UID:12143-1726045200-1726045200@bocc.geauga.oh.gov
SUMMARY:Board of Revision
DESCRIPTION:Board of Revision\, 9:00 a.m. Auditor’s Appraisal Conference Room
URL:https://bocc.geauga.oh.gov/event/board-of-revision-34/
LOCATION:Auditor’s Appraisal Conference Room\, Chardon\, OH\, United States
END:VEVENT
BEGIN:VEVENT
DTSTART;TZID=America/New_York:20240910T140000
DTEND;TZID=America/New_York:20240910T140000
DTSTAMP:20260423T060203
CREATED:20240904T180731Z
LAST-MODIFIED:20240904T180731Z
UID:12163-1725976800-1725976800@bocc.geauga.oh.gov
SUMMARY:ADP Meeting
DESCRIPTION:ADP Meeting\, 2:00 p.m. Appraisal Conference Room
URL:https://bocc.geauga.oh.gov/event/adp-meeting-2/
LOCATION:Auditor’s Appraisal Conference Room\, Chardon\, OH\, United States
END:VEVENT
BEGIN:VEVENT
DTSTART;TZID=America/New_York:20240910T093000
DTEND;TZID=America/New_York:20240910T093000
DTSTAMP:20260423T060203
CREATED:20240819T181352Z
LAST-MODIFIED:20240819T181352Z
UID:12120-1725960600-1725960600@bocc.geauga.oh.gov
SUMMARY:Commissioners' Meeting
DESCRIPTION:The Commissioners will hold session at 9:30 a.m.
URL:https://bocc.geauga.oh.gov/event/commissioners-meeting-36/
LOCATION:Commissioners’ Chambers\, 12611 Ravenwood Drive\, Room B303\, Chardon\, OH\, 44024\, United States
END:VEVENT
BEGIN:VEVENT
DTSTART;TZID=America/New_York:20240905T093000
DTEND;TZID=America/New_York:20240905T170000
DTSTAMP:20260423T060203
CREATED:20240816T191615Z
LAST-MODIFIED:20240816T191615Z
UID:12115-1725528600-1725555600@bocc.geauga.oh.gov
SUMMARY:Commissioners' Meeting
DESCRIPTION:The Commissioners will hold session at 9:30 a.m.
URL:https://bocc.geauga.oh.gov/event/commissioners-meeting-35/
LOCATION:Commissioners’ Chambers\, 12611 Ravenwood Drive\, Room B303\, Chardon\, OH\, 44024\, United States
END:VEVENT
BEGIN:VEVENT
DTSTART;VALUE=DATE:20240902
DTEND;VALUE=DATE:20240903
DTSTAMP:20260423T060203
CREATED:20240816T191427Z
LAST-MODIFIED:20240816T191427Z
UID:12113-1725235200-1725321599@bocc.geauga.oh.gov
SUMMARY:County Offices Closed
DESCRIPTION:County Offices will be closed in honor of the Labor Day holiday\, Twenty-four hour operations will continue to operate as normal
URL:https://bocc.geauga.oh.gov/event/county-offices-closed-22/
LOCATION:OH
END:VEVENT
BEGIN:VEVENT
DTSTART;TZID=America/New_York:20240829T100000
DTEND;TZID=America/New_York:20240829T100000
DTSTAMP:20260423T060203
CREATED:20240816T191322Z
LAST-MODIFIED:20240816T191322Z
UID:12111-1724925600-1724925600@bocc.geauga.oh.gov
SUMMARY:Commissioners' Meeting
DESCRIPTION:The Commissioners will hold session at 10:00 a.m. at the Great Geauga County Fair\, Junior Fair Stage\, Burton
URL:https://bocc.geauga.oh.gov/event/commissioners-meeting-34/
LOCATION:Geauga County Fairgrounds\, 14373 North Cheshire Street\, Burton\, 44021\, United States
END:VEVENT
BEGIN:VEVENT
DTSTART;VALUE=DATE:20240828
DTEND;VALUE=DATE:20240829
DTSTAMP:20260423T060203
CREATED:20240816T191202Z
LAST-MODIFIED:20240816T191202Z
UID:12109-1724803200-1724889599@bocc.geauga.oh.gov
SUMMARY:Perry Nuclear Power Plant Exercise (Dry Run)
DESCRIPTION:
URL:https://bocc.geauga.oh.gov/event/perry-nuclear-power-plant-exercise-dry-run/
LOCATION:OH
END:VEVENT
BEGIN:VEVENT
DTSTART;TZID=America/New_York:20240821T090000
DTEND;TZID=America/New_York:20240821T090000
DTSTAMP:20260423T060203
CREATED:20240816T191119Z
LAST-MODIFIED:20240816T191119Z
UID:12107-1724230800-1724230800@bocc.geauga.oh.gov
SUMMARY:Board of Revision
DESCRIPTION:Board of Revision\, 9:00 a.m.\, Auditor’s Appraisal Conference Room
URL:https://bocc.geauga.oh.gov/event/board-of-revision-33/
LOCATION:Auditor’s Appraisal Conference Room\, Chardon\, OH\, United States
END:VEVENT
BEGIN:VEVENT
DTSTART;TZID=America/New_York:20240820T093000
DTEND;TZID=America/New_York:20240820T093000
DTSTAMP:20260423T060203
CREATED:20240816T185339Z
LAST-MODIFIED:20240816T190216Z
UID:12103-1724146200-1724146200@bocc.geauga.oh.gov
SUMMARY:Commissioners' Meeting & Public Hearing
DESCRIPTION:The Commissioners will hold session at 9:30 a.m. that will include a Public Hearing at 9:45 a.m. on the proposed Vacation of Public Right of Way upon a portion of Tulip Lane (TR-0307) Bainbridge Township
URL:https://bocc.geauga.oh.gov/event/commissioners-meeting-33/
LOCATION:Commissioners’ Chambers\, 12611 Ravenwood Drive\, Room B303\, Chardon\, OH\, 44024\, United States
END:VEVENT
BEGIN:VEVENT
DTSTART;TZID=America/New_York:20240819T133000
DTEND;TZID=America/New_York:20240819T133000
DTSTAMP:20260423T060203
CREATED:20240816T185036Z
LAST-MODIFIED:20240816T185036Z
UID:12101-1724074200-1724074200@bocc.geauga.oh.gov
SUMMARY:Family First Council
DESCRIPTION:Family First Council\, 1:30 p.m. – 12611 Ravenwood Drive\, Room B167-168\, Chardon
URL:https://bocc.geauga.oh.gov/event/family-first-council-17/
LOCATION:Geauga County Office Building\, 12611 Ravenwood Drive\, Chardon\, OH\, 44024\, United States
END:VEVENT
BEGIN:VEVENT
DTSTART;TZID=America/New_York:20240813T093000
DTEND;TZID=America/New_York:20240813T093000
DTSTAMP:20260423T060203
CREATED:20240715T182625Z
LAST-MODIFIED:20240729T182649Z
UID:12041-1723541400-1723541400@bocc.geauga.oh.gov
SUMMARY:Commissioners' Meeting & Public Viewing
DESCRIPTION:The Commissioners will hold session at 9:30 a.m. that will include a Public Viewing at 2:00 p.m.\nfor the Proposed Vacation of Public Right of Way upon a portion of Tulip Lane (TR-0307) in Bainbridge Township.
URL:https://bocc.geauga.oh.gov/event/commissioners-meeting-32/
LOCATION:Commissioners’ Chambers\, 12611 Ravenwood Drive\, Room B303\, Chardon\, OH\, 44024\, United States
END:VEVENT
BEGIN:VEVENT
DTSTART;TZID=America/New_York:20240806T093000
DTEND;TZID=America/New_York:20240806T093000
DTSTAMP:20260423T060203
CREATED:20240715T182443Z
LAST-MODIFIED:20240715T182443Z
UID:12039-1722936600-1722936600@bocc.geauga.oh.gov
SUMMARY:Commissioners' Meeting
DESCRIPTION:The Commissioners will hold session at 9:30 a.m.
URL:https://bocc.geauga.oh.gov/event/commissioners-meeting-31/
LOCATION:Commissioners’ Chambers\, 12611 Ravenwood Drive\, Room B303\, Chardon\, OH\, 44024\, United States
END:VEVENT
BEGIN:VEVENT
DTSTART;TZID=America/New_York:20240805T100000
DTEND;TZID=America/New_York:20240805T100000
DTSTAMP:20260423T060203
CREATED:20240729T182050Z
LAST-MODIFIED:20240729T182050Z
UID:12069-1722852000-1722852000@bocc.geauga.oh.gov
SUMMARY:OneOhio Region 13 Board Meeting
DESCRIPTION:OneOhio Region 13 Board Meeting\, 10:00 a.m.
URL:https://bocc.geauga.oh.gov/event/oneohio-region-13-board-meeting-2/
LOCATION:OH
END:VEVENT
BEGIN:VEVENT
DTSTART;TZID=America/New_York:20240731T090000
DTEND;TZID=America/New_York:20240731T090000
DTSTAMP:20260423T060203
CREATED:20240715T182336Z
LAST-MODIFIED:20240715T182336Z
UID:12037-1722416400-1722416400@bocc.geauga.oh.gov
SUMMARY:Board of Revision
DESCRIPTION:Board of Revision\, 9:00 a.m. – Auditor’s Appraisal Conference room
URL:https://bocc.geauga.oh.gov/event/board-of-revision-32/
LOCATION:Auditor’s Appraisal Conference Room\, Chardon\, OH\, United States
END:VEVENT
BEGIN:VEVENT
DTSTART;TZID=America/New_York:20240730T093000
DTEND;TZID=America/New_York:20240730T093000
DTSTAMP:20260423T060203
CREATED:20240701T174249Z
LAST-MODIFIED:20240701T174249Z
UID:11987-1722331800-1722331800@bocc.geauga.oh.gov
SUMMARY:Commissioners' Meeting
DESCRIPTION:The Commissioners will hold session at 9:30 a.m.
URL:https://bocc.geauga.oh.gov/event/commissioners-meeting-30/
LOCATION:Commissioners’ Chambers\, 12611 Ravenwood Drive\, Room B303\, Chardon\, OH\, 44024\, United States
END:VEVENT
END:VCALENDAR