BEGIN:VCALENDAR
VERSION:2.0
PRODID:-//Geauga County Board of Commissioners - ECPv6.15.20//NONSGML v1.0//EN
CALSCALE:GREGORIAN
METHOD:PUBLISH
X-WR-CALNAME:Geauga County Board of Commissioners
X-ORIGINAL-URL:https://bocc.geauga.oh.gov
X-WR-CALDESC:Events for Geauga County Board of Commissioners
REFRESH-INTERVAL;VALUE=DURATION:PT1H
X-Robots-Tag:noindex
X-PUBLISHED-TTL:PT1H
BEGIN:VTIMEZONE
TZID:America/New_York
BEGIN:DAYLIGHT
TZOFFSETFROM:-0500
TZOFFSETTO:-0400
TZNAME:EDT
DTSTART:20220313T070000
END:DAYLIGHT
BEGIN:STANDARD
TZOFFSETFROM:-0400
TZOFFSETTO:-0500
TZNAME:EST
DTSTART:20221106T060000
END:STANDARD
BEGIN:DAYLIGHT
TZOFFSETFROM:-0500
TZOFFSETTO:-0400
TZNAME:EDT
DTSTART:20230312T070000
END:DAYLIGHT
BEGIN:STANDARD
TZOFFSETFROM:-0400
TZOFFSETTO:-0500
TZNAME:EST
DTSTART:20231105T060000
END:STANDARD
BEGIN:DAYLIGHT
TZOFFSETFROM:-0500
TZOFFSETTO:-0400
TZNAME:EDT
DTSTART:20240310T070000
END:DAYLIGHT
BEGIN:STANDARD
TZOFFSETFROM:-0400
TZOFFSETTO:-0500
TZNAME:EST
DTSTART:20241103T060000
END:STANDARD
END:VTIMEZONE
BEGIN:VEVENT
DTSTART;TZID=America/New_York:20230912T093000
DTEND;TZID=America/New_York:20230912T113000
DTSTAMP:20260424T011427
CREATED:20230807T173809Z
LAST-MODIFIED:20230821T175043Z
UID:9356-1694511000-1694518200@bocc.geauga.oh.gov
SUMMARY:Regular Session
DESCRIPTION:The Commissioners will hold regular session at 9:30 a.m.
URL:https://bocc.geauga.oh.gov/event/regular-session-60/
LOCATION:Commissioners’ Chambers\, 12611 Ravenwood Drive\, Room B303\, Chardon\, OH\, 44024\, United States
END:VEVENT
BEGIN:VEVENT
DTSTART;TZID=America/New_York:20230908T080000
DTEND;TZID=America/New_York:20230908T100000
DTSTAMP:20260424T011427
CREATED:20230821T175703Z
LAST-MODIFIED:20230821T180532Z
UID:9548-1694160000-1694167200@bocc.geauga.oh.gov
SUMMARY:NOACA Meetings
DESCRIPTION:NOACA Special Executive meeting\, 8:00 a.m.\, Board of Directors\, 9:00 a.m. Cleveland
URL:https://bocc.geauga.oh.gov/event/noaca-meetings/
LOCATION:NOACA Offices\, 1299 Superior Avenue\, Cleveland\, OH\, 44114\, United States
END:VEVENT
BEGIN:VEVENT
DTSTART;VALUE=DATE:20230907
DTEND;VALUE=DATE:20230908
DTSTAMP:20260424T011427
CREATED:20230822T201324Z
LAST-MODIFIED:20230822T202154Z
UID:9558-1694044800-1694131199@bocc.geauga.oh.gov
SUMMARY:Session Cancelled
DESCRIPTION:August 22\, 2023 \n\n        Gerald Morgan\, County Administrator\n        Geauga County Commissioners Office\n        470 Center Street\, Building #4\n        12611 Ravenwood Dr.\, Suite 350\n        Chardon\, OH 44024\n     \nDear Mr. Morgan: \nPlease be advised that during session on August 22\, 2023\, the Board of County Commissioners took the following action: \n\n\nMotion:  \n\n            by Commissioner Lennon\, seconded by Commissioner Dvorak to cancel regular session on Thursday\, September 7\, 2023.\n             \n            \n\n\n \n\n\n\nRoll Call Vote:  \n\n                            Commissioner Lennon\n                            Commissioner Dvorak\n                            Commissioner Spidalieri  \n                        \n\n                            Aye\n                            Aye\n                            Absent\n                             \n                        \n\n\n\n\n\nVery truly yours\, \n  \n\n        Chrisine Blair\n        Commissioners’ Clerk\n     \n\n\nc:  \n\n                Media\n                Elected Officials & Department Directors\n                Office Staff
URL:https://bocc.geauga.oh.gov/event/session-cancelled/
END:VEVENT
BEGIN:VEVENT
DTSTART;VALUE=DATE:20230904
DTEND;VALUE=DATE:20230905
DTSTAMP:20260424T011427
CREATED:20230807T173641Z
LAST-MODIFIED:20230807T173641Z
UID:9354-1693785600-1693871999@bocc.geauga.oh.gov
SUMMARY:Offices Closed
DESCRIPTION:County Offices will be closed in honor of the Labor Day holiday. Twenty-four hour operations will continue to operate as normal.
URL:https://bocc.geauga.oh.gov/event/offices-closed-2/
END:VEVENT
BEGIN:VEVENT
DTSTART;TZID=America/New_York:20230831T100000
DTEND;TZID=America/New_York:20230831T120000
DTSTAMP:20260424T011427
CREATED:20230802T121759Z
LAST-MODIFIED:20230830T184540Z
UID:9330-1693476000-1693483200@bocc.geauga.oh.gov
SUMMARY:Regular Meeting
DESCRIPTION:August 1\, 2023 \nGerald Morgan\, County Administrator\nGeauga County Commissioners Office\n470 Center Street\, Building #4\n12611 Ravenwood Dr.\, Suite 350\nChardon\, OH 44024 \nDear Mr. Morgan: \nPlease be advised that during session on August 1\, 2023\, the Board of County Commissioners took the following action: \n\n\n\nMotion:\nby Commissioner Lennon\, seconded by Commissioner Dvorak to approve and execute Resolution #23-134 Establishing the Location and Time of the August 31\, 2023 Regular Meeting of the Board of County Commissioners to be held at 10:00 a.m. at the Geauga Geauga County Fair\, located at 14373 North Cheshire Street\, Burton\, Ohio.\n\n\n\nVery truly yours\, \n  \nChrisine Blair\nCommissioners’ Clerk \n\n\n\nc:\nMedia\nElected Officials\nDepartment Directors\nAgricultural Society\n\n\n\n\n\nNote:   Location and time of meeting changed to Junior Fair Stage\, Geauga County Fair\, Burton\, Ohio.
URL:https://bocc.geauga.oh.gov/event/regular-meeting-2/
LOCATION:Geauga County Fairgrounds\, 14373 North Cheshire Street\, Burton\, 44021\, United States
END:VEVENT
BEGIN:VEVENT
DTSTART;VALUE=DATE:20230831
DTEND;VALUE=DATE:20230905
DTSTAMP:20260424T011427
CREATED:20230807T173126Z
LAST-MODIFIED:20230807T173126Z
UID:9352-1693440000-1693871999@bocc.geauga.oh.gov
SUMMARY:Great Geauga County Fair
DESCRIPTION:Burton\, Ohio
URL:https://bocc.geauga.oh.gov/event/great-geauga-county-fair/
LOCATION:Geauga County Fairgrounds\, 14373 North Cheshire Street\, Burton\, 44021\, United States
END:VEVENT
BEGIN:VEVENT
DTSTART;VALUE=DATE:20230829
DTEND;VALUE=DATE:20230830
DTSTAMP:20260424T011427
CREATED:20230802T122047Z
LAST-MODIFIED:20230802T124648Z
UID:9332-1693267200-1693353599@bocc.geauga.oh.gov
SUMMARY:Notice of Cancellation
DESCRIPTION:August 1\, 2023 \n\n        Gerald Morgan\, County Administrator\n        Geauga County Commissioners Office\n        470 Center Street\, Building #4\n        12611 Ravenwood Dr.\, Suite 350\n        Chardon\, OH 44024\n     \nDear Mr. Morgan: \nPlease be advised that during session on August 1\, 2023\, the Board of County Commissioners took the following action: \n\n\nMotion:  \n\n            by Commissioner Spidalieri\, seconded by Commissioner Dvorak to cancel regular session on Tuesday\, August 29\, 2023.\n             \n            \n\n\nVery truly yours\, \n  \n\n        Chrisine Blair\n        Commissioners’ Clerk\n     \n\n\nc:  \n\n                Media\n                Elected Officials\n                Department Directors\n                Office Staff
URL:https://bocc.geauga.oh.gov/event/regular-session-cancelled/
END:VEVENT
BEGIN:VEVENT
DTSTART;TZID=America/New_York:20230822T093000
DTEND;TZID=America/New_York:20230822T113000
DTSTAMP:20260424T011427
CREATED:20230731T203220Z
LAST-MODIFIED:20230731T203219Z
UID:9320-1692696600-1692703800@bocc.geauga.oh.gov
SUMMARY:Regular Session
DESCRIPTION:The Commissioners will hold regular session at 9:30 a.m.
URL:https://bocc.geauga.oh.gov/event/regular-session-59/
LOCATION:Commissioners’ Chambers\, 12611 Ravenwood Drive\, Room B303\, Chardon\, OH\, 44024\, United States
END:VEVENT
BEGIN:VEVENT
DTSTART;TZID=America/New_York:20230821T133000
DTEND;TZID=America/New_York:20230821T153000
DTSTAMP:20260424T011427
CREATED:20230731T142516Z
LAST-MODIFIED:20230731T203314Z
UID:9305-1692624600-1692631800@bocc.geauga.oh.gov
SUMMARY:Family First Council
DESCRIPTION:Family First Council\, 1:30 p.m. at Mental Health Offices
URL:https://bocc.geauga.oh.gov/event/geauga-trumbull-solid-waste-management-district-board-of-directors-meeting-4/
END:VEVENT
BEGIN:VEVENT
DTSTART;TZID=America/New_York:20230816T130000
DTEND;TZID=America/New_York:20230816T173000
DTSTAMP:20260424T011427
CREATED:20230816T124146Z
LAST-MODIFIED:20230816T124145Z
UID:9524-1692190800-1692207000@bocc.geauga.oh.gov
SUMMARY:Special ADP Board Meeting
DESCRIPTION:Special ADP Board meeting\, 1:00 p.m. Auditor’s Office
URL:https://bocc.geauga.oh.gov/event/special-adp-board-meeting/
LOCATION:Auditor’s Office\, 231 Main St Suite 1A\, Chardon\, OH\, 44024\, United States
END:VEVENT
BEGIN:VEVENT
DTSTART;TZID=America/New_York:20230815T093000
DTEND;TZID=America/New_York:20230815T113000
DTSTAMP:20260424T011427
CREATED:20230731T142300Z
LAST-MODIFIED:20230731T142300Z
UID:9303-1692091800-1692099000@bocc.geauga.oh.gov
SUMMARY:Regular Session
DESCRIPTION:The Commissioners will hold regular session at 9:30 a.m.
URL:https://bocc.geauga.oh.gov/event/regular-session-58/
LOCATION:Commissioners’ Chambers\, 12611 Ravenwood Drive\, Room B303\, Chardon\, OH\, 44024\, United States
END:VEVENT
BEGIN:VEVENT
DTSTART;TZID=America/New_York:20230808T093000
DTEND;TZID=America/New_York:20230808T113000
DTSTAMP:20260424T011427
CREATED:20230717T183851Z
LAST-MODIFIED:20230717T183851Z
UID:9246-1691487000-1691494200@bocc.geauga.oh.gov
SUMMARY:Regular Session
DESCRIPTION:Planning Commission 7:30 a.m. 12611 Ravenwood Drive\, Room B333-334
URL:https://bocc.geauga.oh.gov/event/regular-session-57/
LOCATION:Commissioners’ Chambers\, 12611 Ravenwood Drive\, Room B303\, Chardon\, OH\, 44024\, United States
END:VEVENT
BEGIN:VEVENT
DTSTART;TZID=America/New_York:20230801T093000
DTEND;TZID=America/New_York:20230801T113000
DTSTAMP:20260424T011427
CREATED:20230717T183703Z
LAST-MODIFIED:20230717T183703Z
UID:9241-1690882200-1690889400@bocc.geauga.oh.gov
SUMMARY:Regular Session
DESCRIPTION:The Commissioners will hold regular session at 9:30 a.m.
URL:https://bocc.geauga.oh.gov/event/regular-session-56/
LOCATION:Commissioners’ Chambers\, 12611 Ravenwood Drive\, Room B303\, Chardon\, OH\, 44024\, United States
END:VEVENT
BEGIN:VEVENT
DTSTART;TZID=America/New_York:20230725T093000
DTEND;TZID=America/New_York:20230725T113000
DTSTAMP:20260424T011427
CREATED:20230705T180621Z
LAST-MODIFIED:20230705T180621Z
UID:9199-1690277400-1690284600@bocc.geauga.oh.gov
SUMMARY:Regular Session
DESCRIPTION:The Commissioners will hold regular session at 9:30 a.m.
URL:https://bocc.geauga.oh.gov/event/regular-session-55/
END:VEVENT
BEGIN:VEVENT
DTSTART;TZID=America/New_York:20230721T090000
DTEND;TZID=America/New_York:20230721T150000
DTSTAMP:20260424T011427
CREATED:20230705T180403Z
LAST-MODIFIED:20230705T180403Z
UID:9195-1689930000-1689951600@bocc.geauga.oh.gov
SUMMARY:Board of Revision
DESCRIPTION:Board of Revision\, Daily\, 9:00 a.m. – 3:00 p.m. – Parkman Hearings
URL:https://bocc.geauga.oh.gov/event/board-of-revision-23/
LOCATION:Auditor’s Office\, 231 Main St Suite 1A\, Chardon\, OH\, 44024\, United States
END:VEVENT
BEGIN:VEVENT
DTSTART;TZID=America/New_York:20230720T090000
DTEND;TZID=America/New_York:20230720T150000
DTSTAMP:20260424T011427
CREATED:20230705T180327Z
LAST-MODIFIED:20230705T180327Z
UID:9193-1689843600-1689865200@bocc.geauga.oh.gov
SUMMARY:Board of Revision
DESCRIPTION:Board of Revision\, Daily\, 9:00 a.m. – 3:00 p.m. – Parkman Hearings
URL:https://bocc.geauga.oh.gov/event/board-of-revision-22/
LOCATION:Auditor’s Office\, 231 Main St Suite 1A\, Chardon\, OH\, 44024\, United States
END:VEVENT
BEGIN:VEVENT
DTSTART;TZID=America/New_York:20230719T090000
DTEND;TZID=America/New_York:20230719T150000
DTSTAMP:20260424T011427
CREATED:20230705T180227Z
LAST-MODIFIED:20230705T180227Z
UID:9191-1689757200-1689778800@bocc.geauga.oh.gov
SUMMARY:Board of Revision
DESCRIPTION:Board of Revision\, Daily\, 9:00 a.m. – 3:00 p.m. – Parkman Hearings
URL:https://bocc.geauga.oh.gov/event/board-of-revision-21/
LOCATION:Auditor’s Office\, 231 Main St Suite 1A\, Chardon\, OH\, 44024\, United States
END:VEVENT
BEGIN:VEVENT
DTSTART;TZID=America/New_York:20230718T093000
DTEND;TZID=America/New_York:20230718T113000
DTSTAMP:20260424T011427
CREATED:20230705T180550Z
LAST-MODIFIED:20230705T180550Z
UID:9197-1689672600-1689679800@bocc.geauga.oh.gov
SUMMARY:Regular Session
DESCRIPTION:The Commissioners will hold regular session at 9:30 a.m.
URL:https://bocc.geauga.oh.gov/event/regular-session-54/
LOCATION:Commissioners’ Chambers\, 12611 Ravenwood Drive\, Room B303\, Chardon\, OH\, 44024\, United States
END:VEVENT
BEGIN:VEVENT
DTSTART;TZID=America/New_York:20230718T090000
DTEND;TZID=America/New_York:20230718T150000
DTSTAMP:20260424T011427
CREATED:20230705T180150Z
LAST-MODIFIED:20230705T180150Z
UID:9189-1689670800-1689692400@bocc.geauga.oh.gov
SUMMARY:Board of Revision
DESCRIPTION:Board of Revision\, Daily\, 9:00 a.m. – 3:00 p.m. – Parkman Hearings
URL:https://bocc.geauga.oh.gov/event/board-of-revision-20/
LOCATION:Auditor’s Office\, 231 Main St Suite 1A\, Chardon\, OH\, 44024\, United States
END:VEVENT
BEGIN:VEVENT
DTSTART;TZID=America/New_York:20230717T090000
DTEND;TZID=America/New_York:20230717T150000
DTSTAMP:20260424T011427
CREATED:20230705T175853Z
LAST-MODIFIED:20230705T175853Z
UID:9186-1689584400-1689606000@bocc.geauga.oh.gov
SUMMARY:Board of Revision
DESCRIPTION:Board of Revision\, Daily\, 9:00 a.m. – 3:00 p.m. – Parkman Hearings
URL:https://bocc.geauga.oh.gov/event/board-of-revision-19/
LOCATION:Auditor’s Office\, 231 Main St Suite 1A\, Chardon\, OH\, 44024\, United States
END:VEVENT
BEGIN:VEVENT
DTSTART;TZID=America/New_York:20230714T083000
DTEND;TZID=America/New_York:20230714T133000
DTSTAMP:20260424T011427
CREATED:20230705T175140Z
LAST-MODIFIED:20230705T175140Z
UID:9184-1689323400-1689341400@bocc.geauga.oh.gov
SUMMARY:NOACA Committee Meetings
DESCRIPTION:NOACA Committee meetings\, 8:30 – 1:30 p.m.\, Cleveland (External Affairs\, Policy\, Planning & Programming)
URL:https://bocc.geauga.oh.gov/event/noaca-committee-meetings-2/
END:VEVENT
BEGIN:VEVENT
DTSTART;TZID=America/New_York:20230712T183000
DTEND;TZID=America/New_York:20230712T203000
DTSTAMP:20260424T011427
CREATED:20230705T175031Z
LAST-MODIFIED:20230705T175031Z
UID:9182-1689186600-1689193800@bocc.geauga.oh.gov
SUMMARY:County Township Association Meeting
DESCRIPTION:County Township Association Meeting\, 6:30 p.m. Welshfield Inn
URL:https://bocc.geauga.oh.gov/event/county-township-association-meeting/
END:VEVENT
BEGIN:VEVENT
DTSTART;TZID=America/New_York:20230712T110000
DTEND;TZID=America/New_York:20230712T120000
DTSTAMP:20260424T011427
CREATED:20230711T155543Z
LAST-MODIFIED:20230711T155543Z
UID:9211-1689159600-1689163200@bocc.geauga.oh.gov
SUMMARY:Records Commission / Microfilm Board Meeting
DESCRIPTION:Microsoft Teams meeting \nJoin on your computer\, mobile app or room device \nClick here to join the meeting \nMeeting ID: 278 894 334 136   \nPasscode: pCDQVv  \nDownload Teams | Join on the web \nLearn More | Meeting options
URL:https://bocc.geauga.oh.gov/event/records-commission-microfilm-board-meeting/
LOCATION:Geauga County Office Building\, 12611 Ravenwood Drive\, Chardon\, OH\, 44024\, United States
END:VEVENT
BEGIN:VEVENT
DTSTART;TZID=America/New_York:20230711T093000
DTEND;TZID=America/New_York:20230711T113000
DTSTAMP:20260424T011427
CREATED:20230626T183516Z
LAST-MODIFIED:20230626T183516Z
UID:9094-1689067800-1689075000@bocc.geauga.oh.gov
SUMMARY:Regular Session
DESCRIPTION:The Commissioners will hold regular session at 9:30 a.m.
URL:https://bocc.geauga.oh.gov/event/regular-session-53/
LOCATION:Commissioners’ Chambers\, 12611 Ravenwood Drive\, Room B303\, Chardon\, OH\, 44024\, United States
END:VEVENT
BEGIN:VEVENT
DTSTART;TZID=America/New_York:20230706T093000
DTEND;TZID=America/New_York:20230706T110000
DTSTAMP:20260424T011427
CREATED:20230622T142203Z
LAST-MODIFIED:20230622T195333Z
UID:9059-1688635800-1688641200@bocc.geauga.oh.gov
SUMMARY:Regular Session
DESCRIPTION:The Commissioners will hold regular session at 9:30 a.m.
URL:https://bocc.geauga.oh.gov/event/regular-session-52/
END:VEVENT
BEGIN:VEVENT
DTSTART;VALUE=DATE:20230704
DTEND;VALUE=DATE:20230705
DTSTAMP:20260424T011427
CREATED:20230510T155815Z
LAST-MODIFIED:20230626T185847Z
UID:8736-1688428800-1688515199@bocc.geauga.oh.gov
SUMMARY:County Offices Closed
DESCRIPTION:Geauga County Offices will be Closed in observance of the Independence Day Holiday. Twenty-four-hour operations will continue as normal.
URL:https://bocc.geauga.oh.gov/event/independence-day/
END:VEVENT
BEGIN:VEVENT
DTSTART;TZID=America/New_York:20230627T133000
DTEND;TZID=America/New_York:20230627T150000
DTSTAMP:20260424T011427
CREATED:20230523T194927Z
LAST-MODIFIED:20230524T141804Z
UID:8867-1687872600-1687878000@bocc.geauga.oh.gov
SUMMARY:Geauga Trumbull Solid Waste Management District\, Board of Directors Meeting
DESCRIPTION:Geauga Trumbull Solid Waste Management District\, Board of Directors meeting\, 1:30 p.m. 12611\nRavenwood Drive\, Room B200\, Chardon
URL:https://bocc.geauga.oh.gov/event/geauga-trumbull-solid-waste-management-district-board-of-directors-meeting-3/
LOCATION:Geauga County Office Building\, 12611 Ravenwood Drive\, Chardon\, OH\, 44024\, United States
END:VEVENT
BEGIN:VEVENT
DTSTART;TZID=America/New_York:20230627T093000
DTEND;TZID=America/New_York:20230627T110000
DTSTAMP:20260424T011427
CREATED:20230523T194824Z
LAST-MODIFIED:20230523T194824Z
UID:8865-1687858200-1687863600@bocc.geauga.oh.gov
SUMMARY:Regular Session
DESCRIPTION:The Commissioners will hold regular session at 9:30 a.m.
URL:https://bocc.geauga.oh.gov/event/regular-session-51/
LOCATION:Commissioners’ Chambers\, 12611 Ravenwood Drive\, Room B303\, Chardon\, OH\, 44024\, United States
END:VEVENT
BEGIN:VEVENT
DTSTART;TZID=America/New_York:20230626T133000
DTEND;TZID=America/New_York:20230626T150000
DTSTAMP:20260424T011427
CREATED:20230523T194729Z
LAST-MODIFIED:20230523T194729Z
UID:8863-1687786200-1687791600@bocc.geauga.oh.gov
SUMMARY:Family First Council
DESCRIPTION:Family First Council 1:30 p.m. Mental Health and Recovery Services
URL:https://bocc.geauga.oh.gov/event/family-first-council-12/
END:VEVENT
BEGIN:VEVENT
DTSTART;TZID=America/New_York:20230622T093000
DTEND;TZID=America/New_York:20230622T110000
DTSTAMP:20260424T011427
CREATED:20230523T194414Z
LAST-MODIFIED:20230523T194414Z
UID:8861-1687426200-1687431600@bocc.geauga.oh.gov
SUMMARY:Regular Session
DESCRIPTION:The Commissioners will hold regular session at 9:30 a.m.
URL:https://bocc.geauga.oh.gov/event/regular-session-50/
LOCATION:Commissioners’ Chambers\, 12611 Ravenwood Drive\, Room B303\, Chardon\, OH\, 44024\, United States
END:VEVENT
END:VCALENDAR