BEGIN:VCALENDAR
VERSION:2.0
PRODID:-//Geauga County Board of Commissioners - ECPv6.15.20//NONSGML v1.0//EN
CALSCALE:GREGORIAN
METHOD:PUBLISH
X-WR-CALNAME:Geauga County Board of Commissioners
X-ORIGINAL-URL:https://bocc.geauga.oh.gov
X-WR-CALDESC:Events for Geauga County Board of Commissioners
REFRESH-INTERVAL;VALUE=DURATION:PT1H
X-Robots-Tag:noindex
X-PUBLISHED-TTL:PT1H
BEGIN:VTIMEZONE
TZID:America/New_York
BEGIN:DAYLIGHT
TZOFFSETFROM:-0500
TZOFFSETTO:-0400
TZNAME:EDT
DTSTART:20230312T070000
END:DAYLIGHT
BEGIN:STANDARD
TZOFFSETFROM:-0400
TZOFFSETTO:-0500
TZNAME:EST
DTSTART:20231105T060000
END:STANDARD
BEGIN:DAYLIGHT
TZOFFSETFROM:-0500
TZOFFSETTO:-0400
TZNAME:EDT
DTSTART:20240310T070000
END:DAYLIGHT
BEGIN:STANDARD
TZOFFSETFROM:-0400
TZOFFSETTO:-0500
TZNAME:EST
DTSTART:20241103T060000
END:STANDARD
BEGIN:DAYLIGHT
TZOFFSETFROM:-0500
TZOFFSETTO:-0400
TZNAME:EDT
DTSTART:20250309T070000
END:DAYLIGHT
BEGIN:STANDARD
TZOFFSETFROM:-0400
TZOFFSETTO:-0500
TZNAME:EST
DTSTART:20251102T060000
END:STANDARD
BEGIN:DAYLIGHT
TZOFFSETFROM:-0500
TZOFFSETTO:-0400
TZNAME:EDT
DTSTART:20260308T070000
END:DAYLIGHT
BEGIN:STANDARD
TZOFFSETFROM:-0400
TZOFFSETTO:-0500
TZNAME:EST
DTSTART:20261101T060000
END:STANDARD
END:VTIMEZONE
BEGIN:VEVENT
DTSTART;TZID=America/New_York:20250113T110000
DTEND;TZID=America/New_York:20250113T110000
DTSTAMP:20260423T054532
CREATED:20250106T191657Z
LAST-MODIFIED:20250106T191657Z
UID:12659-1736766000-1736766000@bocc.geauga.oh.gov
SUMMARY:Board of Revision Organizational Meeting
DESCRIPTION:Board of Revision\, Organizational Meeting\, 11:00 a.m.\, Auditor’s Appraisal Conference Room
URL:https://bocc.geauga.oh.gov/event/board-of-revision-organizational-meeting-2/
LOCATION:Auditor’s Appraisal Conference Room\, Chardon\, OH\, United States
END:VEVENT
BEGIN:VEVENT
DTSTART;TZID=America/New_York:20250107T093000
DTEND;TZID=America/New_York:20250107T093000
DTSTAMP:20260423T054532
CREATED:20241209T202540Z
LAST-MODIFIED:20241209T203056Z
UID:12576-1736242200-1736242200@bocc.geauga.oh.gov
SUMMARY:Commissioners' Meeting:  Annual Organizational Meeting
DESCRIPTION:The Commissioners will hold session at 9:30 a.m. and include the Annual Organization Meeting.
URL:https://bocc.geauga.oh.gov/event/commissioners-meeting-52/
LOCATION:Commissioners’ Chambers\, 12611 Ravenwood Drive\, Room B303\, Chardon\, OH\, 44024\, United States
END:VEVENT
BEGIN:VEVENT
DTSTART;VALUE=DATE:20250101
DTEND;VALUE=DATE:20250102
DTSTAMP:20260423T054532
CREATED:20241209T202341Z
LAST-MODIFIED:20241209T202341Z
UID:12574-1735689600-1735775999@bocc.geauga.oh.gov
SUMMARY:County Offices Closed
DESCRIPTION:County Offices will be closed in honor of New Year’s Day.  Twenty-four-hour operations will continue to operate as normal.
URL:https://bocc.geauga.oh.gov/event/county-offices-closed-27/
LOCATION:OH
END:VEVENT
BEGIN:VEVENT
DTSTART;TZID=America/New_York:20241230T090000
DTEND;TZID=America/New_York:20241230T090000
DTSTAMP:20260423T054532
CREATED:20241209T202146Z
LAST-MODIFIED:20241209T202146Z
UID:12572-1735549200-1735549200@bocc.geauga.oh.gov
SUMMARY:Board of Revision Special Meeting
DESCRIPTION:Board of Revision\, Special Meeting\, 9:00 a.m.\, Auditor’s Appraisal Conference Room
URL:https://bocc.geauga.oh.gov/event/board-of-revision-special-meeting-2/
LOCATION:Auditor’s Appraisal Conference Room\, Chardon\, OH\, United States
END:VEVENT
BEGIN:VEVENT
DTSTART;TZID=America/New_York:20241227T093000
DTEND;TZID=America/New_York:20241227T093000
DTSTAMP:20260423T054532
CREATED:20241209T202009Z
LAST-MODIFIED:20241209T203156Z
UID:12570-1735291800-1735291800@bocc.geauga.oh.gov
SUMMARY:Commissioners' Meeting:  Work Session
DESCRIPTION:The Commissioners will hold session at 9:30 a.m.\, which will include a Work Session regarding the Organization Meeting.
URL:https://bocc.geauga.oh.gov/event/commissioners-meeting-51/
LOCATION:OH
END:VEVENT
BEGIN:VEVENT
DTSTART;VALUE=DATE:20241225
DTEND;VALUE=DATE:20241226
DTSTAMP:20260423T054532
CREATED:20241209T201253Z
LAST-MODIFIED:20241209T202416Z
UID:12567-1735084800-1735171199@bocc.geauga.oh.gov
SUMMARY:County Offices Closed
DESCRIPTION:County Offices will be closed in honor of Christmas.  Twenty-four-hour operations will continue to operate as normal.
URL:https://bocc.geauga.oh.gov/event/county-offices-cloosed/
LOCATION:OH
END:VEVENT
BEGIN:VEVENT
DTSTART;TZID=America/New_York:20241217T093000
DTEND;TZID=America/New_York:20241217T093000
DTSTAMP:20260423T054532
CREATED:20241118T203709Z
LAST-MODIFIED:20241118T203709Z
UID:12491-1734427800-1734427800@bocc.geauga.oh.gov
SUMMARY:Commissioners' Meeting
DESCRIPTION:The Commissioners will hold session at 9:30 a.m.
URL:https://bocc.geauga.oh.gov/event/commissioners-meeting-50/
LOCATION:Commissioners’ Chambers\, 12611 Ravenwood Drive\, Room B303\, Chardon\, OH\, 44024\, United States
END:VEVENT
BEGIN:VEVENT
DTSTART;TZID=America/New_York:20241217T090000
DTEND;TZID=America/New_York:20241217T090000
DTSTAMP:20260423T054532
CREATED:20241209T201103Z
LAST-MODIFIED:20241209T201103Z
UID:12565-1734426000-1734426000@bocc.geauga.oh.gov
SUMMARY:Investment Advisory Committee Meeting
DESCRIPTION:Investment Advisory Committee meeting\, 9:00 a.m. County Offices\, Room B303
URL:https://bocc.geauga.oh.gov/event/investment-advisory-committee-meeting/
LOCATION:Geauga County Office Building\, 12611 Ravenwood Drive\, Chardon\, OH\, 44024\, United States
END:VEVENT
BEGIN:VEVENT
DTSTART;TZID=America/New_York:20241210T140000
DTEND;TZID=America/New_York:20241210T140000
DTSTAMP:20260423T054532
CREATED:20241125T211751Z
LAST-MODIFIED:20241125T211751Z
UID:12507-1733839200-1733839200@bocc.geauga.oh.gov
SUMMARY:Geauga Trumbull Solid Waste Management District\, Board of Directors Meeting
DESCRIPTION:Geauga Trumbull Solid Waste Management District\, Board of Directors meeting\, 2:00 p.m. Warren\, District Office
URL:https://bocc.geauga.oh.gov/event/geauga-trumbull-solid-waste-management-district-board-of-directors-meeting-7/
LOCATION:Geauga-Trumbull Solid Waste Management District\, Warren\, District Office\, 5138 Enterprise Dr NW\, Warren\, OH\, 44481\, United States
END:VEVENT
BEGIN:VEVENT
DTSTART;TZID=America/New_York:20241210T093000
DTEND;TZID=America/New_York:20241210T093000
DTSTAMP:20260423T054532
CREATED:20241118T203613Z
LAST-MODIFIED:20241118T203613Z
UID:12489-1733823000-1733823000@bocc.geauga.oh.gov
SUMMARY:Commissioners' Meeting
DESCRIPTION:The Commissioners will hold session at 9:30 a.m.
URL:https://bocc.geauga.oh.gov/event/commissioners-meeting-49/
LOCATION:Commissioners’ Chambers\, 12611 Ravenwood Drive\, Room B303\, Chardon\, OH\, 44024\, United States
END:VEVENT
BEGIN:VEVENT
DTSTART;TZID=America/New_York:20241210T073000
DTEND;TZID=America/New_York:20241210T073000
DTSTAMP:20260423T054532
CREATED:20241118T203521Z
LAST-MODIFIED:20241118T203521Z
UID:12487-1733815800-1733815800@bocc.geauga.oh.gov
SUMMARY:Planning Commission Meeting
DESCRIPTION:Planning Commission\, 7:30 a.m. 12611 Ravenwood Drive\, Room A334\, Chardon
URL:https://bocc.geauga.oh.gov/event/planning-commission-meeting-2/
LOCATION:Geauga County Office Building\, 12611 Ravenwood Drive\, Chardon\, OH\, 44024\, United States
END:VEVENT
BEGIN:VEVENT
DTSTART;VALUE=DATE:20241204
DTEND;VALUE=DATE:20241207
DTSTAMP:20260423T054532
CREATED:20241118T203259Z
LAST-MODIFIED:20241118T203259Z
UID:12483-1733270400-1733529599@bocc.geauga.oh.gov
SUMMARY:CCAO Winter Conference
DESCRIPTION:CCAO Winter Conference\, Columbus\, Ohio
URL:https://bocc.geauga.oh.gov/event/ccao-winter-conference-4/
LOCATION:OH
END:VEVENT
BEGIN:VEVENT
DTSTART;TZID=America/New_York:20241203T093000
DTEND;TZID=America/New_York:20241203T093000
DTSTAMP:20260423T054532
CREATED:20241118T203415Z
LAST-MODIFIED:20241118T203415Z
UID:12485-1733218200-1733218200@bocc.geauga.oh.gov
SUMMARY:Commissioners' Meeting
DESCRIPTION:The Commissioners will hold session at 9:30 a.m.
URL:https://bocc.geauga.oh.gov/event/commissioners-meeting-48/
LOCATION:Commissioners’ Chambers\, 12611 Ravenwood Drive\, Room B303\, Chardon\, OH\, 44024\, United States
END:VEVENT
BEGIN:VEVENT
DTSTART;VALUE=DATE:20241129
DTEND;VALUE=DATE:20241130
DTSTAMP:20260423T054532
CREATED:20241021T182637Z
LAST-MODIFIED:20241021T185719Z
UID:12400-1732838400-1732924799@bocc.geauga.oh.gov
SUMMARY:Commissioners' Offices Closed
DESCRIPTION:County offices under the hiring authority of the Board of Commissioners will be closed for general business.  Twenty-four hour operations will continue to operate as usual.
URL:https://bocc.geauga.oh.gov/event/county-offices-closed-26/
LOCATION:OH
END:VEVENT
BEGIN:VEVENT
DTSTART;VALUE=DATE:20241128
DTEND;VALUE=DATE:20241129
DTSTAMP:20260423T054532
CREATED:20241021T182526Z
LAST-MODIFIED:20241021T182526Z
UID:12398-1732752000-1732838399@bocc.geauga.oh.gov
SUMMARY:County Offices Closed
DESCRIPTION:County Offices will be closed for general business in observance of Thanksgiving Day.  Twenty-four hour operations will continue to operate as normal.
URL:https://bocc.geauga.oh.gov/event/county-offices-closed-25/
LOCATION:OH
END:VEVENT
BEGIN:VEVENT
DTSTART;TZID=America/New_York:20241126T110000
DTEND;TZID=America/New_York:20241126T110000
DTSTAMP:20260423T054532
CREATED:20241125T211456Z
LAST-MODIFIED:20241125T211456Z
UID:12505-1732618800-1732618800@bocc.geauga.oh.gov
SUMMARY:Transition Supervisory Board
DESCRIPTION:Transition Supervisory Board\, 11:00 a.m. – County Office Building\, Room A333-334
URL:https://bocc.geauga.oh.gov/event/transition-supervisory-board/
LOCATION:Geauga County Office Building\, 12611 Ravenwood Drive\, Chardon\, OH\, 44024\, United States
END:VEVENT
BEGIN:VEVENT
DTSTART;TZID=America/New_York:20241126T093000
DTEND;TZID=America/New_York:20241126T093000
DTSTAMP:20260423T054532
CREATED:20241021T182317Z
LAST-MODIFIED:20241021T183101Z
UID:12396-1732613400-1732613400@bocc.geauga.oh.gov
SUMMARY:Commissioners' Meeting
DESCRIPTION:The Commissioners will hold session at 9:30 a.m.
URL:https://bocc.geauga.oh.gov/event/commissioners-meeting-47/
LOCATION:Commissioners’ Chambers\, 12611 Ravenwood Drive\, Room B303\, Chardon\, OH\, 44024\, United States
END:VEVENT
BEGIN:VEVENT
DTSTART;TZID=America/New_York:20241119T140000
DTEND;TZID=America/New_York:20241119T140000
DTSTAMP:20260423T054532
CREATED:20241021T182231Z
LAST-MODIFIED:20241021T182916Z
UID:12394-1732024800-1732024800@bocc.geauga.oh.gov
SUMMARY:Geauga Trumbull Solid Waste Management\, District Board of Directors Meeting
DESCRIPTION:Geauga Trumbull Solid Waste Management District\, Board of Directors meeting\, 2:00 p.m. Warren\, District Office
URL:https://bocc.geauga.oh.gov/event/geauga-trumbull-solid-waste-management-district-board-of-directors-meeting-6/
LOCATION:Geauga-Trumbull Solid Waste Management District\, Warren\, District Office\, 5138 Enterprise Dr NW\, Warren\, OH\, 44481\, United States
END:VEVENT
BEGIN:VEVENT
DTSTART;TZID=America/New_York:20241119T093000
DTEND;TZID=America/New_York:20241119T093000
DTSTAMP:20260423T054532
CREATED:20241021T182024Z
LAST-MODIFIED:20241021T182024Z
UID:12392-1732008600-1732008600@bocc.geauga.oh.gov
SUMMARY:Commissioners' Meeting
DESCRIPTION:The Commissioners will hold session at 9:30 a.m.
URL:https://bocc.geauga.oh.gov/event/commissioners-meeting-46/
LOCATION:Commissioners’ Chambers\, 12611 Ravenwood Drive\, Room B303\, Chardon\, OH\, 44024\, United States
END:VEVENT
BEGIN:VEVENT
DTSTART;TZID=America/New_York:20241118T100000
DTEND;TZID=America/New_York:20241118T100000
DTSTAMP:20260423T054532
CREATED:20241021T181916Z
LAST-MODIFIED:20241021T181916Z
UID:12389-1731924000-1731924000@bocc.geauga.oh.gov
SUMMARY:OneOhio Region 13 Meeting
DESCRIPTION:OneOhio Region 13 meeting\, 10:00 a.m.\, Geauga County Office Building
URL:https://bocc.geauga.oh.gov/event/oneohio-region-13-meeting-3/
LOCATION:Geauga County Office Building\, 12611 Ravenwood Drive\, Chardon\, OH\, 44024\, United States
END:VEVENT
BEGIN:VEVENT
DTSTART;TZID=America/New_York:20241114T093000
DTEND;TZID=America/New_York:20241114T093000
DTSTAMP:20260423T054532
CREATED:20241017T201410Z
LAST-MODIFIED:20241017T201410Z
UID:12373-1731576600-1731576600@bocc.geauga.oh.gov
SUMMARY:Commissioners' Meeting
DESCRIPTION:The Commissioners will hold session at 9:30 a.m.
URL:https://bocc.geauga.oh.gov/event/commissioners-meeting-45/
LOCATION:Commissioners’ Chambers\, 12611 Ravenwood Drive\, Room B303\, Chardon\, OH\, 44024\, United States
END:VEVENT
BEGIN:VEVENT
DTSTART;TZID=America/New_York:20241114T073000
DTEND;TZID=America/New_York:20241114T073000
DTSTAMP:20260423T054532
CREATED:20241017T201302Z
LAST-MODIFIED:20241025T193525Z
UID:12371-1731569400-1731569400@bocc.geauga.oh.gov
SUMMARY:Planning Commission Meeting
DESCRIPTION:11/14   Planning Commission\, 7:30 a.m. 12611 Ravenwood Drive\, Room A334\, Chardon
URL:https://bocc.geauga.oh.gov/event/planning-commission-meeting/
LOCATION:Geauga County Office Building\, 12611 Ravenwood Drive\, Chardon\, OH\, 44024\, United States
END:VEVENT
BEGIN:VEVENT
DTSTART;VALUE=DATE:20241111
DTEND;VALUE=DATE:20241112
DTSTAMP:20260423T054532
CREATED:20241017T201007Z
LAST-MODIFIED:20241017T201007Z
UID:12369-1731283200-1731369599@bocc.geauga.oh.gov
SUMMARY:County Offices Closed
DESCRIPTION:County Offices are closed in observance of Veterans’ Day\, Twenty-four-hour operations will continue to operate as normal.
URL:https://bocc.geauga.oh.gov/event/county-offices-closed-24/
LOCATION:OH
END:VEVENT
BEGIN:VEVENT
DTSTART;TZID=America/New_York:20241107T093000
DTEND;TZID=America/New_York:20241107T093000
DTSTAMP:20260423T054532
CREATED:20241021T135739Z
LAST-MODIFIED:20241021T135739Z
UID:12380-1730971800-1730971800@bocc.geauga.oh.gov
SUMMARY:Parkman Community Reinvestment Area Housing Council Meeting
DESCRIPTION:NOTICE OF MEETING \nPARKMAN COMMUNITY REINVESTMENT AREA HOUSING COUNCIL \nThe Parkman Community Reinvestment Area Housing Council will hold a meeting on Thursday\, November 7\, 2024 at 9:30 am at the Geauga County Office Building 12611 Ravenwood Drive\, Conference Room B200\, Second Floor\, Chardon\, OH 44024.
URL:https://bocc.geauga.oh.gov/event/parkman-community-reinvestment-area-housing-council-meeting/
LOCATION:Geauga County Office Building\, 12611 Ravenwood Drive\, Chardon\, OH\, 44024\, United States
END:VEVENT
BEGIN:VEVENT
DTSTART;TZID=America/New_York:20241107T090000
DTEND;TZID=America/New_York:20241107T090000
DTSTAMP:20260423T054532
CREATED:20241028T182945Z
LAST-MODIFIED:20241028T182945Z
UID:12415-1730970000-1730970000@bocc.geauga.oh.gov
SUMMARY:Board of Revision
DESCRIPTION:Board of Revision\, Abstract Approval\, 9:00 a.m. Appraisal Conference Room
URL:https://bocc.geauga.oh.gov/event/board-of-revision-37/
LOCATION:Auditor’s Appraisal Conference Room\, Chardon\, OH\, United States
END:VEVENT
BEGIN:VEVENT
DTSTART;TZID=America/New_York:20241105T093000
DTEND;TZID=America/New_York:20241105T093000
DTSTAMP:20260423T054532
CREATED:20241017T200611Z
LAST-MODIFIED:20241017T200611Z
UID:12367-1730799000-1730799000@bocc.geauga.oh.gov
SUMMARY:Commissioners' Meeting
DESCRIPTION:The Commissioners will hold session at 9:30 a.m.
URL:https://bocc.geauga.oh.gov/event/commissioners-meeting-44/
LOCATION:Commissioners’ Chambers\, 12611 Ravenwood Drive\, Room B303\, Chardon\, OH\, 44024\, United States
END:VEVENT
BEGIN:VEVENT
DTSTART;TZID=America/New_York:20241029T093000
DTEND;TZID=America/New_York:20241029T093000
DTSTAMP:20260423T054532
CREATED:20240925T182538Z
LAST-MODIFIED:20240925T182538Z
UID:12234-1730194200-1730194200@bocc.geauga.oh.gov
SUMMARY:Commissioners' Meeting
DESCRIPTION:The Commissioners will hold session at 9:30 a.m.
URL:https://bocc.geauga.oh.gov/event/commissioners-meeting-43/
LOCATION:Commissioners’ Chambers\, 12611 Ravenwood Drive\, Room B303\, Chardon\, OH\, 44024\, United States
END:VEVENT
BEGIN:VEVENT
DTSTART;TZID=America/New_York:20241022T093000
DTEND;TZID=America/New_York:20241022T093000
DTSTAMP:20260423T054532
CREATED:20240925T182434Z
LAST-MODIFIED:20240925T182434Z
UID:12232-1729589400-1729589400@bocc.geauga.oh.gov
SUMMARY:Commissioners' Meeting
DESCRIPTION:The Commissioners will hold session at 9:30 a.m.
URL:https://bocc.geauga.oh.gov/event/commissioners-meeting-42/
LOCATION:Commissioners’ Chambers\, 12611 Ravenwood Drive\, Room B303\, Chardon\, OH\, 44024\, United States
END:VEVENT
BEGIN:VEVENT
DTSTART;TZID=America/New_York:20241021T133000
DTEND;TZID=America/New_York:20241021T133000
DTSTAMP:20260423T054532
CREATED:20240925T185315Z
LAST-MODIFIED:20240925T185315Z
UID:12244-1729517400-1729517400@bocc.geauga.oh.gov
SUMMARY:Family First Council
DESCRIPTION:Family First Council\, 1:30 p.m. County Office Building
URL:https://bocc.geauga.oh.gov/event/family-first-council-19/
LOCATION:Geauga County Office Building\, 12611 Ravenwood Drive\, Chardon\, OH\, 44024\, United States
END:VEVENT
BEGIN:VEVENT
DTSTART;TZID=America/New_York:20241018T110000
DTEND;TZID=America/New_York:20241018T110000
DTSTAMP:20260423T054532
CREATED:20241017T194818Z
LAST-MODIFIED:20241017T195302Z
UID:12359-1729249200-1729249200@bocc.geauga.oh.gov
SUMMARY:Geauga Transit Service Launch – Wheels to Work
DESCRIPTION:Geauga Transit Service Launch – Wheels to Work 11:00 a.m. 12555 Merritt Road\, Chardon
URL:https://bocc.geauga.oh.gov/event/geauga-transit-service-launch-wheels-to-work/
LOCATION:Geauga Transit\, 12555 Merritt Road\, Chardon\, OH\, 44060\, United States
END:VEVENT
END:VCALENDAR