BEGIN:VCALENDAR
VERSION:2.0
PRODID:-//Geauga County Board of Commissioners - ECPv6.15.20//NONSGML v1.0//EN
CALSCALE:GREGORIAN
METHOD:PUBLISH
X-WR-CALNAME:Geauga County Board of Commissioners
X-ORIGINAL-URL:https://bocc.geauga.oh.gov
X-WR-CALDESC:Events for Geauga County Board of Commissioners
REFRESH-INTERVAL;VALUE=DURATION:PT1H
X-Robots-Tag:noindex
X-PUBLISHED-TTL:PT1H
BEGIN:VTIMEZONE
TZID:America/New_York
BEGIN:DAYLIGHT
TZOFFSETFROM:-0500
TZOFFSETTO:-0400
TZNAME:EDT
DTSTART:20230312T070000
END:DAYLIGHT
BEGIN:STANDARD
TZOFFSETFROM:-0400
TZOFFSETTO:-0500
TZNAME:EST
DTSTART:20231105T060000
END:STANDARD
BEGIN:DAYLIGHT
TZOFFSETFROM:-0500
TZOFFSETTO:-0400
TZNAME:EDT
DTSTART:20240310T070000
END:DAYLIGHT
BEGIN:STANDARD
TZOFFSETFROM:-0400
TZOFFSETTO:-0500
TZNAME:EST
DTSTART:20241103T060000
END:STANDARD
BEGIN:DAYLIGHT
TZOFFSETFROM:-0500
TZOFFSETTO:-0400
TZNAME:EDT
DTSTART:20250309T070000
END:DAYLIGHT
BEGIN:STANDARD
TZOFFSETFROM:-0400
TZOFFSETTO:-0500
TZNAME:EST
DTSTART:20251102T060000
END:STANDARD
END:VTIMEZONE
BEGIN:VEVENT
DTSTART;TZID=America/New_York:20240514T093000
DTEND;TZID=America/New_York:20240514T093000
DTSTAMP:20260423T140121
CREATED:20240422T193200Z
LAST-MODIFIED:20240422T193351Z
UID:11084-1715679000-1715679000@bocc.geauga.oh.gov
SUMMARY:Commissioners' Meeting
DESCRIPTION:The Commissioners will hold regular session at 9:30 a.m.
URL:https://bocc.geauga.oh.gov/event/commissioners-meeting-20/
LOCATION:Commissioners’ Chambers\, 12611 Ravenwood Drive\, Room B303\, Chardon\, OH\, 44024\, United States
CATEGORIES:Commissioners' Meetings
END:VEVENT
BEGIN:VEVENT
DTSTART;TZID=America/New_York:20240507T120000
DTEND;TZID=America/New_York:20240507T163000
DTSTAMP:20260423T140121
CREATED:20240422T192944Z
LAST-MODIFIED:20240422T192944Z
UID:11080-1715083200-1715099400@bocc.geauga.oh.gov
SUMMARY:Budget Hearings
DESCRIPTION:Budget Hearings\, 12:00 – 4:30 p.m.\, 12611 Ravenwood Drive\, Room B303\, Chardon
URL:https://bocc.geauga.oh.gov/event/budget-hearings-7/
LOCATION:Geauga County Office Building\, 12611 Ravenwood Drive\, Chardon\, OH\, 44024\, United States
END:VEVENT
BEGIN:VEVENT
DTSTART;TZID=America/New_York:20240507T093000
DTEND;TZID=America/New_York:20240507T093000
DTSTAMP:20260423T140121
CREATED:20240422T192428Z
LAST-MODIFIED:20240422T192428Z
UID:11077-1715074200-1715074200@bocc.geauga.oh.gov
SUMMARY:Commissioners' Meeting
DESCRIPTION:The Commissioners will hold regular session at 9:30 a.m.
URL:https://bocc.geauga.oh.gov/event/commissioners-meeting-19/
LOCATION:Commissioners’ Chambers\, 12611 Ravenwood Drive\, Room B303\, Chardon\, OH\, 44024\, United States
CATEGORIES:Commissioners' Meetings
END:VEVENT
BEGIN:VEVENT
DTSTART;TZID=America/New_York:20240506T100000
DTEND;TZID=America/New_York:20240506T100000
DTSTAMP:20260423T140121
CREATED:20240422T192314Z
LAST-MODIFIED:20240422T192314Z
UID:11075-1714989600-1714989600@bocc.geauga.oh.gov
SUMMARY:OneOhio Region 13 Meeting
DESCRIPTION:OneOhio Region 13 meeting\, 10:00 a.m.\, 12611 Ravenwood Drive\, Room A334\, Chardon
URL:https://bocc.geauga.oh.gov/event/oneohio-region-13-meeting/
LOCATION:12611 Ravenwood Drive\, Room B333-334\, 12611 Ravenwood Drive\, Chardon\, OH\, 44024\, United States
CATEGORIES:Meetings
END:VEVENT
BEGIN:VEVENT
DTSTART;TZID=America/New_York:20240430T140000
DTEND;TZID=America/New_York:20240430T140000
DTSTAMP:20260423T140121
CREATED:20240409T135252Z
LAST-MODIFIED:20240409T135252Z
UID:11038-1714485600-1714485600@bocc.geauga.oh.gov
SUMMARY:Geauga Trumbull Solid Waste Management District Board of Directors
DESCRIPTION:Geauga Trumbull Solid Waste Management District Board of Directors\, 2:00 p.m. Warren\, District Office
URL:https://bocc.geauga.oh.gov/event/geauga-trumbull-solid-waste-management-district-board-of-directors/
LOCATION:OH
END:VEVENT
BEGIN:VEVENT
DTSTART;TZID=America/New_York:20240430T093000
DTEND;TZID=America/New_York:20240430T093000
DTSTAMP:20260423T140121
CREATED:20240409T135047Z
LAST-MODIFIED:20240409T135047Z
UID:11036-1714469400-1714469400@bocc.geauga.oh.gov
SUMMARY:Commissioners' Meeting
DESCRIPTION:The Commissioners will hold session at 9:30 a.m.
URL:https://bocc.geauga.oh.gov/event/commissioners-meeting-18/
LOCATION:Commissioners’ Chambers\, 12611 Ravenwood Drive\, Room B303\, Chardon\, OH\, 44024\, United States
END:VEVENT
BEGIN:VEVENT
DTSTART;TZID=America/New_York:20240424T090000
DTEND;TZID=America/New_York:20240424T090000
DTSTAMP:20260423T140121
CREATED:20240409T134946Z
LAST-MODIFIED:20240409T134946Z
UID:11034-1713949200-1713949200@bocc.geauga.oh.gov
SUMMARY:Board of Revision
DESCRIPTION:Board of Revision\, 9:00 a.m. Auditor’s Appraisal Room
URL:https://bocc.geauga.oh.gov/event/board-of-revision-28/
LOCATION:Auditor’s Appraisal Conference Room\, Chardon\, OH\, United States
END:VEVENT
BEGIN:VEVENT
DTSTART;TZID=America/New_York:20240423T093000
DTEND;TZID=America/New_York:20240423T093000
DTSTAMP:20260423T140121
CREATED:20240409T134819Z
LAST-MODIFIED:20240409T134819Z
UID:11032-1713864600-1713864600@bocc.geauga.oh.gov
SUMMARY:Commissioners' Meeting
DESCRIPTION:The Commissioners will hold session at 9:30 a.m.
URL:https://bocc.geauga.oh.gov/event/commissioners-meeting-17/
LOCATION:OH
END:VEVENT
BEGIN:VEVENT
DTSTART;TZID=America/New_York:20240416T093000
DTEND;TZID=America/New_York:20240416T093000
DTSTAMP:20260423T140121
CREATED:20240327T123703Z
LAST-MODIFIED:20240327T123703Z
UID:10984-1713259800-1713259800@bocc.geauga.oh.gov
SUMMARY:Commissioners' Meeting
DESCRIPTION:The Commissioners will hold session at 9:30 a.m.
URL:https://bocc.geauga.oh.gov/event/commissioners-meeting-16/
LOCATION:Commissioners’ Chambers\, 12611 Ravenwood Drive\, Room B303\, Chardon\, OH\, 44024\, United States
END:VEVENT
BEGIN:VEVENT
DTSTART;TZID=America/New_York:20240415T133000
DTEND;TZID=America/New_York:20240415T133000
DTSTAMP:20260423T140121
CREATED:20240409T134503Z
LAST-MODIFIED:20240409T134503Z
UID:11028-1713187800-1713187800@bocc.geauga.oh.gov
SUMMARY:Family First Council Meeting
DESCRIPTION:Family First Council Meeting\, 1:30 p.m. County Office Building
URL:https://bocc.geauga.oh.gov/event/family-first-council-meeting-2/
LOCATION:Geauga County Office Building\, 12611 Ravenwood Drive\, Chardon\, OH\, 44024\, United States
END:VEVENT
BEGIN:VEVENT
DTSTART;TZID=America/New_York:20240411T140000
DTEND;TZID=America/New_York:20240411T140000
DTSTAMP:20260423T140121
CREATED:20240409T134313Z
LAST-MODIFIED:20240409T134313Z
UID:11026-1712844000-1712844000@bocc.geauga.oh.gov
SUMMARY:ADP Special Meeting
DESCRIPTION:ADP Special Meeting\, 2:00 p.m. Auditor’s Appraisal Conference Room
URL:https://bocc.geauga.oh.gov/event/adp-special-meeting-5/
LOCATION:Auditor’s Appraisal Conference Room\, Chardon\, OH\, United States
END:VEVENT
BEGIN:VEVENT
DTSTART;TZID=America/New_York:20240410T183000
DTEND;TZID=America/New_York:20240410T183000
DTSTAMP:20260423T140121
CREATED:20240327T123557Z
LAST-MODIFIED:20240327T123557Z
UID:10982-1712773800-1712773800@bocc.geauga.oh.gov
SUMMARY:Geauga County Township Association Dinner Meeting
DESCRIPTION:Geauga County Township Association Quarterly Dinner Meeting\, 6:30 p.m. Claridon
URL:https://bocc.geauga.oh.gov/event/geauga-county-township-association-dinner-meeting/
LOCATION:OH
END:VEVENT
BEGIN:VEVENT
DTSTART;TZID=America/New_York:20240409T093000
DTEND;TZID=America/New_York:20240409T093000
DTSTAMP:20260423T140121
CREATED:20240327T123426Z
LAST-MODIFIED:20240327T123426Z
UID:10980-1712655000-1712655000@bocc.geauga.oh.gov
SUMMARY:Commissioners' Meeting
DESCRIPTION:The Commissioners will hold session at 9:30 a.m.
URL:https://bocc.geauga.oh.gov/event/commissioners-meeting-15/
LOCATION:Commissioners’ Chambers\, 12611 Ravenwood Drive\, Room B303\, Chardon\, OH\, 44024\, United States
END:VEVENT
BEGIN:VEVENT
DTSTART;TZID=America/New_York:20240403T110000
DTEND;TZID=America/New_York:20240403T110000
DTSTAMP:20260423T140121
CREATED:20240318T192614Z
LAST-MODIFIED:20240318T192614Z
UID:10956-1712142000-1712142000@bocc.geauga.oh.gov
SUMMARY:NOC COG Board Meeting
DESCRIPTION:NOC COG Board meeting\, 11:00 a.m. OMJ Portage County
URL:https://bocc.geauga.oh.gov/event/noc-cog-board-meeting/
LOCATION:OH
END:VEVENT
BEGIN:VEVENT
DTSTART;TZID=America/New_York:20240402T093000
DTEND;TZID=America/New_York:20240402T093000
DTSTAMP:20260423T140121
CREATED:20240318T192440Z
LAST-MODIFIED:20240318T192457Z
UID:10954-1712050200-1712050200@bocc.geauga.oh.gov
SUMMARY:Commissioners' Meeting
DESCRIPTION:The Commissioners will hold session at 9:30 a.m.
URL:https://bocc.geauga.oh.gov/event/commissioners-meeting-14/
LOCATION:OH
END:VEVENT
BEGIN:VEVENT
DTSTART;TZID=America/New_York:20240401T100000
DTEND;TZID=America/New_York:20240401T100000
DTSTAMP:20260423T140121
CREATED:20240318T192219Z
LAST-MODIFIED:20240318T192219Z
UID:10951-1711965600-1711965600@bocc.geauga.oh.gov
SUMMARY:OneOhio Region 13 Board Meeting
DESCRIPTION:OneOhio Region 13 Board meeting\, 10:00 a.m. 12611 Ravenwood Drive\, Room B167
URL:https://bocc.geauga.oh.gov/event/oneohio-region-13-board-meeting/
LOCATION:Geauga County Office Building\, 12611 Ravenwood Drive\, Chardon\, OH\, 44024\, United States
END:VEVENT
BEGIN:VEVENT
DTSTART;TZID=America/New_York:20240327T090000
DTEND;TZID=America/New_York:20240327T160000
DTSTAMP:20260423T140121
CREATED:20240311T144607Z
LAST-MODIFIED:20240318T192345Z
UID:10907-1711530000-1711555200@bocc.geauga.oh.gov
SUMMARY:Board of Revision
DESCRIPTION:Board of Revision\, 9:00 a.m. – 4:00 p.m. Auditor’s Appraisal Conference Room
URL:https://bocc.geauga.oh.gov/event/board-of-revision-27/
LOCATION:Auditor’s Appraisal Conference Room\, Chardon\, OH\, United States
END:VEVENT
BEGIN:VEVENT
DTSTART;TZID=America/New_York:20240326T093000
DTEND;TZID=America/New_York:20240326T093000
DTSTAMP:20260423T140121
CREATED:20240304T172802Z
LAST-MODIFIED:20240304T172802Z
UID:10824-1711445400-1711445400@bocc.geauga.oh.gov
SUMMARY:Commissioners' Meeting
DESCRIPTION:The Commissioners will hold session at 9:30 a.m.
URL:https://bocc.geauga.oh.gov/event/commissioners-meeting-13/
LOCATION:OH
END:VEVENT
BEGIN:VEVENT
DTSTART;TZID=America/New_York:20240321T130000
DTEND;TZID=America/New_York:20240321T130000
DTSTAMP:20260423T140121
CREATED:20240304T172723Z
LAST-MODIFIED:20240318T191921Z
UID:10822-1711026000-1711026000@bocc.geauga.oh.gov
SUMMARY:Perry Nuclear Power Plant and Vistra Meeting
DESCRIPTION:Multi-County meeting regarding the Perry Nuclear Power Plant and Vistra\,1:00 p.m. at Lake County Offices
URL:https://bocc.geauga.oh.gov/event/perry-nuclear-power-plant-and-vistra-meeting/
LOCATION:OH
END:VEVENT
BEGIN:VEVENT
DTSTART;TZID=America/New_York:20240321T083000
DTEND;TZID=America/New_York:20240321T083000
DTSTAMP:20260423T140121
CREATED:20240318T191748Z
LAST-MODIFIED:20240318T191748Z
UID:10948-1711009800-1711009800@bocc.geauga.oh.gov
SUMMARY:Geauga County 9-1-1 Program Review Committee
DESCRIPTION:Geauga County 9-1-1 Program Review Committee\, 8:30 a.m.\, 12611 Ravenwood Drive\, Room B303\, Chardon
URL:https://bocc.geauga.oh.gov/event/geauga-county-9-1-1-program-review-committee/
LOCATION:Geauga County Office Building\, 12611 Ravenwood Drive\, Chardon\, OH\, 44024\, United States
END:VEVENT
BEGIN:VEVENT
DTSTART;TZID=America/New_York:20240319T093000
DTEND;TZID=America/New_York:20240319T093000
DTSTAMP:20260423T140121
CREATED:20240304T172401Z
LAST-MODIFIED:20240304T172607Z
UID:10820-1710840600-1710840600@bocc.geauga.oh.gov
SUMMARY:Commissioners' Meeting
DESCRIPTION:The Commissioners will hold session at 9:30 a.m.
URL:https://bocc.geauga.oh.gov/event/commissioners-meeting-12/
LOCATION:Commissioners’ Chambers\, 12611 Ravenwood Drive\, Room B303\, Chardon\, OH\, 44024\, United States
END:VEVENT
BEGIN:VEVENT
DTSTART;TZID=America/New_York:20240318T133000
DTEND;TZID=America/New_York:20240318T133000
DTSTAMP:20260423T140121
CREATED:20240304T172453Z
LAST-MODIFIED:20240304T172453Z
UID:10818-1710768600-1710768600@bocc.geauga.oh.gov
SUMMARY:Family First Meeting
DESCRIPTION:Family First Meeting\, 1:30 p.m.\, 12611 Ravenwood Drive\, Room A334\, Chardon
URL:https://bocc.geauga.oh.gov/event/family-first-meeting/
LOCATION:Geauga County Office Building\, 12611 Ravenwood Drive\, Chardon\, OH\, 44024\, United States
END:VEVENT
BEGIN:VEVENT
DTSTART;TZID=America/New_York:20240313T090000
DTEND;TZID=America/New_York:20240313T090000
DTSTAMP:20260423T140121
CREATED:20240226T184104Z
LAST-MODIFIED:20240226T184147Z
UID:10802-1710320400-1710320400@bocc.geauga.oh.gov
SUMMARY:Board of Revision
DESCRIPTION:Board of Revision\, 9:00 a.m. Auditor’s Appraisal Conference Room
URL:https://bocc.geauga.oh.gov/event/board-of-revision-26/
LOCATION:Auditor’s Appraisal Conference Room\, Chardon\, OH\, United States
END:VEVENT
BEGIN:VEVENT
DTSTART;TZID=America/New_York:20240312T093000
DTEND;TZID=America/New_York:20240312T093000
DTSTAMP:20260423T140121
CREATED:20240221T203452Z
LAST-MODIFIED:20240221T203452Z
UID:10742-1710235800-1710235800@bocc.geauga.oh.gov
SUMMARY:Commissioners' Meeting
DESCRIPTION:The Commissioners will hold session at 9:30 a.m.
URL:https://bocc.geauga.oh.gov/event/commissioners-meeting-11/
LOCATION:OH
END:VEVENT
BEGIN:VEVENT
DTSTART;TZID=America/New_York:20240312T091500
DTEND;TZID=America/New_York:20240312T091500
DTSTAMP:20260423T140121
CREATED:20240221T203359Z
LAST-MODIFIED:20240221T203359Z
UID:10740-1710234900-1710234900@bocc.geauga.oh.gov
SUMMARY:Investment Advisory Committee
DESCRIPTION:Investment Advisory Committee\, 9:15 a.m. 12611 Ravenwood Drive\, Room B303
URL:https://bocc.geauga.oh.gov/event/investment-advisory-committee-5/
LOCATION:OH
END:VEVENT
BEGIN:VEVENT
DTSTART;TZID=America/New_York:20240305T093000
DTEND;TZID=America/New_York:20240305T093000
DTSTAMP:20260423T140121
CREATED:20240212T174141Z
LAST-MODIFIED:20240212T174141Z
UID:10722-1709631000-1709631000@bocc.geauga.oh.gov
SUMMARY:Commissioners' Meeting
DESCRIPTION:The Commissioners will hold session at 9:30 a.m.
URL:https://bocc.geauga.oh.gov/event/commissioners-meeting-10/
LOCATION:Commissioners’ Chambers\, 12611 Ravenwood Drive\, Room B303\, Chardon\, OH\, 44024\, United States
END:VEVENT
BEGIN:VEVENT
DTSTART;TZID=America/New_York:20240227T140000
DTEND;TZID=America/New_York:20240227T140000
DTSTAMP:20260423T140121
CREATED:20240129T190316Z
LAST-MODIFIED:20240129T190520Z
UID:10700-1709042400-1709042400@bocc.geauga.oh.gov
SUMMARY:Geauga Trumbull Solid Waste District Meeting
DESCRIPTION:
URL:https://bocc.geauga.oh.gov/event/geauga-trumbull-solid-waste-district-meeting/
LOCATION:Geauga-Trumbull Solid Waste Management District\, Warren\, District Office\, 5138 Enterprise Dr NW\, Warren\, OH\, 44481\, United States
END:VEVENT
BEGIN:VEVENT
DTSTART;TZID=America/New_York:20240227T093000
DTEND;TZID=America/New_York:20240227T093000
DTSTAMP:20260423T140121
CREATED:20240129T190211Z
LAST-MODIFIED:20240129T190211Z
UID:10698-1709026200-1709026200@bocc.geauga.oh.gov
SUMMARY:Commissioners' Meeting
DESCRIPTION:
URL:https://bocc.geauga.oh.gov/event/commissioners-meeting-9/
LOCATION:Commissioners’ Chambers\, 12611 Ravenwood Drive\, Room B303\, Chardon\, OH\, 44024\, United States
END:VEVENT
BEGIN:VEVENT
DTSTART;TZID=America/New_York:20240226T133000
DTEND;TZID=America/New_York:20240226T133000
DTSTAMP:20260423T140121
CREATED:20240221T203103Z
LAST-MODIFIED:20240221T203103Z
UID:10736-1708954200-1708954200@bocc.geauga.oh.gov
SUMMARY:Family First Council
DESCRIPTION:Family First Council\, 1:30 p.m. County Office Building
URL:https://bocc.geauga.oh.gov/event/family-first-council-14/
LOCATION:Geauga County Office Building\, 12611 Ravenwood Drive\, Chardon\, OH\, 44024\, United States
END:VEVENT
BEGIN:VEVENT
DTSTART;TZID=America/New_York:20240222T093000
DTEND;TZID=America/New_York:20240222T113000
DTSTAMP:20260423T140121
CREATED:20240122T173845Z
LAST-MODIFIED:20240122T173845Z
UID:10664-1708594200-1708601400@bocc.geauga.oh.gov
SUMMARY:Commissioners' Meeting
DESCRIPTION:The Commissioners will hold session at 9:30 a.m. \n 
URL:https://bocc.geauga.oh.gov/event/commissioners-meeting-8/
LOCATION:Commissioners’ Chambers\, 12611 Ravenwood Drive\, Room B303\, Chardon\, OH\, 44024\, United States
END:VEVENT
END:VCALENDAR