BEGIN:VCALENDAR
VERSION:2.0
PRODID:-//Geauga County Board of Commissioners - ECPv6.15.20//NONSGML v1.0//EN
CALSCALE:GREGORIAN
METHOD:PUBLISH
X-ORIGINAL-URL:https://bocc.geauga.oh.gov
X-WR-CALDESC:Events for Geauga County Board of Commissioners
REFRESH-INTERVAL;VALUE=DURATION:PT1H
X-Robots-Tag:noindex
X-PUBLISHED-TTL:PT1H
BEGIN:VTIMEZONE
TZID:America/New_York
BEGIN:DAYLIGHT
TZOFFSETFROM:-0500
TZOFFSETTO:-0400
TZNAME:EDT
DTSTART:20240310T070000
END:DAYLIGHT
BEGIN:STANDARD
TZOFFSETFROM:-0400
TZOFFSETTO:-0500
TZNAME:EST
DTSTART:20241103T060000
END:STANDARD
BEGIN:DAYLIGHT
TZOFFSETFROM:-0500
TZOFFSETTO:-0400
TZNAME:EDT
DTSTART:20250309T070000
END:DAYLIGHT
BEGIN:STANDARD
TZOFFSETFROM:-0400
TZOFFSETTO:-0500
TZNAME:EST
DTSTART:20251102T060000
END:STANDARD
BEGIN:DAYLIGHT
TZOFFSETFROM:-0500
TZOFFSETTO:-0400
TZNAME:EDT
DTSTART:20260308T070000
END:DAYLIGHT
BEGIN:STANDARD
TZOFFSETFROM:-0400
TZOFFSETTO:-0500
TZNAME:EST
DTSTART:20261101T060000
END:STANDARD
END:VTIMEZONE
BEGIN:VEVENT
DTSTART;TZID=America/New_York:20250422T093000
DTEND;TZID=America/New_York:20250422T093000
DTSTAMP:20260422T175015
CREATED:20250331T174305Z
LAST-MODIFIED:20250331T174305Z
UID:13170-1745314200-1745314200@bocc.geauga.oh.gov
SUMMARY:Commissioners' Meeting
DESCRIPTION:The Commissioners will hold session at 9:30 a.m.
URL:https://bocc.geauga.oh.gov/event/commissioners-meeting-67/
LOCATION:Commissioners’ Chambers\, 12611 Ravenwood Drive\, Room B303\, Chardon\, OH\, 44024\, United States
END:VEVENT
BEGIN:VEVENT
DTSTART;TZID=America/New_York:20250423T093000
DTEND;TZID=America/New_York:20250423T150000
DTSTAMP:20260422T175015
CREATED:20250414T184745Z
LAST-MODIFIED:20250414T184745Z
UID:13248-1745400600-1745420400@bocc.geauga.oh.gov
SUMMARY:Board of Revision
DESCRIPTION:Board of Revision\, 9:00 a.m. – 3:00 p.m. Auditor’s Appraisal Conference Room
URL:https://bocc.geauga.oh.gov/event/board-of-revision-41/
LOCATION:Auditor’s Appraisal Conference Room\, Chardon\, OH\, United States
END:VEVENT
BEGIN:VEVENT
DTSTART;TZID=America/New_York:20250424T093000
DTEND;TZID=America/New_York:20250424T093000
DTSTAMP:20260422T175015
CREATED:20250423T145922Z
LAST-MODIFIED:20250423T145922Z
UID:13284-1745487000-1745487000@bocc.geauga.oh.gov
SUMMARY:Commissioners' Special Meeting
DESCRIPTION:April 23\, 2025 \nNOTICE OF SPECIAL MEETING \nThe Geauga County Board of Commissioners will hold a special meeting on Thursday\, April 24\, 2025\, at 9:30 a.m. to address items and approve and execute any documents regarding the Airport Authority T-Hangar project\, funding contribution of $800\,000.00 towards the project and the repayment of the monies by Airport\, the Federal Aviation Administration Grant Application and submittal for the project and necessary paperwork and Financials. This meeting will be held at the Commissioners’ Offices at 12611 Ravenwood Drive\, Room B303\, Chardon\, Ohio. \nChristine Blair\, Clerk
URL:https://bocc.geauga.oh.gov/event/commissioners-special-meeting/
LOCATION:Commissioners’ Chambers\, 12611 Ravenwood Drive\, Room B303\, Chardon\, OH\, 44024\, United States
END:VEVENT
BEGIN:VEVENT
DTSTART;TZID=America/New_York:20250428T073000
DTEND;TZID=America/New_York:20250428T073000
DTSTAMP:20260422T175015
CREATED:20250428T183348Z
LAST-MODIFIED:20250428T183348Z
UID:13297-1745825400-1745825400@bocc.geauga.oh.gov
SUMMARY:Planning Commission Meeting
DESCRIPTION:Planning Commission\, 7:30 a.m.\, Geauga County Offices\, Room A334 (Third Floor)
URL:https://bocc.geauga.oh.gov/event/planning-commission-meeting-6/
LOCATION:Geauga County Office Building\, 12611 Ravenwood Drive\, Chardon\, OH\, 44024\, United States
END:VEVENT
BEGIN:VEVENT
DTSTART;TZID=America/New_York:20250428T130000
DTEND;TZID=America/New_York:20250428T130000
DTSTAMP:20260422T175015
CREATED:20250407T192359Z
LAST-MODIFIED:20250407T192603Z
UID:13226-1745845200-1745845200@bocc.geauga.oh.gov
SUMMARY:Special ADP Board Meeting
DESCRIPTION:Special ADP Board meeting\, 1:00 p.m. Auditor’s Appraisal Conference Room
URL:https://bocc.geauga.oh.gov/event/special-adp-board-meeting-2/
LOCATION:Auditor’s Appraisal Conference Room\, Chardon\, OH\, United States
END:VEVENT
BEGIN:VEVENT
DTSTART;TZID=America/New_York:20250429T093000
DTEND;TZID=America/New_York:20250429T093000
DTSTAMP:20260422T175015
CREATED:20250331T174403Z
LAST-MODIFIED:20250331T174403Z
UID:13172-1745919000-1745919000@bocc.geauga.oh.gov
SUMMARY:Commissioners' Meeting
DESCRIPTION:The Commissioners will hold session at 9:30 a.m.
URL:https://bocc.geauga.oh.gov/event/commissioners-meeting-68/
LOCATION:Commissioners’ Chambers\, 12611 Ravenwood Drive\, Room B303\, Chardon\, OH\, 44024\, United States
END:VEVENT
BEGIN:VEVENT
DTSTART;TZID=America/New_York:20250506T090000
DTEND;TZID=America/New_York:20250506T090000
DTSTAMP:20260422T175015
CREATED:20250428T182700Z
LAST-MODIFIED:20250428T182850Z
UID:13288-1746522000-1746522000@bocc.geauga.oh.gov
SUMMARY:2026 Tax Budget Hearings
DESCRIPTION:2026 Tax Budget Hearings\, 9:00 a.m.\, Room B303
URL:https://bocc.geauga.oh.gov/event/2026-tax-budget-hearing/
LOCATION:Commissioners’ Chambers\, 12611 Ravenwood Drive\, Room B303\, Chardon\, OH\, 44024\, United States
END:VEVENT
BEGIN:VEVENT
DTSTART;TZID=America/New_York:20250506T093000
DTEND;TZID=America/New_York:20250506T093000
DTSTAMP:20260422T175015
CREATED:20250421T200535Z
LAST-MODIFIED:20250421T200616Z
UID:13266-1746523800-1746523800@bocc.geauga.oh.gov
SUMMARY:Commissioners' Meeting
DESCRIPTION:The Commissioners will hold session at 9:30 a.m.
URL:https://bocc.geauga.oh.gov/event/commissioners-meeting-69/
LOCATION:Commissioners’ Chambers\, 12611 Ravenwood Drive\, Room B303\, Chardon\, OH\, 44024\, United States
END:VEVENT
BEGIN:VEVENT
DTSTART;TZID=America/New_York:20250506T120000
DTEND;TZID=America/New_York:20250506T120000
DTSTAMP:20260422T175015
CREATED:20250428T182812Z
LAST-MODIFIED:20250428T182812Z
UID:13290-1746532800-1746532800@bocc.geauga.oh.gov
SUMMARY:2026 Tax Budget Hearings
DESCRIPTION:2026 Tax Budget Hearings\, beginning at 12:00 p.m.\, Room B303
URL:https://bocc.geauga.oh.gov/event/2026-tax-budget-hearings/
LOCATION:Commissioners’ Chambers\, 12611 Ravenwood Drive\, Room B303\, Chardon\, OH\, 44024\, United States
END:VEVENT
BEGIN:VEVENT
DTSTART;TZID=America/New_York:20250507T090000
DTEND;TZID=America/New_York:20250507T090000
DTSTAMP:20260422T175015
CREATED:20250428T183021Z
LAST-MODIFIED:20250428T183021Z
UID:13293-1746608400-1746608400@bocc.geauga.oh.gov
SUMMARY:Board of Revision
DESCRIPTION:Board of Revision\, 9:00 a.m. Auditor’s Appraisal Conference Room
URL:https://bocc.geauga.oh.gov/event/board-of-revision-42/
LOCATION:Auditor’s Appraisal Conference Room\, Chardon\, OH\, United States
END:VEVENT
BEGIN:VEVENT
DTSTART;TZID=America/New_York:20250508T083000
DTEND;TZID=America/New_York:20250508T160000
DTSTAMP:20260422T175015
CREATED:20250428T183115Z
LAST-MODIFIED:20250428T183115Z
UID:13295-1746693000-1746720000@bocc.geauga.oh.gov
SUMMARY:2026 Tax Budget Hearings
DESCRIPTION:2026 Tax Budget Hearings\, 8:30 a.m. – 4:00 p.m.\, Room B303
URL:https://bocc.geauga.oh.gov/event/2026-tax-budget-hearings-2/
LOCATION:Commissioners’ Chambers\, 12611 Ravenwood Drive\, Room B303\, Chardon\, OH\, 44024\, United States
END:VEVENT
BEGIN:VEVENT
DTSTART;TZID=America/New_York:20250512T090000
DTEND;TZID=America/New_York:20250512T090000
DTSTAMP:20260422T175015
CREATED:20250512T175527Z
LAST-MODIFIED:20250512T175527Z
UID:13356-1747040400-1747040400@bocc.geauga.oh.gov
SUMMARY:Investment Advisory Committee
DESCRIPTION:Investment Advisory Committee\, 9:00 a.m.
URL:https://bocc.geauga.oh.gov/event/investment-advisory-committee-8/
LOCATION:OH
END:VEVENT
BEGIN:VEVENT
DTSTART;TZID=America/New_York:20250512T093000
DTEND;TZID=America/New_York:20250512T093000
DTSTAMP:20260422T175015
CREATED:20250512T175644Z
LAST-MODIFIED:20250512T175644Z
UID:13358-1747042200-1747042200@bocc.geauga.oh.gov
SUMMARY:Commissioners' Meeting
DESCRIPTION:The Commissioners will hold session at 9:30 a.m.
URL:https://bocc.geauga.oh.gov/event/commissioners-meeting-73/
LOCATION:Commissioners’ Chambers\, 12611 Ravenwood Drive\, Room B303\, Chardon\, OH\, 44024\, United States
END:VEVENT
BEGIN:VEVENT
DTSTART;TZID=America/New_York:20250513T073000
DTEND;TZID=America/New_York:20250513T073000
DTSTAMP:20260422T175015
CREATED:20250428T184518Z
LAST-MODIFIED:20250428T184518Z
UID:13305-1747121400-1747121400@bocc.geauga.oh.gov
SUMMARY:Planning Commission Meeting
DESCRIPTION:Planning Commission\, 7:30 a.m.\, Geauga County Offices\, Room A334 (Third Floor)
URL:https://bocc.geauga.oh.gov/event/planning-commission-meeting-7/
LOCATION:Geauga County Office Building\, 12611 Ravenwood Drive\, Chardon\, OH\, 44024\, United States
END:VEVENT
BEGIN:VEVENT
DTSTART;TZID=America/New_York:20250513T093000
DTEND;TZID=America/New_York:20250513T093000
DTSTAMP:20260422T175015
CREATED:20250428T183648Z
LAST-MODIFIED:20250428T184005Z
UID:13299-1747128600-1747128600@bocc.geauga.oh.gov
SUMMARY:Commissioners' Meeting
DESCRIPTION:The Commissioners will hold session at 9:30 a.m.
URL:https://bocc.geauga.oh.gov/event/commissioners-meeting-70/
LOCATION:Commissioners’ Chambers\, 12611 Ravenwood Drive\, Room B303\, Chardon\, OH\, 44024\, United States
END:VEVENT
BEGIN:VEVENT
DTSTART;TZID=America/New_York:20250513T123000
DTEND;TZID=America/New_York:20250513T123000
DTSTAMP:20260422T175015
CREATED:20250428T185331Z
LAST-MODIFIED:20250428T185331Z
UID:13307-1747139400-1747139400@bocc.geauga.oh.gov
SUMMARY:2026 Tax Budget Hearings
DESCRIPTION:2026 Tax Budget Hearings\, beginning at 12:30 p.m.\, Room B303
URL:https://bocc.geauga.oh.gov/event/2026-tax-budget-hearings-3/
LOCATION:Commissioners’ Chambers\, 12611 Ravenwood Drive\, Room B303\, Chardon\, OH\, 44024\, United States
END:VEVENT
BEGIN:VEVENT
DTSTART;TZID=America/New_York:20250519T133000
DTEND;TZID=America/New_York:20250519T133000
DTSTAMP:20260422T175015
CREATED:20250428T185608Z
LAST-MODIFIED:20250428T185608Z
UID:13311-1747661400-1747661400@bocc.geauga.oh.gov
SUMMARY:Family First Council
DESCRIPTION:Family First Council\, 1:30 p.m.\, County Office Building\, Room 168
URL:https://bocc.geauga.oh.gov/event/family-first-council-24/
LOCATION:Geauga County Office Building\, 12611 Ravenwood Drive\, Chardon\, OH\, 44024\, United States
END:VEVENT
BEGIN:VEVENT
DTSTART;VALUE=DATE:20250526
DTEND;VALUE=DATE:20250527
DTSTAMP:20260422T175015
CREATED:20250505T162806Z
LAST-MODIFIED:20250505T162806Z
UID:13334-1748217600-1748303999@bocc.geauga.oh.gov
SUMMARY:County Offices Closed
DESCRIPTION:The County Offices will be closed in honor of Memorial Day. Twenty-four hour operations will continue to operate as usual.
URL:https://bocc.geauga.oh.gov/event/county-offices-closed-30/
LOCATION:OH
END:VEVENT
BEGIN:VEVENT
DTSTART;TZID=America/New_York:20250529T084500
DTEND;TZID=America/New_York:20250529T084500
DTSTAMP:20260422T175015
CREATED:20250428T185501Z
LAST-MODIFIED:20250512T174547Z
UID:13309-1748508300-1748508300@bocc.geauga.oh.gov
SUMMARY:2026 Tax Budget Hearings
DESCRIPTION:2026 Tax Budget Hearing\, 8:45 a.m.
URL:https://bocc.geauga.oh.gov/event/2026-tax-budget-hearings-4/
LOCATION:OH
END:VEVENT
BEGIN:VEVENT
DTSTART;TZID=America/New_York:20250529T093000
DTEND;TZID=America/New_York:20250529T093000
DTSTAMP:20260422T175015
CREATED:20250505T163957Z
LAST-MODIFIED:20250505T164029Z
UID:13336-1748511000-1748511000@bocc.geauga.oh.gov
SUMMARY:Commissioners' Meeting
DESCRIPTION:The Commissioners will hold session at 9:30 a.m. \n  \n 
URL:https://bocc.geauga.oh.gov/event/commissioners-meeting-72/
LOCATION:Commissioners’ Chambers\, 12611 Ravenwood Drive\, Room B303\, Chardon\, OH\, 44024\, United States
END:VEVENT
BEGIN:VEVENT
DTSTART;TZID=America/New_York:20250529T123000
DTEND;TZID=America/New_York:20250529T123000
DTSTAMP:20260422T175015
CREATED:20250512T174839Z
LAST-MODIFIED:20250512T174839Z
UID:13352-1748521800-1748521800@bocc.geauga.oh.gov
SUMMARY:2026 Tax Budget Hearings
DESCRIPTION:2026 Tax Budget Hearings\, beginning at 12:30 p.m.
URL:https://bocc.geauga.oh.gov/event/2026-tax-budget-hearings-5/
LOCATION:OH
END:VEVENT
BEGIN:VEVENT
DTSTART;TZID=America/New_York:20250603T081500
DTEND;TZID=America/New_York:20250603T081500
DTSTAMP:20260422T175015
CREATED:20250512T175417Z
LAST-MODIFIED:20250512T175417Z
UID:13354-1748938500-1748938500@bocc.geauga.oh.gov
SUMMARY:2026 Tax Budget Hearing
DESCRIPTION:2026 Tax Budget Hearing\, 8:15 a.m.
URL:https://bocc.geauga.oh.gov/event/2026-tax-budget-hearing-2/
LOCATION:OH
END:VEVENT
BEGIN:VEVENT
DTSTART;TZID=America/New_York:20250603T090000
DTEND;TZID=America/New_York:20250603T090000
DTSTAMP:20260422T175015
CREATED:20250512T180429Z
LAST-MODIFIED:20250512T180429Z
UID:13360-1748941200-1748941200@bocc.geauga.oh.gov
SUMMARY:Investment Advisory Committee
DESCRIPTION:Investment Advisory Committee\, 9:00 a.m.
URL:https://bocc.geauga.oh.gov/event/investment-advisory-committee-9/
LOCATION:OH
END:VEVENT
BEGIN:VEVENT
DTSTART;TZID=America/New_York:20250603T093000
DTEND;TZID=America/New_York:20250603T093000
DTSTAMP:20260422T175015
CREATED:20250512T180600Z
LAST-MODIFIED:20250512T180600Z
UID:13362-1748943000-1748943000@bocc.geauga.oh.gov
SUMMARY:Commissioners' Meeting
DESCRIPTION:The Commissioners will hold session at 9:30 a.m.
URL:https://bocc.geauga.oh.gov/event/commissioners-meeting-71/
LOCATION:Commissioners’ Chambers\, 12611 Ravenwood Drive\, Room B303\, Chardon\, OH\, 44024\, United States
END:VEVENT
BEGIN:VEVENT
DTSTART;TZID=America/New_York:20250609T090000
DTEND;TZID=America/New_York:20250609T090000
DTSTAMP:20260422T175015
CREATED:20250602T193412Z
LAST-MODIFIED:20250602T193412Z
UID:13474-1749459600-1749459600@bocc.geauga.oh.gov
SUMMARY:Board of Revision
DESCRIPTION:Board of Revision\, 9:00 a.m. Auditor’s Office
URL:https://bocc.geauga.oh.gov/event/board-of-revision-44/
LOCATION:Auditor’s Office\, 231 Main St Suite 1A\, Chardon\, OH\, 44024\, United States
END:VEVENT
BEGIN:VEVENT
DTSTART;TZID=America/New_York:20250610T073000
DTEND;TZID=America/New_York:20250610T073000
DTSTAMP:20260422T175015
CREATED:20250609T182209Z
LAST-MODIFIED:20250609T182209Z
UID:13484-1749540600-1749540600@bocc.geauga.oh.gov
SUMMARY:Planning Commission Meeting
DESCRIPTION:Planning Commission\, 7:30 a.m. County Office Building\, Room A334
URL:https://bocc.geauga.oh.gov/event/planning-commission-meeting-8/
LOCATION:Geauga County Office Building\, 12611 Ravenwood Drive\, Chardon\, OH\, 44024\, United States
END:VEVENT
BEGIN:VEVENT
DTSTART;TZID=America/New_York:20250610T093000
DTEND;TZID=America/New_York:20250610T093000
DTSTAMP:20260422T175015
CREATED:20250528T180645Z
LAST-MODIFIED:20250609T182639Z
UID:13433-1749547800-1749547800@bocc.geauga.oh.gov
SUMMARY:Commissioners' Meeting
DESCRIPTION:The Commissioners will hold session at 9:30 a.m.
URL:https://bocc.geauga.oh.gov/event/commissioners-meeting-74/
LOCATION:Commissioners’ Chambers\, 12611 Ravenwood Drive\, Room B303\, Chardon\, OH\, 44024\, United States
END:VEVENT
BEGIN:VEVENT
DTSTART;TZID=America/New_York:20250611T090000
DTEND;TZID=America/New_York:20250611T090000
DTSTAMP:20260422T175015
CREATED:20250602T191745Z
LAST-MODIFIED:20250602T194443Z
UID:13461-1749632400-1749632400@bocc.geauga.oh.gov
SUMMARY:Board of Revision
DESCRIPTION:Board of Revision\, 9:00 a.m. Auditor’s Office
URL:https://bocc.geauga.oh.gov/event/board-of-revision-43/
LOCATION:Auditor’s Office\, 231 Main St Suite 1A\, Chardon\, OH\, 44024\, United States
END:VEVENT
BEGIN:VEVENT
DTSTART;TZID=America/New_York:20250613T100000
DTEND;TZID=America/New_York:20250613T140000
DTSTAMP:20260422T175015
CREATED:20250602T191911Z
LAST-MODIFIED:20250602T191911Z
UID:13463-1749808800-1749823200@bocc.geauga.oh.gov
SUMMARY:CCC/EAPA Meeting
DESCRIPTION:CCC/EAPA Meeting\, Geauga County\, 10:00 a.m. – 2:00 p.m.
URL:https://bocc.geauga.oh.gov/event/ccc-eapa-meeting/
LOCATION:OH
END:VEVENT
BEGIN:VEVENT
DTSTART;TZID=America/New_York:20250616T133000
DTEND;TZID=America/New_York:20250616T133000
DTSTAMP:20260422T175015
CREATED:20250602T192405Z
LAST-MODIFIED:20250602T193158Z
UID:13465-1750080600-1750080600@bocc.geauga.oh.gov
SUMMARY:Family First Council
DESCRIPTION:Family First Council\, 1:30 p.m. County Office Building\, First Floor
URL:https://bocc.geauga.oh.gov/event/family-first-council-25/
LOCATION:Geauga County Office Building\, 12611 Ravenwood Drive\, Chardon\, OH\, 44024\, United States
END:VEVENT
END:VCALENDAR