BEGIN:VCALENDAR
VERSION:2.0
PRODID:-//Geauga County Board of Commissioners - ECPv6.15.20//NONSGML v1.0//EN
CALSCALE:GREGORIAN
METHOD:PUBLISH
X-WR-CALNAME:Geauga County Board of Commissioners
X-ORIGINAL-URL:https://bocc.geauga.oh.gov
X-WR-CALDESC:Events for Geauga County Board of Commissioners
REFRESH-INTERVAL;VALUE=DURATION:PT1H
X-Robots-Tag:noindex
X-PUBLISHED-TTL:PT1H
BEGIN:VTIMEZONE
TZID:America/New_York
BEGIN:DAYLIGHT
TZOFFSETFROM:-0500
TZOFFSETTO:-0400
TZNAME:EDT
DTSTART:20220313T070000
END:DAYLIGHT
BEGIN:STANDARD
TZOFFSETFROM:-0400
TZOFFSETTO:-0500
TZNAME:EST
DTSTART:20221106T060000
END:STANDARD
BEGIN:DAYLIGHT
TZOFFSETFROM:-0500
TZOFFSETTO:-0400
TZNAME:EDT
DTSTART:20230312T070000
END:DAYLIGHT
BEGIN:STANDARD
TZOFFSETFROM:-0400
TZOFFSETTO:-0500
TZNAME:EST
DTSTART:20231105T060000
END:STANDARD
BEGIN:DAYLIGHT
TZOFFSETFROM:-0500
TZOFFSETTO:-0400
TZNAME:EDT
DTSTART:20240310T070000
END:DAYLIGHT
BEGIN:STANDARD
TZOFFSETFROM:-0400
TZOFFSETTO:-0500
TZNAME:EST
DTSTART:20241103T060000
END:STANDARD
END:VTIMEZONE
BEGIN:VEVENT
DTSTART;TZID=America/New_York:20231214T111500
DTEND;TZID=America/New_York:20231214T131500
DTSTAMP:20260423T182147
CREATED:20231129T203126Z
LAST-MODIFIED:20231129T203126Z
UID:10221-1702552500-1702559700@bocc.geauga.oh.gov
SUMMARY:Portage Geauga Juvenile Detention Center Meeting
DESCRIPTION:Portage Geauga Juvenile Detention Center Meeting\, 11:15 a.m. Portage County Offices
URL:https://bocc.geauga.oh.gov/event/portage-geauga-juvenile-detention-center-meeting-2/
LOCATION:OH
END:VEVENT
BEGIN:VEVENT
DTSTART;TZID=America/New_York:20231212T140000
DTEND;TZID=America/New_York:20231212T160000
DTSTAMP:20260423T182147
CREATED:20231211T182517Z
LAST-MODIFIED:20231211T182517Z
UID:10434-1702389600-1702396800@bocc.geauga.oh.gov
SUMMARY:ADP Regular Meeting
DESCRIPTION:ADP Regular Meeting\, 2:00 p.m. at Auditor’s Appraisal Conference Room
URL:https://bocc.geauga.oh.gov/event/adp-regular-meeting/
LOCATION:Auditor’s Appraisal Conference Room\, Chardon\, OH\, United States
END:VEVENT
BEGIN:VEVENT
DTSTART;TZID=America/New_York:20231212T120000
DTEND;TZID=America/New_York:20231212T130000
DTSTAMP:20260423T182147
CREATED:20231212T135844Z
LAST-MODIFIED:20231212T135844Z
UID:10481-1702382400-1702386000@bocc.geauga.oh.gov
SUMMARY:Commissioners' Special Session
DESCRIPTION:The Commissioners will hold a special session at 12:00 p.m. (Noon) for a Ground-Breaking \nCeremony for the Geauga County Courthouse Expansion Project to be held at the Northeast \nCorner of the existing Courthouse\, 100 Short Court Street\, Chardon
URL:https://bocc.geauga.oh.gov/event/commissioners-special-session/
LOCATION:OH
END:VEVENT
BEGIN:VEVENT
DTSTART;TZID=America/New_York:20231212T093000
DTEND;TZID=America/New_York:20231212T103000
DTSTAMP:20260423T182147
CREATED:20231017T141851Z
LAST-MODIFIED:20231017T141851Z
UID:9876-1702373400-1702377000@bocc.geauga.oh.gov
SUMMARY:Commissioners’ meetings
DESCRIPTION:
URL:https://bocc.geauga.oh.gov/event/commissioners-meetings-9/
LOCATION:Commissioners’ Chambers\, 12611 Ravenwood Drive\, Room B303\, Chardon\, OH\, 44024\, United States
CATEGORIES:Commissioners' Meetings,Meetings
END:VEVENT
BEGIN:VEVENT
DTSTART;TZID=America/New_York:20231206T080000
DTEND;TZID=America/New_York:20231208T170000
DTSTAMP:20260423T182147
CREATED:20231129T193734Z
LAST-MODIFIED:20231129T193734Z
UID:10217-1701849600-1702054800@bocc.geauga.oh.gov
SUMMARY:CCAO Winter Conference
DESCRIPTION:CCAO Winter Conference\, Columbus\, Ohio
URL:https://bocc.geauga.oh.gov/event/ccao-winter-conference-3/
LOCATION:OH
END:VEVENT
BEGIN:VEVENT
DTSTART;TZID=America/New_York:20231205T093000
DTEND;TZID=America/New_York:20231205T103000
DTSTAMP:20260423T182147
CREATED:20231017T141808Z
LAST-MODIFIED:20231017T141808Z
UID:9874-1701768600-1701772200@bocc.geauga.oh.gov
SUMMARY:Commissioners’ meetings
DESCRIPTION:
URL:https://bocc.geauga.oh.gov/event/commissioners-meetings-8/
LOCATION:Commissioners’ Chambers\, 12611 Ravenwood Drive\, Room B303\, Chardon\, OH\, 44024\, United States
CATEGORIES:Commissioners' Meetings,Meetings
END:VEVENT
BEGIN:VEVENT
DTSTART;TZID=America/New_York:20231205T091500
DTEND;TZID=America/New_York:20231205T230000
DTSTAMP:20260423T182147
CREATED:20231129T193623Z
LAST-MODIFIED:20231129T193623Z
UID:10215-1701767700-1701817200@bocc.geauga.oh.gov
SUMMARY:Investment Advisory Board
DESCRIPTION:Investment Advisory Board\, 9:15 a.m. 12611 Ravenwood Drive\, Room B303\, Chardon
URL:https://bocc.geauga.oh.gov/event/investment-advisory-board-2/
LOCATION:Geauga County Office Building\, 12611 Ravenwood Drive\, Chardon\, OH\, 44024\, United States
END:VEVENT
BEGIN:VEVENT
DTSTART;TZID=America/New_York:20231201T090000
DTEND;TZID=America/New_York:20231201T230000
DTSTAMP:20260423T182147
CREATED:20231129T193410Z
LAST-MODIFIED:20231129T193410Z
UID:10213-1701421200-1701471600@bocc.geauga.oh.gov
SUMMARY:NOACA Board of Directors
DESCRIPTION:NOACA Board of Directors\, 9:00 a.m. Cleveland
URL:https://bocc.geauga.oh.gov/event/noaca-board-of-directors-4/
LOCATION:OH
END:VEVENT
BEGIN:VEVENT
DTSTART;TZID=America/New_York:20231130T090000
DTEND;TZID=America/New_York:20231130T163000
DTSTAMP:20260423T182147
CREATED:20231113T192541Z
LAST-MODIFIED:20231113T192541Z
UID:10110-1701334800-1701361800@bocc.geauga.oh.gov
SUMMARY:Board of Revision
DESCRIPTION:Board of Revision\, Abstract and General Business\, 9:00 a.m. Auditor’s Appraisal Room
URL:https://bocc.geauga.oh.gov/event/board-of-revision-25/
LOCATION:Auditor’s Office\, 231 Main St Suite 1A\, Chardon\, OH\, 44024\, United States
END:VEVENT
BEGIN:VEVENT
DTSTART;TZID=America/New_York:20231128T093000
DTEND;TZID=America/New_York:20231128T103000
DTSTAMP:20260423T182147
CREATED:20231017T141731Z
LAST-MODIFIED:20231017T141731Z
UID:9872-1701163800-1701167400@bocc.geauga.oh.gov
SUMMARY:Commissioners’ meetings
DESCRIPTION:
URL:https://bocc.geauga.oh.gov/event/commissioners-meetings-7/
LOCATION:Commissioners’ Chambers\, 12611 Ravenwood Drive\, Room B303\, Chardon\, OH\, 44024\, United States
CATEGORIES:Commissioners' Meetings,Meetings
END:VEVENT
BEGIN:VEVENT
DTSTART;VALUE=DATE:20231124
DTEND;VALUE=DATE:20231125
DTSTAMP:20260423T182147
CREATED:20231031T145627Z
LAST-MODIFIED:20231031T145627Z
UID:9997-1700784000-1700870399@bocc.geauga.oh.gov
SUMMARY:Commissioners' Offices Closed
DESCRIPTION:County offices under the hiring authority of the Board of Commissioners will be closed for general business. Twenty-four hour operations will continue to operate as usual.
URL:https://bocc.geauga.oh.gov/event/commissioners-offices-closed/
LOCATION:OH
END:VEVENT
BEGIN:VEVENT
DTSTART;VALUE=DATE:20231123
DTEND;VALUE=DATE:20231124
DTSTAMP:20260423T182147
CREATED:20231031T123324Z
LAST-MODIFIED:20231031T123635Z
UID:9991-1700697600-1700783999@bocc.geauga.oh.gov
SUMMARY:County Offices Closed
DESCRIPTION:County Offices will be closed for general business in observance of Thanksgiving Day.   \nTwenty-four hour operations will continue to operate as normal.
URL:https://bocc.geauga.oh.gov/event/thanksgiving-day/
LOCATION:OH
END:VEVENT
BEGIN:VEVENT
DTSTART;TZID=America/New_York:20231121T093000
DTEND;TZID=America/New_York:20231121T103000
DTSTAMP:20260423T182147
CREATED:20231017T141701Z
LAST-MODIFIED:20231017T141701Z
UID:9870-1700559000-1700562600@bocc.geauga.oh.gov
SUMMARY:Commissioners’ meetings
DESCRIPTION:
URL:https://bocc.geauga.oh.gov/event/commissioners-meetings-6/
LOCATION:Commissioners’ Chambers\, 12611 Ravenwood Drive\, Room B303\, Chardon\, OH\, 44024\, United States
CATEGORIES:Commissioners' Meetings,Meetings
END:VEVENT
BEGIN:VEVENT
DTSTART;TZID=America/New_York:20231117T100000
DTEND;TZID=America/New_York:20231117T120000
DTSTAMP:20260423T182147
CREATED:20231115T151848Z
LAST-MODIFIED:20231116T165634Z
UID:10131-1700215200-1700222400@bocc.geauga.oh.gov
SUMMARY:Special Meeting
DESCRIPTION:November 16\, 2023 \nNotice of Special Meeting \nThe Geauga County Board of Commissioners will hold a special meeting on Friday\, November 17\, 2023\, at 10:00 a.m. for the purpose of holding a Statutory Group Meeting with the Sheriff\, Judge of the Common Pleas Court\, the Judge of the Probate Court and Clerk of Courts\, pursuant to O.R.C. 153.36\, for the review and\, if appropriate\, approval by a majority of the Statutory Group of the current plans\, drawings\, representations\, bills of material\, specifications of work and estimates of the cost thereof in detail and in the aggregate for the proposed Geauga County Courthouse Addition. This meeting will be held at Commissioners’ Offices at 12611 Ravenwood Drive\, Room B303\, Chardon\, Ohio. \nChristine Blair\, Commissioners’ Clerk \n\n\nNovember 14\, 2023 \nGerald Morgan\, County Administrator\nGeauga County Commissioners Office\n470 Center Street\, Building #4\n12611 Ravenwood Dr.\, Suite 350\nChardon\, OH 44024 \nDear Mr. Morgan: \nPlease be advised that during session on November 14\, 2023\, the Board of County Commissioners took the following action: \n\n\n\nMotion:\nby Commissioner Lennon\, seconded by Commissioner Dvorak to schedule a Special Meeting on Friday\, November 17\, 2023 at 10:00 a.m. to be held in the Commissioners Meeting Room\, located at 12611 Ravenwood Drive\, Room B303 for the purpose of holding a Statutory Group Meeting pursuant to OR. C. 153.36 for the review and approval of plans\, drawings\, representations\, bills of material\, specifications of work and estimates of the cost thereof in detail and in the aggregate for the proposed Geauga County Courthouse Addition. \n\n\n\n\n\n\n\nRoll Call Vote:\nCommissioner Lennon\nCommissioner Dvorak\nCommissioner Spidalieri\nAye\nAye\nAye \n\n\n\n\n\n\n\n\nVery truly yours\, \n  \nChrisine Blair\nCommissioners’ Clerk \n\n\n\nc:\nMedia\nAgenda Distribution List
URL:https://bocc.geauga.oh.gov/event/special-meeting/
LOCATION:Commissioners’ Chambers\, 12611 Ravenwood Drive\, Room B303\, Chardon\, OH\, 44024\, United States
END:VEVENT
BEGIN:VEVENT
DTSTART;TZID=America/New_York:20231114T140000
DTEND;TZID=America/New_York:20231114T160000
DTSTAMP:20260423T182147
CREATED:20231025T182814Z
LAST-MODIFIED:20231106T193423Z
UID:9936-1699970400-1699977600@bocc.geauga.oh.gov
SUMMARY:Geauga Trumbull Solid Waste
DESCRIPTION:Geauga Trumbull Solid Waste Management District meeting\, 2:00 p.m. Warren\, District Office
URL:https://bocc.geauga.oh.gov/event/geauga-trumbull-solid-waste/
LOCATION:Geauga-Trumbull Solid Waste Management District\, Warren\, District Office\, 5138 Enterprise Dr NW\, Warren\, OH\, 44481\, United States
END:VEVENT
BEGIN:VEVENT
DTSTART;TZID=America/New_York:20231114T093000
DTEND;TZID=America/New_York:20231114T103000
DTSTAMP:20260423T182147
CREATED:20231017T141627Z
LAST-MODIFIED:20231017T141627Z
UID:9868-1699954200-1699957800@bocc.geauga.oh.gov
SUMMARY:Commissioners’ meetings
DESCRIPTION:
URL:https://bocc.geauga.oh.gov/event/commissioners-meetings-5/
LOCATION:OH
CATEGORIES:Commissioners' Meetings,Meetings
END:VEVENT
BEGIN:VEVENT
DTSTART;VALUE=DATE:20231111
DTEND;VALUE=DATE:20231112
DTSTAMP:20260423T182147
CREATED:20231106T193217Z
LAST-MODIFIED:20231106T193217Z
UID:10058-1699660800-1699747199@bocc.geauga.oh.gov
SUMMARY:Veterans' Day
DESCRIPTION:
URL:https://bocc.geauga.oh.gov/event/veterans-day-2/
LOCATION:OH
END:VEVENT
BEGIN:VEVENT
DTSTART;VALUE=DATE:20231110
DTEND;VALUE=DATE:20231111
DTSTAMP:20260423T182147
CREATED:20231025T182204Z
LAST-MODIFIED:20231030T183052Z
UID:9931-1699574400-1699660799@bocc.geauga.oh.gov
SUMMARY:County Offices Closed
DESCRIPTION:County Offices are Closed in observance of Veterans’ Day.  Twenty-four hour operations will continue to operate as normal.
URL:https://bocc.geauga.oh.gov/event/veterans-day/
LOCATION:OH
END:VEVENT
BEGIN:VEVENT
DTSTART;TZID=America/New_York:20231108T183000
DTEND;TZID=America/New_York:20231108T183000
DTSTAMP:20260423T182147
CREATED:20231025T181847Z
LAST-MODIFIED:20231025T181847Z
UID:9929-1699468200-1699468200@bocc.geauga.oh.gov
SUMMARY:County Township Association Dinner meeting
DESCRIPTION:County Township Association Dinner meeting\, 6:30 p.m. Montville Community Center
URL:https://bocc.geauga.oh.gov/event/county-township-association-dinner-meeting/
LOCATION:OH
END:VEVENT
BEGIN:VEVENT
DTSTART;TZID=America/New_York:20231107T093000
DTEND;TZID=America/New_York:20231107T120000
DTSTAMP:20260423T182147
CREATED:20231012T140857Z
LAST-MODIFIED:20231012T140857Z
UID:9812-1699349400-1699358400@bocc.geauga.oh.gov
SUMMARY:Regular Session
DESCRIPTION:The Commissioners will hold regular session at 9:30 a.m.
URL:https://bocc.geauga.oh.gov/event/regular-session-68/
LOCATION:Commissioners’ Chambers\, 12611 Ravenwood Drive\, Room B303\, Chardon\, OH\, 44024\, United States
END:VEVENT
BEGIN:VEVENT
DTSTART;TZID=America/New_York:20231107T093000
DTEND;TZID=America/New_York:20231107T103000
DTSTAMP:20260423T182147
CREATED:20231017T141420Z
LAST-MODIFIED:20231017T141535Z
UID:9866-1699349400-1699353000@bocc.geauga.oh.gov
SUMMARY:Commissioners’ meetings
DESCRIPTION:
URL:https://bocc.geauga.oh.gov/event/commissioners-meetings-4/
LOCATION:Commissioners’ Chambers\, 12611 Ravenwood Drive\, Room B303\, Chardon\, OH\, 44024\, United States
CATEGORIES:Commissioners' Meetings,Meetings
END:VEVENT
BEGIN:VEVENT
DTSTART;TZID=America/New_York:20231031T093000
DTEND;TZID=America/New_York:20231031T120000
DTSTAMP:20260423T182147
CREATED:20231012T140745Z
LAST-MODIFIED:20231012T140745Z
UID:9810-1698744600-1698753600@bocc.geauga.oh.gov
SUMMARY:Regular Session
DESCRIPTION:The Commissioners will hold regular session at 9:30 a.m.
URL:https://bocc.geauga.oh.gov/event/regular-session-67/
LOCATION:Commissioners’ Chambers\, 12611 Ravenwood Drive\, Room B303\, Chardon\, OH\, 44024\, United States
END:VEVENT
BEGIN:VEVENT
DTSTART;TZID=America/New_York:20231031T093000
DTEND;TZID=America/New_York:20231031T103000
DTSTAMP:20260423T182147
CREATED:20231017T141235Z
LAST-MODIFIED:20231017T141315Z
UID:9864-1698744600-1698748200@bocc.geauga.oh.gov
SUMMARY:Commissioners’ meetings
DESCRIPTION:
URL:https://bocc.geauga.oh.gov/event/commissioners-meetings-3/
LOCATION:Commissioners’ Chambers\, 12611 Ravenwood Drive\, Room B303\, Chardon\, OH\, 44024\, United States
CATEGORIES:Commissioners' Meetings,Meetings
END:VEVENT
BEGIN:VEVENT
DTSTART;TZID=America/New_York:20231024T093000
DTEND;TZID=America/New_York:20231024T120000
DTSTAMP:20260423T182147
CREATED:20231012T140627Z
LAST-MODIFIED:20231012T140627Z
UID:9808-1698139800-1698148800@bocc.geauga.oh.gov
SUMMARY:Regular Session
DESCRIPTION:The Commissioners will hold regular session at 9:30 a.m.
URL:https://bocc.geauga.oh.gov/event/regular-session-66/
LOCATION:Commissioners’ Chambers\, 12611 Ravenwood Drive\, Room B303\, Chardon\, OH\, 44024\, United States
END:VEVENT
BEGIN:VEVENT
DTSTART;TZID=America/New_York:20231024T093000
DTEND;TZID=America/New_York:20231024T103000
DTSTAMP:20260423T182147
CREATED:20231017T141154Z
LAST-MODIFIED:20231017T141327Z
UID:9836-1698139800-1698143400@bocc.geauga.oh.gov
SUMMARY:Commissioners’ meetings
DESCRIPTION:
URL:https://bocc.geauga.oh.gov/event/commissioners-meetings-2/
LOCATION:Commissioners’ Chambers\, 12611 Ravenwood Drive\, Room B303\, Chardon\, OH\, 44024\, United States
CATEGORIES:Commissioners' Meetings,Meetings
END:VEVENT
BEGIN:VEVENT
DTSTART;TZID=America/New_York:20231023T090000
DTEND;TZID=America/New_York:20231023T103000
DTSTAMP:20260423T182147
CREATED:20231012T140504Z
LAST-MODIFIED:20231012T140504Z
UID:9806-1698051600-1698057000@bocc.geauga.oh.gov
SUMMARY:Board of Revision
DESCRIPTION:Board of Revision\, 9:00 a.m. Auditor’s Office
URL:https://bocc.geauga.oh.gov/event/board-of-revision-24/
LOCATION:Auditor’s Office\, 231 Main St Suite 1A\, Chardon\, OH\, 44024\, United States
END:VEVENT
BEGIN:VEVENT
DTSTART;TZID=America/New_York:20231019T113000
DTEND;TZID=America/New_York:20231019T130000
DTSTAMP:20260423T182147
CREATED:20231016T164538Z
LAST-MODIFIED:20231016T164753Z
UID:9830-1697715000-1697720400@bocc.geauga.oh.gov
SUMMARY:Portage-Geauga Joint Board of Commissioners Detention Center Meeting
DESCRIPTION:The Portage-Geauga Joint Board of Commissioners will convene a special quarterly meeting on Thursday\, October 19th at 11:15 AM at the Portage County Board of Commissioners’ Office\, 449 South Meridian Street\, Ravenna\, Ohio 44266 for the purpose of conducting regular business.  Please direct any questions to the Portage County Board of Commissioners’ Office at (330) 297-3600 \n  \nBy Order of the Portage-Geauga Joint Board of Commissioners
URL:https://bocc.geauga.oh.gov/event/portage-geauga-joint-board-of-commissioners-meeting/
LOCATION:OH
END:VEVENT
BEGIN:VEVENT
DTSTART;TZID=America/New_York:20231017T093000
DTEND;TZID=America/New_York:20231017T113000
DTSTAMP:20260423T182147
CREATED:20231002T201728Z
LAST-MODIFIED:20231002T202710Z
UID:9743-1697535000-1697542200@bocc.geauga.oh.gov
SUMMARY:Regular Session
DESCRIPTION:Tue.\,    10/17   The Commissioners will hold regular session at 9:30 a.m.
URL:https://bocc.geauga.oh.gov/event/regular-session-65/
LOCATION:Commissioners’ Chambers\, 12611 Ravenwood Drive\, Room B303\, Chardon\, OH\, 44024\, United States
END:VEVENT
BEGIN:VEVENT
DTSTART;TZID=America/New_York:20231017T093000
DTEND;TZID=America/New_York:20231017T100000
DTSTAMP:20260423T182147
CREATED:20231014T100033Z
LAST-MODIFIED:20231017T141339Z
UID:9860-1697535000-1697536800@bocc.geauga.oh.gov
SUMMARY:Commissioners’ meetings
DESCRIPTION:
URL:https://bocc.geauga.oh.gov/event/commissioners-meetings/
LOCATION:Commissioners’ Chambers\, 12611 Ravenwood Drive\, Room B303\, Chardon\, OH\, 44024\, United States
CATEGORIES:Commissioners' Meetings,Meetings
END:VEVENT
BEGIN:VEVENT
DTSTART;TZID=America/New_York:20231017T030000
DTEND;TZID=America/New_York:20231017T173000
DTSTAMP:20260423T182147
CREATED:20231017T142306Z
LAST-MODIFIED:20231017T142711Z
UID:9882-1697511600-1697563800@bocc.geauga.oh.gov
SUMMARY:Revolving Loan Fund Seminar
DESCRIPTION:12611 Ravenwood Dr. Third Floor Conference rooms.
URL:https://bocc.geauga.oh.gov/event/revolving-loan-fund-seminar/
LOCATION:OH
CATEGORIES:Meetings
END:VEVENT
END:VCALENDAR