BEGIN:VCALENDAR
VERSION:2.0
PRODID:-//Geauga County Board of Commissioners - ECPv6.15.20//NONSGML v1.0//EN
CALSCALE:GREGORIAN
METHOD:PUBLISH
X-WR-CALNAME:Geauga County Board of Commissioners
X-ORIGINAL-URL:https://bocc.geauga.oh.gov
X-WR-CALDESC:Events for Geauga County Board of Commissioners
REFRESH-INTERVAL;VALUE=DURATION:PT1H
X-Robots-Tag:noindex
X-PUBLISHED-TTL:PT1H
BEGIN:VTIMEZONE
TZID:America/New_York
BEGIN:DAYLIGHT
TZOFFSETFROM:-0500
TZOFFSETTO:-0400
TZNAME:EDT
DTSTART:20210314T070000
END:DAYLIGHT
BEGIN:STANDARD
TZOFFSETFROM:-0400
TZOFFSETTO:-0500
TZNAME:EST
DTSTART:20211107T060000
END:STANDARD
BEGIN:DAYLIGHT
TZOFFSETFROM:-0500
TZOFFSETTO:-0400
TZNAME:EDT
DTSTART:20220313T070000
END:DAYLIGHT
BEGIN:STANDARD
TZOFFSETFROM:-0400
TZOFFSETTO:-0500
TZNAME:EST
DTSTART:20221106T060000
END:STANDARD
BEGIN:DAYLIGHT
TZOFFSETFROM:-0500
TZOFFSETTO:-0400
TZNAME:EDT
DTSTART:20230312T070000
END:DAYLIGHT
BEGIN:STANDARD
TZOFFSETFROM:-0400
TZOFFSETTO:-0500
TZNAME:EST
DTSTART:20231105T060000
END:STANDARD
END:VTIMEZONE
BEGIN:VEVENT
DTSTART;TZID=America/New_York:20220628T093000
DTEND;TZID=America/New_York:20220628T100000
DTSTAMP:20260425T074141
CREATED:20220606T180009Z
LAST-MODIFIED:20220616T123955Z
UID:6306-1656408600-1656410400@bocc.geauga.oh.gov
SUMMARY:Regular Session
DESCRIPTION:Commissioners will hold regular session at 9:30 a.m.
URL:https://bocc.geauga.oh.gov/event/regula-session/
LOCATION:OH
END:VEVENT
BEGIN:VEVENT
DTSTART;TZID=America/New_York:20220627T133000
DTEND;TZID=America/New_York:20220627T133000
DTSTAMP:20260425T074141
CREATED:20220606T175840Z
LAST-MODIFIED:20220606T175855Z
UID:6304-1656336600-1656336600@bocc.geauga.oh.gov
SUMMARY:Family First Council
DESCRIPTION:Family First Council\, 1:30 p.m.\, Mental Health Offices
URL:https://bocc.geauga.oh.gov/event/family-first-council/
LOCATION:Board of Mental Health and Recovery Services\, 13244 Ravenna Rd\, Chardon\, OH\, 44024\, United States
END:VEVENT
BEGIN:VEVENT
DTSTART;TZID=America/New_York:20220627T090000
DTEND;TZID=America/New_York:20220627T110000
DTSTAMP:20260425T074141
CREATED:20220606T175701Z
LAST-MODIFIED:20220606T181621Z
UID:6302-1656320400-1656327600@bocc.geauga.oh.gov
SUMMARY:Board of Revision
DESCRIPTION:Board of Revision\, 9:00 a.m.\, Auditor’s Appraisal Conference Room
URL:https://bocc.geauga.oh.gov/event/board-of-revision-2/
LOCATION:Auditor’s Office\, 231 Main St Suite 1A\, Chardon\, OH\, 44024\, United States
END:VEVENT
BEGIN:VEVENT
DTSTART;TZID=America/New_York:20220624T020000
DTEND;TZID=America/New_York:20220624T143000
DTSTAMP:20260425T074141
CREATED:20220623T130800Z
LAST-MODIFIED:20220624T164007Z
UID:6369-1656036000-1656081000@bocc.geauga.oh.gov
SUMMARY:Notice of Special Meeting
DESCRIPTION:The Geauga County Board of Commissioners will hold a special meeting on Friday\, June 24\, 2022 at 2:00 p.m. for the purpose of a Ribbon Cutting Ceremony of the New County Office Building.  The special meeting will be conducted outside the front entrance at the new Geauga County Office Building\, located at 12611 Ravenwood Drive\, Chardon\, Ohio. \nChristine Blair\, Commissioners’ Clerk
URL:https://bocc.geauga.oh.gov/event/special-meeting-ribbon-cutting-ceremony/
LOCATION:Geauga County Office Building\, 12611 Ravenwood Drive\, Chardon\, OH\, 44024\, United States
END:VEVENT
BEGIN:VEVENT
DTSTART;TZID=America/New_York:20220623T093000
DTEND;TZID=America/New_York:20220623T113000
DTSTAMP:20260425T074141
CREATED:20220606T175534Z
LAST-MODIFIED:20220606T175534Z
UID:6300-1655976600-1655983800@bocc.geauga.oh.gov
SUMMARY:Regular Session
DESCRIPTION:The Commissioners will hold regular session at 9:30 a.m.
URL:https://bocc.geauga.oh.gov/event/regular-session-2/
LOCATION:OH
END:VEVENT
BEGIN:VEVENT
DTSTART;VALUE=DATE:20220620
DTEND;VALUE=DATE:20220621
DTSTAMP:20260425T074141
CREATED:20220606T175415Z
LAST-MODIFIED:20220606T182250Z
UID:6298-1655683200-1655769599@bocc.geauga.oh.gov
SUMMARY:County Offices Closed
DESCRIPTION:County Offices will be closed in observance of the June 19th holiday.  Twenty-four hour operations will continue to operate as normal.
URL:https://bocc.geauga.oh.gov/event/county-offices-closed-3/
LOCATION:OH
END:VEVENT
BEGIN:VEVENT
DTSTART;TZID=America/New_York:20220617T100000
DTEND;TZID=America/New_York:20220617T120000
DTSTAMP:20260425T074141
CREATED:20220615T121817Z
LAST-MODIFIED:20220615T123218Z
UID:6341-1655460000-1655467200@bocc.geauga.oh.gov
SUMMARY:NOTICE OF SPECIAL MEETING
DESCRIPTION:June 14\, 2022 \nNOTICE OF SPECIAL MEETING \nThe Geauga County Board of Commissioners will hold a special meeting on Friday\, June 17\, 2022 at 10:00 a.m. for the purpose of discussing the employment of a public employee at the Department of Water Resources. The special meeting will be conducted in Commissioners’ Chambers\, 470 Center Street\, Building #4\, Chardon\, Ohio. \nChristine Blair\, Commissioners’ Clerk
URL:https://bocc.geauga.oh.gov/event/notice-of-special-meeting/
LOCATION:OH
END:VEVENT
BEGIN:VEVENT
DTSTART;VALUE=DATE:20220617
DTEND;VALUE=DATE:20220618
DTSTAMP:20260425T074141
CREATED:20220606T181415Z
LAST-MODIFIED:20220606T181415Z
UID:6312-1655424000-1655510399@bocc.geauga.oh.gov
SUMMARY:NOACA Subcommittee Meetings
DESCRIPTION:NOACA Subcommittee meetings\, Cleveland
URL:https://bocc.geauga.oh.gov/event/noaca-subcommittee-meetings-2/
LOCATION:OH
END:VEVENT
BEGIN:VEVENT
DTSTART;TZID=America/New_York:20220614T093000
DTEND;TZID=America/New_York:20220614T113000
DTSTAMP:20260425T074141
CREATED:20220606T175252Z
LAST-MODIFIED:20220606T175252Z
UID:6296-1655199000-1655206200@bocc.geauga.oh.gov
SUMMARY:Regular Session
DESCRIPTION:The Commissioners will hold regular session at 9:30 a.m.
URL:https://bocc.geauga.oh.gov/event/regular-session/
LOCATION:OH
END:VEVENT
BEGIN:VEVENT
DTSTART;TZID=America/New_York:20220614T090000
DTEND;TZID=America/New_York:20220614T093000
DTSTAMP:20260425T074141
CREATED:20220606T180719Z
LAST-MODIFIED:20220606T181049Z
UID:6310-1655197200-1655199000@bocc.geauga.oh.gov
SUMMARY:Investment Advisory Committee
DESCRIPTION:Investment Advisory Committee\, 9:00 a.m.\, Chambers
URL:https://bocc.geauga.oh.gov/event/investment-advisory-committee/
LOCATION:OH
END:VEVENT
BEGIN:VEVENT
DTSTART;TZID=America/New_York:20220610T100000
DTEND;TZID=America/New_York:20220610T113000
DTSTAMP:20260425T074141
CREATED:20220516T203012Z
LAST-MODIFIED:20220516T203012Z
UID:6266-1654855200-1654860600@bocc.geauga.oh.gov
SUMMARY:Ribbon Cutting / Grand Opening of new Geauga County Facility
DESCRIPTION:
URL:https://bocc.geauga.oh.gov/event/ribbon-cutting-grand-opening-of-new-geauga-county-facility-june-10-2022/
LOCATION:Geauga Trumbull Solid Waste Management District\, 12685 Merritt Road\, Chardon\, OH\, 44024\, United States
END:VEVENT
BEGIN:VEVENT
DTSTART;TZID=America/New_York:20220610T090000
DTEND;TZID=America/New_York:20220610T100000
DTSTAMP:20260425T074141
CREATED:20220516T202630Z
LAST-MODIFIED:20220516T202630Z
UID:6262-1654851600-1654855200@bocc.geauga.oh.gov
SUMMARY:NOACA Board of Directors Meeting
DESCRIPTION:
URL:https://bocc.geauga.oh.gov/event/noaca-board-of-directors-meeting-june-10-2022/
LOCATION:NOACA Offices\, 1299 Superior Avenue\, Cleveland\, OH\, 44114\, United States
END:VEVENT
BEGIN:VEVENT
DTSTART;TZID=America/New_York:20220608T140000
DTEND;TZID=America/New_York:20220608T141500
DTSTAMP:20260425T074141
CREATED:20220609T122806Z
LAST-MODIFIED:20220609T122806Z
UID:6337-1654696800-1654697700@bocc.geauga.oh.gov
SUMMARY:Bid Opening
DESCRIPTION:Department on Aging – Paratransit Van
URL:https://bocc.geauga.oh.gov/event/bid-opening-3/
LOCATION:OH
END:VEVENT
BEGIN:VEVENT
DTSTART;TZID=America/New_York:20220607T100000
DTEND;TZID=America/New_York:20220607T113000
DTSTAMP:20260425T074141
CREATED:20220516T202459Z
LAST-MODIFIED:20220516T202459Z
UID:6260-1654596000-1654601400@bocc.geauga.oh.gov
SUMMARY:Weekly Session - Public Hearing #2
DESCRIPTION:Proposed changes to the Permit Fee Schedule.
URL:https://bocc.geauga.oh.gov/event/weekly-session-public-hearing-june-7-2022/
LOCATION:Department of Development\, 470 Center St.\, Bldg. 8-A\, Chardon\, OH\, 44024\, United States
END:VEVENT
BEGIN:VEVENT
DTSTART;TZID=America/New_York:20220607T093000
DTEND;TZID=America/New_York:20220607T100000
DTSTAMP:20260425T074141
CREATED:20220516T202126Z
LAST-MODIFIED:20220516T202223Z
UID:6256-1654594200-1654596000@bocc.geauga.oh.gov
SUMMARY:Weekly Session
DESCRIPTION:
URL:https://bocc.geauga.oh.gov/event/weekly-session-june-7-2022/
LOCATION:OH
END:VEVENT
BEGIN:VEVENT
DTSTART;TZID=America/New_York:20220606T090000
DTEND;TZID=America/New_York:20220606T113000
DTSTAMP:20260425T074141
CREATED:20220516T201951Z
LAST-MODIFIED:20220516T201951Z
UID:6254-1654506000-1654515000@bocc.geauga.oh.gov
SUMMARY:Board of Revision – Auditor’s Office
DESCRIPTION:
URL:https://bocc.geauga.oh.gov/event/board-of-revision-auditors-office-june-6-2022/
LOCATION:Auditor’s Office\, 231 Main St Suite 1A\, Chardon\, OH\, 44024\, United States
END:VEVENT
BEGIN:VEVENT
DTSTART;TZID=America/New_York:20220602T093000
DTEND;TZID=America/New_York:20220602T113000
DTSTAMP:20260425T074141
CREATED:20220510T121143Z
LAST-MODIFIED:20220516T202053Z
UID:6240-1654162200-1654169400@bocc.geauga.oh.gov
SUMMARY:Weekly Session
DESCRIPTION:
URL:https://bocc.geauga.oh.gov/event/weekly-session-june-2-2022/
LOCATION:OH
END:VEVENT
BEGIN:VEVENT
DTSTART;VALUE=DATE:20220530
DTEND;VALUE=DATE:20220531
DTSTAMP:20260425T074141
CREATED:20220510T120940Z
LAST-MODIFIED:20220510T120940Z
UID:6238-1653868800-1653955199@bocc.geauga.oh.gov
SUMMARY:County Offices Closed
DESCRIPTION:The County Offices will be closed in honor of Memorial Day.  Twenty-four hour operations will continue to operate as usual.
URL:https://bocc.geauga.oh.gov/event/county-offices-closed-2/
LOCATION:OH
END:VEVENT
BEGIN:VEVENT
DTSTART;TZID=America/New_York:20220524T093000
DTEND;TZID=America/New_York:20220524T113000
DTSTAMP:20260425T074141
CREATED:20220510T120808Z
LAST-MODIFIED:20220510T120808Z
UID:6236-1653384600-1653391800@bocc.geauga.oh.gov
SUMMARY:Weekly Session
DESCRIPTION:
URL:https://bocc.geauga.oh.gov/event/weekly-session/
LOCATION:OH
END:VEVENT
BEGIN:VEVENT
DTSTART;TZID=America/New_York:20220523T090000
DTEND;TZID=America/New_York:20220523T100000
DTSTAMP:20260425T074141
CREATED:20220510T112808Z
LAST-MODIFIED:20220510T112807Z
UID:6232-1653296400-1653300000@bocc.geauga.oh.gov
SUMMARY:Board of Revision – Auditor’s Office
DESCRIPTION:
URL:https://bocc.geauga.oh.gov/event/board-of-revision-auditors-office-may-23-2022/
LOCATION:Auditor’s Office\, 231 Main St Suite 1A\, Chardon\, OH\, 44024\, United States
END:VEVENT
BEGIN:VEVENT
DTSTART;TZID=America/New_York:20220517T093000
DTEND;TZID=America/New_York:20220517T113000
DTSTAMP:20260425T074141
CREATED:20220425T184425Z
LAST-MODIFIED:20220425T184425Z
UID:6207-1652779800-1652787000@bocc.geauga.oh.gov
SUMMARY:Weekly Session
DESCRIPTION:
URL:https://bocc.geauga.oh.gov/event/weekly-session-may-17-2022/
LOCATION:OH
END:VEVENT
BEGIN:VEVENT
DTSTART;TZID=America/New_York:20220516T133000
DTEND;TZID=America/New_York:20220516T143000
DTSTAMP:20260425T074141
CREATED:20220425T183937Z
LAST-MODIFIED:20220425T184046Z
UID:6205-1652707800-1652711400@bocc.geauga.oh.gov
SUMMARY:Family First Council
DESCRIPTION:
URL:https://bocc.geauga.oh.gov/event/family-first-council-may-16-2022/
LOCATION:Board of Mental Health and Recovery Services\, 13244 Ravenna Rd\, Chardon\, OH\, 44024\, United States
END:VEVENT
BEGIN:VEVENT
DTSTART;TZID=America/New_York:20220513T110000
DTEND;TZID=America/New_York:20220513T120000
DTSTAMP:20260425T074141
CREATED:20220425T183609Z
LAST-MODIFIED:20220425T183609Z
UID:6203-1652439600-1652443200@bocc.geauga.oh.gov
SUMMARY:NOACA Executive
DESCRIPTION:
URL:https://bocc.geauga.oh.gov/event/noaca-executive-may-13-2022/
LOCATION:NOACA Offices\, 1299 Superior Avenue\, Cleveland\, OH\, 44114\, United States
END:VEVENT
BEGIN:VEVENT
DTSTART;TZID=America/New_York:20220513T100000
DTEND;TZID=America/New_York:20220513T110000
DTSTAMP:20260425T074141
CREATED:20220425T183453Z
LAST-MODIFIED:20220425T183517Z
UID:6199-1652436000-1652439600@bocc.geauga.oh.gov
SUMMARY:NOACA Governance
DESCRIPTION:
URL:https://bocc.geauga.oh.gov/event/noaca-governance-may-13-2022/
LOCATION:NOACA Offices\, 1299 Superior Avenue\, Cleveland\, OH\, 44114\, United States
END:VEVENT
BEGIN:VEVENT
DTSTART;TZID=America/New_York:20220513T083000
DTEND;TZID=America/New_York:20220513T093000
DTSTAMP:20260425T074141
CREATED:20220425T183352Z
LAST-MODIFIED:20220425T183352Z
UID:6197-1652430600-1652434200@bocc.geauga.oh.gov
SUMMARY:NOACA Finance & Audit
DESCRIPTION:
URL:https://bocc.geauga.oh.gov/event/noaca-finance-audit-may-13-2022/
LOCATION:NOACA Offices\, 1299 Superior Avenue\, Cleveland\, OH\, 44114\, United States
END:VEVENT
BEGIN:VEVENT
DTSTART;TZID=America/New_York:20220510T093000
DTEND;TZID=America/New_York:20220510T113000
DTSTAMP:20260425T074141
CREATED:20220425T183200Z
LAST-MODIFIED:20220425T183200Z
UID:6195-1652175000-1652182200@bocc.geauga.oh.gov
SUMMARY:Weekly Session
DESCRIPTION:
URL:https://bocc.geauga.oh.gov/event/weekly-session-may-10-2022/
LOCATION:OH
END:VEVENT
BEGIN:VEVENT
DTSTART;TZID=America/New_York:20220505T100000
DTEND;TZID=America/New_York:20220505T110000
DTSTAMP:20260425T074141
CREATED:20220504T140930Z
LAST-MODIFIED:20220504T140930Z
UID:6223-1651744800-1651748400@bocc.geauga.oh.gov
SUMMARY:Notice of Special Meeting
DESCRIPTION:The Geauga County Board of Commissioners will hold a special meeting on Thursday\, May 5\, 2022 at 10:00 a.m. for purposes of discussing and voting on the agreed Judgement Entry in the case of the City of Chardon vs. Geauga County\, Case No. 20M000648. The special meeting will be conducted in Commissioners’ Chambers\, 470 Center Street\, Building #4\, Chardon\, Ohio. \nChristine Blair\, Commissioners’ Clerk
URL:https://bocc.geauga.oh.gov/event/notice-of-special-meeting-may-5-2022/
LOCATION:OH
END:VEVENT
BEGIN:VEVENT
DTSTART;TZID=America/New_York:20220503T093000
DTEND;TZID=America/New_York:20220503T223000
DTSTAMP:20260425T074141
CREATED:20220425T182832Z
LAST-MODIFIED:20220425T182853Z
UID:6190-1651570200-1651617000@bocc.geauga.oh.gov
SUMMARY:Weekly Session - CANCELLED
DESCRIPTION:The Regular Commissioners meeting for today has been cancelled
URL:https://bocc.geauga.oh.gov/event/1weekly-session-may-3-2022/
LOCATION:OH
END:VEVENT
BEGIN:VEVENT
DTSTART;TZID=America/New_York:20220427T103000
DTEND;TZID=America/New_York:20220427T113000
DTSTAMP:20260425T074141
CREATED:20220426T141559Z
LAST-MODIFIED:20220426T145536Z
UID:6210-1651055400-1651059000@bocc.geauga.oh.gov
SUMMARY:Notice of Special Meeting
DESCRIPTION:The Geauga County Board of Commissioners will hold a special meeting on Wednesday\, April 27\, 2022 at 10:30 a.m. for purposes of conducting an executive session to discuss pending litigation. The special meeting will be conducted on the front steps of the Geauga County Courthouse\, 100 Short Court Street\, Chardon\, Ohio.
URL:https://bocc.geauga.oh.gov/event/notice-of-special-meeting-april-27-2022/
LOCATION:Geauga County Courthouse\, 100 Short Court Street\, Chardon\, OH\, 44024\, United States
END:VEVENT
BEGIN:VEVENT
DTSTART;TZID=America/New_York:20220426T093000
DTEND;TZID=America/New_York:20220426T103000
DTSTAMP:20260425T074141
CREATED:20220330T190609Z
LAST-MODIFIED:20220404T190445Z
UID:5988-1650965400-1650969000@bocc.geauga.oh.gov
SUMMARY:Weekly Session
DESCRIPTION:Weekly Session
URL:https://bocc.geauga.oh.gov/event/weekly-session-april-26-2022/
LOCATION:OH
END:VEVENT
END:VCALENDAR