BEGIN:VCALENDAR
VERSION:2.0
PRODID:-//Geauga County Board of Commissioners - ECPv6.15.20//NONSGML v1.0//EN
CALSCALE:GREGORIAN
METHOD:PUBLISH
X-WR-CALNAME:Geauga County Board of Commissioners
X-ORIGINAL-URL:https://bocc.geauga.oh.gov
X-WR-CALDESC:Events for Geauga County Board of Commissioners
REFRESH-INTERVAL;VALUE=DURATION:PT1H
X-Robots-Tag:noindex
X-PUBLISHED-TTL:PT1H
BEGIN:VTIMEZONE
TZID:America/New_York
BEGIN:DAYLIGHT
TZOFFSETFROM:-0500
TZOFFSETTO:-0400
TZNAME:EDT
DTSTART:20210314T070000
END:DAYLIGHT
BEGIN:STANDARD
TZOFFSETFROM:-0400
TZOFFSETTO:-0500
TZNAME:EST
DTSTART:20211107T060000
END:STANDARD
BEGIN:DAYLIGHT
TZOFFSETFROM:-0500
TZOFFSETTO:-0400
TZNAME:EDT
DTSTART:20220313T070000
END:DAYLIGHT
BEGIN:STANDARD
TZOFFSETFROM:-0400
TZOFFSETTO:-0500
TZNAME:EST
DTSTART:20221106T060000
END:STANDARD
BEGIN:DAYLIGHT
TZOFFSETFROM:-0500
TZOFFSETTO:-0400
TZNAME:EDT
DTSTART:20230312T070000
END:DAYLIGHT
BEGIN:STANDARD
TZOFFSETFROM:-0400
TZOFFSETTO:-0500
TZNAME:EST
DTSTART:20231105T060000
END:STANDARD
END:VTIMEZONE
BEGIN:VEVENT
DTSTART;TZID=America/New_York:20220920T130000
DTEND;TZID=America/New_York:20220920T150000
DTSTAMP:20260425T075330
CREATED:20220907T155559Z
LAST-MODIFIED:20220907T155558Z
UID:6822-1663678800-1663686000@bocc.geauga.oh.gov
SUMMARY:Geauga Trumbull Solid Waste Board of Directors Meeting
DESCRIPTION:Geauga Trumbull Solid Waste Board of Directors meeting\, 1:00 p.m. Warren\, District Office
URL:https://bocc.geauga.oh.gov/event/geauga-trumbull-solid-waste-board-of-directors-meeting/
LOCATION:Geauga Trumbull Solid Waste Management District\, 12685 Merritt Road\, Chardon\, OH\, 44024\, United States
END:VEVENT
BEGIN:VEVENT
DTSTART;TZID=America/New_York:20220920T093000
DTEND;TZID=America/New_York:20220920T113000
DTSTAMP:20260425T075330
CREATED:20220907T155452Z
LAST-MODIFIED:20220907T155452Z
UID:6820-1663666200-1663673400@bocc.geauga.oh.gov
SUMMARY:Regular Session
DESCRIPTION:The Commissioners will hold regular session at 9:30 a.m.
URL:https://bocc.geauga.oh.gov/event/regular-session-14/
LOCATION:OH
END:VEVENT
BEGIN:VEVENT
DTSTART;TZID=America/New_York:20220919T133000
DTEND;TZID=America/New_York:20220919T153000
DTSTAMP:20260425T075330
CREATED:20220907T155344Z
LAST-MODIFIED:20220907T155344Z
UID:6818-1663594200-1663601400@bocc.geauga.oh.gov
SUMMARY:Family First Council
DESCRIPTION:Family First Council\, 1:30 p.m. at Mental Health Offices
URL:https://bocc.geauga.oh.gov/event/family-first-council-4/
LOCATION:Board of Mental Health and Recovery Services\, 13244 Ravenna Rd\, Chardon\, OH\, 44024\, United States
END:VEVENT
BEGIN:VEVENT
DTSTART;TZID=America/New_York:20220919T090000
DTEND;TZID=America/New_York:20220919T130000
DTSTAMP:20260425T075330
CREATED:20220907T154907Z
LAST-MODIFIED:20220907T154907Z
UID:6816-1663578000-1663592400@bocc.geauga.oh.gov
SUMMARY:Board of Revision
DESCRIPTION:Board of Revision\, 9:00 a.m. Auditor’s Office
URL:https://bocc.geauga.oh.gov/event/board-of-revision-11/
LOCATION:Auditor’s Office\, 231 Main St Suite 1A\, Chardon\, OH\, 44024\, United States
END:VEVENT
BEGIN:VEVENT
DTSTART;TZID=America/New_York:20220916T090000
DTEND;TZID=America/New_York:20220916T130000
DTSTAMP:20260425T075330
CREATED:20220829T190201Z
LAST-MODIFIED:20220829T190201Z
UID:6807-1663318800-1663333200@bocc.geauga.oh.gov
SUMMARY:Board of Revision
DESCRIPTION:Board of Revision\, 9:00 a.m. Auditor’s Office
URL:https://bocc.geauga.oh.gov/event/board-of-revision-10/
LOCATION:Auditor’s Office\, 231 Main St Suite 1A\, Chardon\, OH\, 44024\, United States
END:VEVENT
BEGIN:VEVENT
DTSTART;VALUE=DATE:20220916
DTEND;VALUE=DATE:20220917
DTSTAMP:20260425T075330
CREATED:20220829T190819Z
LAST-MODIFIED:20220829T190819Z
UID:6813-1663286400-1663372799@bocc.geauga.oh.gov
SUMMARY:NOACA Committees\, Air Quality\, Water Quality and Equity
DESCRIPTION:NOACA Committees\, Air Quality\, Water Quality and Equity\, Cleveland
URL:https://bocc.geauga.oh.gov/event/noaca-committees-air-quality-water-quality-and-equity/
LOCATION:OH
END:VEVENT
BEGIN:VEVENT
DTSTART;TZID=America/New_York:20220914T090000
DTEND;TZID=America/New_York:20220914T130000
DTSTAMP:20260425T075330
CREATED:20220829T190110Z
LAST-MODIFIED:20220829T190110Z
UID:6805-1663146000-1663160400@bocc.geauga.oh.gov
SUMMARY:Board of Revision
DESCRIPTION:Board of Revision\, 9:00 a.m. Auditor’s Office
URL:https://bocc.geauga.oh.gov/event/board-of-revision-9/
LOCATION:Auditor’s Office\, 231 Main St Suite 1A\, Chardon\, OH\, 44024\, United States
END:VEVENT
BEGIN:VEVENT
DTSTART;TZID=America/New_York:20220913T093000
DTEND;TZID=America/New_York:20220913T233000
DTSTAMP:20260425T075330
CREATED:20220829T190541Z
LAST-MODIFIED:20220829T190541Z
UID:6811-1663061400-1663111800@bocc.geauga.oh.gov
SUMMARY:Regular Session
DESCRIPTION:The Commissioners will hold regular session at 9:30 a.m.
URL:https://bocc.geauga.oh.gov/event/regular-session-13/
LOCATION:Commissioners’ Chambers\, 12611 Ravenwood Drive\, Room B303\, Chardon\, OH\, 44024\, United States
END:VEVENT
BEGIN:VEVENT
DTSTART;TZID=America/New_York:20220912T090000
DTEND;TZID=America/New_York:20220912T130000
DTSTAMP:20260425T075330
CREATED:20220829T185959Z
LAST-MODIFIED:20220829T185959Z
UID:6803-1662973200-1662987600@bocc.geauga.oh.gov
SUMMARY:Board of Revision
DESCRIPTION:Board of Revision\, 9:00 a.m. Auditor’s Office
URL:https://bocc.geauga.oh.gov/event/board-of-revision-8/
LOCATION:Auditor’s Office\, 231 Main St Suite 1A\, Chardon\, OH\, 44024\, United States
END:VEVENT
BEGIN:VEVENT
DTSTART;TZID=America/New_York:20220909T090000
DTEND;TZID=America/New_York:20220909T170000
DTSTAMP:20260425T075330
CREATED:20220815T175203Z
LAST-MODIFIED:20220815T175203Z
UID:6783-1662714000-1662742800@bocc.geauga.oh.gov
SUMMARY:NOACA Board of Directors
DESCRIPTION:NOACA Board of Directors\, 9:00 a.m.\, Cleveland
URL:https://bocc.geauga.oh.gov/event/noaca-board-of-directors/
LOCATION:OH
END:VEVENT
BEGIN:VEVENT
DTSTART;TZID=America/New_York:20220909T090000
DTEND;TZID=America/New_York:20220909T130000
DTSTAMP:20260425T075330
CREATED:20220815T175057Z
LAST-MODIFIED:20220815T175057Z
UID:6781-1662714000-1662728400@bocc.geauga.oh.gov
SUMMARY:Board of Revision
DESCRIPTION:Board of Revision\, 9:00 a.m.\, Auditor’s Office
URL:https://bocc.geauga.oh.gov/event/board-of-revision-7/
LOCATION:Auditor’s Office\, 231 Main St Suite 1A\, Chardon\, OH\, 44024\, United States
END:VEVENT
BEGIN:VEVENT
DTSTART;TZID=America/New_York:20220908T093000
DTEND;TZID=America/New_York:20220908T113000
DTSTAMP:20260425T075330
CREATED:20220815T174937Z
LAST-MODIFIED:20220815T174937Z
UID:6779-1662629400-1662636600@bocc.geauga.oh.gov
SUMMARY:Regular Session
DESCRIPTION:The Commissioners will hold regular session at 9:30 a.m.
URL:https://bocc.geauga.oh.gov/event/regular-session-11/
LOCATION:Commissioners’ Chambers\, 12611 Ravenwood Drive\, Room B303\, Chardon\, OH\, 44024\, United States
END:VEVENT
BEGIN:VEVENT
DTSTART;TZID=America/New_York:20220907T090000
DTEND;TZID=America/New_York:20220907T130000
DTSTAMP:20260425T075330
CREATED:20220815T174810Z
LAST-MODIFIED:20220815T174810Z
UID:6777-1662541200-1662555600@bocc.geauga.oh.gov
SUMMARY:Board of Revision
DESCRIPTION:Board of Revision\, 9:00 a.m.\, Auditor’s Office
URL:https://bocc.geauga.oh.gov/event/board-of-revision-6/
LOCATION:Auditor’s Office\, 231 Main St Suite 1A\, Chardon\, OH\, 44024\, United States
END:VEVENT
BEGIN:VEVENT
DTSTART;VALUE=DATE:20220905
DTEND;VALUE=DATE:20220906
DTSTAMP:20260425T075330
CREATED:20220815T174537Z
LAST-MODIFIED:20220815T174537Z
UID:6775-1662336000-1662422399@bocc.geauga.oh.gov
SUMMARY:County Offices Closed
DESCRIPTION:County Offices will be closed in honor of the Labor Day holiday.  Twenty-four hour operations will continue to operate as normal.
URL:https://bocc.geauga.oh.gov/event/county-offices-closed-4/
LOCATION:OH
END:VEVENT
BEGIN:VEVENT
DTSTART;TZID=America/New_York:20220831T120000
DTEND;TZID=America/New_York:20220831T130000
DTSTAMP:20260425T075330
CREATED:20220815T173511Z
LAST-MODIFIED:20220815T174341Z
UID:6769-1661947200-1661950800@bocc.geauga.oh.gov
SUMMARY:Great Geauga County Fair 200th Anniversary Celebration Ribbon Cutting / Opening
DESCRIPTION:
URL:https://bocc.geauga.oh.gov/event/great-geauga-county-fair-200th-anniversary-celebration-ribbon-cutting-opening/
LOCATION:Geauga County Fairgrounds\, 14373 North Cheshire Street\, Burton\, 44021\, United States
END:VEVENT
BEGIN:VEVENT
DTSTART;VALUE=DATE:20220831
DTEND;VALUE=DATE:20220906
DTSTAMP:20260425T075330
CREATED:20220815T173736Z
LAST-MODIFIED:20220815T174253Z
UID:6771-1661904000-1662422399@bocc.geauga.oh.gov
SUMMARY:Great Geauga County Fair\, Burton\, Ohio
DESCRIPTION:
URL:https://bocc.geauga.oh.gov/event/great-geauga-county-fair-burton-ohio/
LOCATION:Geauga County Fairgrounds\, 14373 North Cheshire Street\, Burton\, 44021\, United States
END:VEVENT
BEGIN:VEVENT
DTSTART;TZID=America/New_York:20220830T093000
DTEND;TZID=America/New_York:20220830T113000
DTSTAMP:20260425T075330
CREATED:20220815T173316Z
LAST-MODIFIED:20220815T174645Z
UID:6767-1661851800-1661859000@bocc.geauga.oh.gov
SUMMARY:Regular Session
DESCRIPTION:The Commissioners will hold regular session at 9:30 a.m.
URL:https://bocc.geauga.oh.gov/event/regular-session-10/
LOCATION:Commissioners’ Chambers\, 12611 Ravenwood Drive\, Room B303\, Chardon\, OH\, 44024\, United States
END:VEVENT
BEGIN:VEVENT
DTSTART;VALUE=DATE:20220824
DTEND;VALUE=DATE:20220825
DTSTAMP:20260425T075330
CREATED:20220815T173156Z
LAST-MODIFIED:20220815T173156Z
UID:6765-1661299200-1661385599@bocc.geauga.oh.gov
SUMMARY:Perry Nuclear Power Plant Drill (Dry Run)
DESCRIPTION:
URL:https://bocc.geauga.oh.gov/event/perry-nuclear-power-plant-drill-dry-run/
LOCATION:OH
END:VEVENT
BEGIN:VEVENT
DTSTART;TZID=America/New_York:20220823T093000
DTEND;TZID=America/New_York:20220823T113000
DTSTAMP:20260425T075330
CREATED:20220803T154206Z
LAST-MODIFIED:20220803T154206Z
UID:6711-1661247000-1661254200@bocc.geauga.oh.gov
SUMMARY:Regular Session
DESCRIPTION:The Commissioners will hold regular session at 9:30 a.m.
URL:https://bocc.geauga.oh.gov/event/regular-session-7/
LOCATION:Commissioners’ Chambers\, 12611 Ravenwood Drive\, Room B303\, Chardon\, OH\, 44024\, United States
END:VEVENT
BEGIN:VEVENT
DTSTART;TZID=America/New_York:20220822T090000
DTEND;TZID=America/New_York:20220822T120000
DTSTAMP:20260425T075330
CREATED:20220801T154041Z
LAST-MODIFIED:20220803T154334Z
UID:6709-1661158800-1661169600@bocc.geauga.oh.gov
SUMMARY:Board of Revision
DESCRIPTION:Board of Revision\, 9:00 a.m. Auditor’s Office
URL:https://bocc.geauga.oh.gov/event/board-of-revision-5/
LOCATION:Auditor’s Office\, 231 Main St Suite 1A\, Chardon\, OH\, 44024\, United States
END:VEVENT
BEGIN:VEVENT
DTSTART;TZID=America/New_York:20220816T130000
DTEND;TZID=America/New_York:20220816T160000
DTSTAMP:20260425T075330
CREATED:20220803T153853Z
LAST-MODIFIED:20220809T151212Z
UID:6707-1660654800-1660665600@bocc.geauga.oh.gov
SUMMARY:Geauga Trumbull Solid Waste Management District
DESCRIPTION:Geauga Trumbull Solid Waste Management District\, 1:00 p.m.\, Warren\, District Office
URL:https://bocc.geauga.oh.gov/event/geauga-trumbull-solid-waste-management-district-2/
LOCATION:Geauga Trumbull Solid Waste Management District\, 12685 Merritt Road\, Chardon\, OH\, 44024\, United States
END:VEVENT
BEGIN:VEVENT
DTSTART;TZID=America/New_York:20220816T093000
DTEND;TZID=America/New_York:20220816T113000
DTSTAMP:20260425T075330
CREATED:20220726T143709Z
LAST-MODIFIED:20220726T143709Z
UID:6684-1660642200-1660649400@bocc.geauga.oh.gov
SUMMARY:Regular Session
DESCRIPTION:The Commissioners’ will hold regular session at 9:30 a.m.
URL:https://bocc.geauga.oh.gov/event/regular-session-9/
LOCATION:Commissioners’ Chambers\, 12611 Ravenwood Drive\, Room B303\, Chardon\, OH\, 44024\, United States
END:VEVENT
BEGIN:VEVENT
DTSTART;TZID=America/New_York:20220815T133000
DTEND;TZID=America/New_York:20220815T153000
DTSTAMP:20260425T075330
CREATED:20220726T142715Z
LAST-MODIFIED:20220726T142715Z
UID:6682-1660570200-1660577400@bocc.geauga.oh.gov
SUMMARY:Family First Council
DESCRIPTION:Family First Council\, 1:30 p.m. Mental Health Offices
URL:https://bocc.geauga.oh.gov/event/family-first-council-3/
LOCATION:Board of Mental Health and Recovery Services\, 13244 Ravenna Rd\, Chardon\, OH\, 44024\, United States
END:VEVENT
BEGIN:VEVENT
DTSTART;TZID=America/New_York:20220812T083000
DTEND;TZID=America/New_York:20220812T130000
DTSTAMP:20260425T075330
CREATED:20220803T153509Z
LAST-MODIFIED:20220803T153509Z
UID:6705-1660293000-1660309200@bocc.geauga.oh.gov
SUMMARY:NOACA
DESCRIPTION:NOACA Finance & Audit\, 8:30 a.m.\, Governance 10:00 a.m.\, and Executive 11:30 a.m.\, Cleveland
URL:https://bocc.geauga.oh.gov/event/noaca/
LOCATION:OH
END:VEVENT
BEGIN:VEVENT
DTSTART;TZID=America/New_York:20220809T093000
DTEND;TZID=America/New_York:20220809T113000
DTSTAMP:20260425T075330
CREATED:20220726T142447Z
LAST-MODIFIED:20220726T143752Z
UID:6680-1660037400-1660044600@bocc.geauga.oh.gov
SUMMARY:Regular Session
DESCRIPTION:The Commissioners’ will hold regular session at 9:30 a.m.
URL:https://bocc.geauga.oh.gov/event/regular-session-8/
LOCATION:Commissioners’ Chambers\, 12611 Ravenwood Drive\, Room B303\, Chardon\, OH\, 44024\, United States
END:VEVENT
BEGIN:VEVENT
DTSTART;TZID=America/New_York:20220808T090000
DTEND;TZID=America/New_York:20220808T110000
DTSTAMP:20260425T075330
CREATED:20220726T142356Z
LAST-MODIFIED:20220726T142356Z
UID:6678-1659949200-1659956400@bocc.geauga.oh.gov
SUMMARY:Board of Revision
DESCRIPTION:Board of Revision\, 9:00 a.m. Auditor’s Office
URL:https://bocc.geauga.oh.gov/event/board-of-revision-4/
LOCATION:Auditor’s Office\, 231 Main St Suite 1A\, Chardon\, OH\, 44024\, United States
END:VEVENT
BEGIN:VEVENT
DTSTART;TZID=America/New_York:20220805T080000
DTEND;TZID=America/New_York:20220805T170000
DTSTAMP:20260425T075330
CREATED:20220805T201521Z
LAST-MODIFIED:20220805T201521Z
UID:6725-1659686400-1659718800@bocc.geauga.oh.gov
SUMMARY:Notice of Special Meeting
DESCRIPTION:The Geauga County Board of Commissioners will hold a special meeting on Monday\, August 8\, 2022 at 9:30 a.m. to address the Board of Mental Health and Recovery Services Levy\, including the Certificate from the Auditor’s Office and Resolution.  This meeting will be held at Commissioners’ Offices at 12611 Ravenwood Drive\, Room B303\, Chardon\, Ohio. \nChristine Blair\, Commissioners’ Clerk
URL:https://bocc.geauga.oh.gov/event/notice-of-special-meeting-3/
LOCATION:OH
END:VEVENT
BEGIN:VEVENT
DTSTART;TZID=America/New_York:20220803T080000
DTEND;TZID=America/New_York:20220803T170000
DTSTAMP:20260425T075330
CREATED:20220726T141934Z
LAST-MODIFIED:20220726T144742Z
UID:6676-1659513600-1659546000@bocc.geauga.oh.gov
SUMMARY:Perry Nuclear Power Plant Table Exercise
DESCRIPTION:Perry Nuclear Power Plant Table Exercise\, 8:00 a.m.\, Mentor\, Ohio
URL:https://bocc.geauga.oh.gov/event/perry-nuclear-power-plant-table-exercise-2/
LOCATION:OH
END:VEVENT
BEGIN:VEVENT
DTSTART;TZID=America/New_York:20220802T140000
DTEND;TZID=America/New_York:20220802T160000
DTSTAMP:20260425T075330
CREATED:20220803T153159Z
LAST-MODIFIED:20220803T153159Z
UID:6703-1659448800-1659456000@bocc.geauga.oh.gov
SUMMARY:ADP Special Meeting
DESCRIPTION:
URL:https://bocc.geauga.oh.gov/event/adp-special-meeting/
LOCATION:Auditor’s Office\, 231 Main St Suite 1A\, Chardon\, OH\, 44024\, United States
END:VEVENT
BEGIN:VEVENT
DTSTART;TZID=America/New_York:20220802T093000
DTEND;TZID=America/New_York:20220802T113000
DTSTAMP:20260425T075330
CREATED:20220719T131920Z
LAST-MODIFIED:20220719T131920Z
UID:6613-1659432600-1659439800@bocc.geauga.oh.gov
SUMMARY:Regular Session
DESCRIPTION:
URL:https://bocc.geauga.oh.gov/event/regular-session-6/
LOCATION:Commissioners’ Chambers\, 12611 Ravenwood Drive\, Room B303\, Chardon\, OH\, 44024\, United States
END:VEVENT
END:VCALENDAR