BEGIN:VCALENDAR
VERSION:2.0
PRODID:-//Geauga County Board of Commissioners - ECPv6.15.20//NONSGML v1.0//EN
CALSCALE:GREGORIAN
METHOD:PUBLISH
X-WR-CALNAME:Geauga County Board of Commissioners
X-ORIGINAL-URL:https://bocc.geauga.oh.gov
X-WR-CALDESC:Events for Geauga County Board of Commissioners
REFRESH-INTERVAL;VALUE=DURATION:PT1H
X-Robots-Tag:noindex
X-PUBLISHED-TTL:PT1H
BEGIN:VTIMEZONE
TZID:America/New_York
BEGIN:DAYLIGHT
TZOFFSETFROM:-0500
TZOFFSETTO:-0400
TZNAME:EDT
DTSTART:20210314T070000
END:DAYLIGHT
BEGIN:STANDARD
TZOFFSETFROM:-0400
TZOFFSETTO:-0500
TZNAME:EST
DTSTART:20211107T060000
END:STANDARD
BEGIN:DAYLIGHT
TZOFFSETFROM:-0500
TZOFFSETTO:-0400
TZNAME:EDT
DTSTART:20220313T070000
END:DAYLIGHT
BEGIN:STANDARD
TZOFFSETFROM:-0400
TZOFFSETTO:-0500
TZNAME:EST
DTSTART:20221106T060000
END:STANDARD
BEGIN:DAYLIGHT
TZOFFSETFROM:-0500
TZOFFSETTO:-0400
TZNAME:EDT
DTSTART:20230312T070000
END:DAYLIGHT
BEGIN:STANDARD
TZOFFSETFROM:-0400
TZOFFSETTO:-0500
TZNAME:EST
DTSTART:20231105T060000
END:STANDARD
BEGIN:DAYLIGHT
TZOFFSETFROM:-0500
TZOFFSETTO:-0400
TZNAME:EDT
DTSTART:20240310T070000
END:DAYLIGHT
BEGIN:STANDARD
TZOFFSETFROM:-0400
TZOFFSETTO:-0500
TZNAME:EST
DTSTART:20241103T060000
END:STANDARD
END:VTIMEZONE
BEGIN:VEVENT
DTSTART;VALUE=DATE:20230102
DTEND;VALUE=DATE:20230103
DTSTAMP:20260425T090348
CREATED:20221219T174153Z
LAST-MODIFIED:20221228T202112Z
UID:7431-1672617600-1672703999@bocc.geauga.oh.gov
SUMMARY:County Offices Closed
DESCRIPTION:County Offices will be closed in honor of New Year’s Day. Twenty-four hour operations will continue to operate as normal.
URL:https://bocc.geauga.oh.gov/event/county-offices-closed-10/
LOCATION:OH
END:VEVENT
BEGIN:VEVENT
DTSTART;TZID=America/New_York:20221229T093000
DTEND;TZID=America/New_York:20221229T113000
DTSTAMP:20260425T090348
CREATED:20221216T134910Z
LAST-MODIFIED:20221216T134910Z
UID:7413-1672306200-1672313400@bocc.geauga.oh.gov
SUMMARY:Regular Session
DESCRIPTION:The Commissioners will hold regular session at 9:30 a.m.
URL:https://bocc.geauga.oh.gov/event/regular-session-25/
LOCATION:Commissioners’ Chambers\, 12611 Ravenwood Drive\, Room B303\, Chardon\, OH\, 44024\, United States
END:VEVENT
BEGIN:VEVENT
DTSTART;TZID=America/New_York:20221228T093000
DTEND;TZID=America/New_York:20221228T233000
DTSTAMP:20260425T090348
CREATED:20221228T193844Z
LAST-MODIFIED:20221228T193844Z
UID:7494-1672219800-1672270200@bocc.geauga.oh.gov
SUMMARY:Regular Session
DESCRIPTION:The Commissioners will hold regular session at 9:30 a.m.
URL:https://bocc.geauga.oh.gov/event/regular-session-28/
LOCATION:Commissioners’ Chambers\, 12611 Ravenwood Drive\, Room B303\, Chardon\, OH\, 44024\, United States
END:VEVENT
BEGIN:VEVENT
DTSTART;VALUE=DATE:20221226
DTEND;VALUE=DATE:20221227
DTSTAMP:20260425T090348
CREATED:20221216T134412Z
LAST-MODIFIED:20221216T134412Z
UID:7411-1672012800-1672099199@bocc.geauga.oh.gov
SUMMARY:County Offices Closed
DESCRIPTION:County Offices will be closed in honor of Christmas. Twenty-four-hour operations will continue to operate as normal.
URL:https://bocc.geauga.oh.gov/event/county-offices-closed-9/
LOCATION:OH
END:VEVENT
BEGIN:VEVENT
DTSTART;TZID=America/New_York:20221220T093000
DTEND;TZID=America/New_York:20221220T113000
DTSTAMP:20260425T090348
CREATED:20221205T133415Z
LAST-MODIFIED:20221205T133415Z
UID:7347-1671528600-1671535800@bocc.geauga.oh.gov
SUMMARY:Regular Session
DESCRIPTION:The Commissioners will hold regular session at 9:30 a.m.
URL:https://bocc.geauga.oh.gov/event/regular-session-24/
LOCATION:Commissioners’ Chambers\, 12611 Ravenwood Drive\, Room B303\, Chardon\, OH\, 44024\, United States
END:VEVENT
BEGIN:VEVENT
DTSTART;TZID=America/New_York:20221219T133000
DTEND;TZID=America/New_York:20221219T153000
DTSTAMP:20260425T090348
CREATED:20221121T164550Z
LAST-MODIFIED:20221121T164550Z
UID:7303-1671456600-1671463800@bocc.geauga.oh.gov
SUMMARY:Family First Council
DESCRIPTION:Family First Council\, 1:30 p.m. Mental Health Offices
URL:https://bocc.geauga.oh.gov/event/family-first-council-7/
LOCATION:Board of Mental Health and Recovery Services\, 13244 Ravenna Rd\, Chardon\, OH\, 44024\, United States
END:VEVENT
BEGIN:VEVENT
DTSTART;TZID=America/New_York:20221215T100000
DTEND;TZID=America/New_York:20221215T120000
DTSTAMP:20260425T090348
CREATED:20221121T164433Z
LAST-MODIFIED:20221121T164433Z
UID:7301-1671098400-1671105600@bocc.geauga.oh.gov
SUMMARY:Board of Directors Meeting
DESCRIPTION:Portage Geauga Juvenile Detention Center\, Board of Directors meeting\, 10:00 a.m. Portage County Offices
URL:https://bocc.geauga.oh.gov/event/board-of-directors-meeting/
LOCATION:OH
END:VEVENT
BEGIN:VEVENT
DTSTART;TZID=America/New_York:20221213T093000
DTEND;TZID=America/New_York:20221213T113000
DTSTAMP:20260425T090348
CREATED:20221121T164241Z
LAST-MODIFIED:20221121T164241Z
UID:7299-1670923800-1670931000@bocc.geauga.oh.gov
SUMMARY:Regular Session
DESCRIPTION:The Commissioners will hold regular session at 9:30 a.m.
URL:https://bocc.geauga.oh.gov/event/regular-session-23/
LOCATION:Commissioners’ Chambers\, 12611 Ravenwood Drive\, Room B303\, Chardon\, OH\, 44024\, United States
END:VEVENT
BEGIN:VEVENT
DTSTART;TZID=America/New_York:20221213T090000
DTEND;TZID=America/New_York:20221213T110000
DTSTAMP:20260425T090348
CREATED:20221216T134135Z
LAST-MODIFIED:20221216T134135Z
UID:7409-1670922000-1670929200@bocc.geauga.oh.gov
SUMMARY:Investment Advisory Board
DESCRIPTION:Investment Advisory Board\, 9:00 a.m. Room B303\, Third Floor\, 12611 Ravenwood Dr.\, Chardon
URL:https://bocc.geauga.oh.gov/event/investment-advisory-board/
LOCATION:Geauga County Office Building\, 12611 Ravenwood Drive\, Chardon\, OH\, 44024\, United States
END:VEVENT
BEGIN:VEVENT
DTSTART;TZID=America/New_York:20221209T090000
DTEND;TZID=America/New_York:20221209T110000
DTSTAMP:20260425T090348
CREATED:20221121T164051Z
LAST-MODIFIED:20221121T164051Z
UID:7297-1670576400-1670583600@bocc.geauga.oh.gov
SUMMARY:NOACA Board of Directors Meeting
DESCRIPTION:NOACA Board of Directors meeting\, 9:00 a.m.\, Cleveland
URL:https://bocc.geauga.oh.gov/event/noaca-board-of-directors-meeting-2/
LOCATION:OH
END:VEVENT
BEGIN:VEVENT
DTSTART;VALUE=DATE:20221207
DTEND;VALUE=DATE:20221210
DTSTAMP:20260425T090348
CREATED:20221121T163852Z
LAST-MODIFIED:20221121T163852Z
UID:7295-1670371200-1670630399@bocc.geauga.oh.gov
SUMMARY:CCAO Winter Conference
DESCRIPTION:CCAO Winter Conference\, Columbus\, Ohio
URL:https://bocc.geauga.oh.gov/event/ccao-winter-conference-2/
LOCATION:OH
END:VEVENT
BEGIN:VEVENT
DTSTART;TZID=America/New_York:20221206T093000
DTEND;TZID=America/New_York:20221206T113000
DTSTAMP:20260425T090348
CREATED:20221121T163238Z
LAST-MODIFIED:20221121T163238Z
UID:7293-1670319000-1670326200@bocc.geauga.oh.gov
SUMMARY:Regular Session
DESCRIPTION:The Commissioners will hold regular session at 9:30 a.m.
URL:https://bocc.geauga.oh.gov/event/regular-session-22/
LOCATION:Commissioners’ Chambers\, 12611 Ravenwood Drive\, Room B303\, Chardon\, OH\, 44024\, United States
END:VEVENT
BEGIN:VEVENT
DTSTART;TZID=America/New_York:20221129T093000
DTEND;TZID=America/New_York:20221129T113000
DTSTAMP:20260425T090348
CREATED:20221017T162830Z
LAST-MODIFIED:20221017T192201Z
UID:7107-1669714200-1669721400@bocc.geauga.oh.gov
SUMMARY:Regular Session
DESCRIPTION:The Commissioners will hold regular session at 9:30 a.m.
URL:https://bocc.geauga.oh.gov/event/regular-session-21/
LOCATION:Commissioners’ Chambers\, 12611 Ravenwood Drive\, Room B303\, Chardon\, OH\, 44024\, United States
END:VEVENT
BEGIN:VEVENT
DTSTART;VALUE=DATE:20221125
DTEND;VALUE=DATE:20221126
DTSTAMP:20260425T090348
CREATED:20221017T162738Z
LAST-MODIFIED:20221018T123907Z
UID:7104-1669334400-1669420799@bocc.geauga.oh.gov
SUMMARY:County Offices Closed
DESCRIPTION:County offices under the hiring authority of the Board of Commissioners will be closed for general business.  Twenty-four hour operations will continue to operate as usual.
URL:https://bocc.geauga.oh.gov/event/county-offices-closed-8/
LOCATION:OH
END:VEVENT
BEGIN:VEVENT
DTSTART;VALUE=DATE:20221124
DTEND;VALUE=DATE:20221125
DTSTAMP:20260425T090348
CREATED:20221017T161524Z
LAST-MODIFIED:20221018T123718Z
UID:7094-1669248000-1669334399@bocc.geauga.oh.gov
SUMMARY:County Offices Closed
DESCRIPTION:County Offices will be closed for general business in observance of Thanksgiving Day.   Twenty-four hour operations will continue to operate as normal.
URL:https://bocc.geauga.oh.gov/event/county-offices-closed-7/
LOCATION:OH
END:VEVENT
BEGIN:VEVENT
DTSTART;TZID=America/New_York:20221122T093000
DTEND;TZID=America/New_York:20221122T113000
DTSTAMP:20260425T090348
CREATED:20221017T161423Z
LAST-MODIFIED:20221017T192141Z
UID:7092-1669109400-1669116600@bocc.geauga.oh.gov
SUMMARY:Regular Session
DESCRIPTION:The Commissioners will hold regular session at 9:30 a.m.
URL:https://bocc.geauga.oh.gov/event/regular-session-20/
LOCATION:Commissioners’ Chambers\, 12611 Ravenwood Drive\, Room B303\, Chardon\, OH\, 44024\, United States
END:VEVENT
BEGIN:VEVENT
DTSTART;TZID=America/New_York:20221121T133000
DTEND;TZID=America/New_York:20221121T153000
DTSTAMP:20260425T090348
CREATED:20221017T161219Z
LAST-MODIFIED:20221017T192128Z
UID:7089-1669037400-1669044600@bocc.geauga.oh.gov
SUMMARY:Family First Council
DESCRIPTION:Family First Council\, 1:30 p.m. Mental Health Offices
URL:https://bocc.geauga.oh.gov/event/family-first-council-6/
LOCATION:Board of Mental Health and Recovery Services\, 13244 Ravenna Rd\, Chardon\, OH\, 44024\, United States
END:VEVENT
BEGIN:VEVENT
DTSTART;TZID=America/New_York:20221115T130000
DTEND;TZID=America/New_York:20221115T150000
DTSTAMP:20260425T090348
CREATED:20221017T161129Z
LAST-MODIFIED:20221017T192353Z
UID:7087-1668517200-1668524400@bocc.geauga.oh.gov
SUMMARY:Geauga Trumbull Solid Waste Management District meeting
DESCRIPTION:Geauga Trumbull Solid Waste Management District meeting\, 1:00 p.m. District Office\, Warren
URL:https://bocc.geauga.oh.gov/event/geauga-trumbull-solid-waste-management-district-meeting/
LOCATION:Geauga-Trumbull Solid Waste Management District\, Warren\, District Office\, 5138 Enterprise Dr NW\, Warren\, OH\, 44481\, United States
END:VEVENT
BEGIN:VEVENT
DTSTART;TZID=America/New_York:20221115T093000
DTEND;TZID=America/New_York:20221115T113000
DTSTAMP:20260425T090348
CREATED:20221017T160958Z
LAST-MODIFIED:20221017T192119Z
UID:7085-1668504600-1668511800@bocc.geauga.oh.gov
SUMMARY:Regular Session
DESCRIPTION:The Commissioners will hold regular session at 9:30 a.m.
URL:https://bocc.geauga.oh.gov/event/regular-session-19/
LOCATION:Commissioners’ Chambers\, 12611 Ravenwood Drive\, Room B303\, Chardon\, OH\, 44024\, United States
END:VEVENT
BEGIN:VEVENT
DTSTART;VALUE=DATE:20221111
DTEND;VALUE=DATE:20221112
DTSTAMP:20260425T090348
CREATED:20221012T180515Z
LAST-MODIFIED:20221018T123808Z
UID:7076-1668124800-1668211199@bocc.geauga.oh.gov
SUMMARY:County Offices Closed
DESCRIPTION:County Offices will be closed in observance of Veterans’ Day.  Twenty-four operations will  continue to operate.
URL:https://bocc.geauga.oh.gov/event/county-offices-closed-6/
LOCATION:OH
END:VEVENT
BEGIN:VEVENT
DTSTART;TZID=America/New_York:20221109T183000
DTEND;TZID=America/New_York:20221109T203000
DTSTAMP:20260425T090348
CREATED:20221031T123304Z
LAST-MODIFIED:20221031T123304Z
UID:7155-1668018600-1668025800@bocc.geauga.oh.gov
SUMMARY:Geauga County Township Association Dinner
DESCRIPTION:Geauga County Township Association Dinner\, 6:30 p.m. at Mary Yoder’s Amish Kitchen
URL:https://bocc.geauga.oh.gov/event/geauga-county-township-association-dinner-2/
LOCATION:OH
END:VEVENT
BEGIN:VEVENT
DTSTART;TZID=America/New_York:20221108T093000
DTEND;TZID=America/New_York:20221108T113000
DTSTAMP:20260425T090348
CREATED:20221012T181315Z
LAST-MODIFIED:20221102T163520Z
UID:7080-1667899800-1667907000@bocc.geauga.oh.gov
SUMMARY:Regular Session
DESCRIPTION:The Commissioners will hold regular session at 9:30 a.m. \nOn November 1\, 2022 the regular Commissioners’ meeting that was scheduled was not held. It was learned at 9:31 that there was not the quorum and therefore no meeting could be held.\nThe majority of the items on the November 1st agenda will be moved and merged with the agenda for Tuesday\, November 8\, 2022.
URL:https://bocc.geauga.oh.gov/event/regular-session-18/
LOCATION:Commissioners’ Chambers\, 12611 Ravenwood Drive\, Room B303\, Chardon\, OH\, 44024\, United States
END:VEVENT
BEGIN:VEVENT
DTSTART;TZID=America/New_York:20221104T083000
DTEND;TZID=America/New_York:20221104T130000
DTSTAMP:20260425T090348
CREATED:20221012T181203Z
LAST-MODIFIED:20221012T181203Z
UID:7078-1667550600-1667566800@bocc.geauga.oh.gov
SUMMARY:NOACA Meeting
DESCRIPTION:NOACA Finance & Audit at 8:30 a.m.\, Governance 10:00 a.m. and Executive 11:30 a.m.\, \nCleveland
URL:https://bocc.geauga.oh.gov/event/noaca-meeting/
LOCATION:OH
END:VEVENT
BEGIN:VEVENT
DTSTART;TZID=America/New_York:20221101T093000
DTEND;TZID=America/New_York:20221101T113000
DTSTAMP:20260425T090348
CREATED:20221012T180322Z
LAST-MODIFIED:20221102T163346Z
UID:7074-1667295000-1667302200@bocc.geauga.oh.gov
SUMMARY:Regular Session
DESCRIPTION:On November 1\, 2022 the regular Commissioners’ meeting that was scheduled was not held. It was learned at 9:31 that there was not the quorum and therefore no meeting could be held.\nThe majority of the items on the November 1st agenda will be moved and merged with the agenda for Tuesday\, November 8\, 2022. \nThere will be no meeting scheduled or be held this week.
URL:https://bocc.geauga.oh.gov/event/regular-session-17/
LOCATION:Commissioners’ Chambers\, 12611 Ravenwood Drive\, Room B303\, Chardon\, OH\, 44024\, United States
END:VEVENT
BEGIN:VEVENT
DTSTART;TZID=America/New_York:20221025T100000
DTEND;TZID=America/New_York:20221025T110000
DTSTAMP:20260425T090348
CREATED:20221017T160809Z
LAST-MODIFIED:20221017T191919Z
UID:7083-1666692000-1666695600@bocc.geauga.oh.gov
SUMMARY:ADP Special Meeting
DESCRIPTION:ADP Special Meeting\, 10:00 a.m. Auditor’s Office
URL:https://bocc.geauga.oh.gov/event/adp-special-meeting-2/
LOCATION:Auditor’s Office\, 231 Main St Suite 1A\, Chardon\, OH\, 44024\, United States
END:VEVENT
BEGIN:VEVENT
DTSTART;TZID=America/New_York:20221025T093000
DTEND;TZID=America/New_York:20221025T113000
DTSTAMP:20260425T090348
CREATED:20221004T185106Z
LAST-MODIFIED:20221017T162451Z
UID:7004-1666690200-1666697400@bocc.geauga.oh.gov
SUMMARY:Regular Session
DESCRIPTION:The Commissioners will hold regular session at 9:30 a.m.
URL:https://bocc.geauga.oh.gov/event/regular-session-16/
LOCATION:Commissioners’ Chambers\, 12611 Ravenwood Drive\, Room B303\, Chardon\, OH\, 44024\, United States
END:VEVENT
BEGIN:VEVENT
DTSTART;TZID=America/New_York:20221018T093000
DTEND;TZID=America/New_York:20221018T113000
DTSTAMP:20260425T090348
CREATED:20220928T194804Z
LAST-MODIFIED:20220928T194804Z
UID:6972-1666085400-1666092600@bocc.geauga.oh.gov
SUMMARY:Regular Session
DESCRIPTION:
URL:https://bocc.geauga.oh.gov/event/regular-session-15/
LOCATION:Commissioners’ Chambers\, 12611 Ravenwood Drive\, Room B303\, Chardon\, OH\, 44024\, United States
END:VEVENT
BEGIN:VEVENT
DTSTART;TZID=America/New_York:20221017T133000
DTEND;TZID=America/New_York:20221017T153000
DTSTAMP:20260425T090348
CREATED:20220928T194646Z
LAST-MODIFIED:20220928T194646Z
UID:6970-1666013400-1666020600@bocc.geauga.oh.gov
SUMMARY:Family First Council
DESCRIPTION:
URL:https://bocc.geauga.oh.gov/event/family-first-council-5/
LOCATION:Board of Mental Health and Recovery Services\, 13244 Ravenna Rd\, Chardon\, OH\, 44024\, United States
END:VEVENT
BEGIN:VEVENT
DTSTART;TZID=America/New_York:20221013T093000
DTEND;TZID=America/New_York:20221013T233000
DTSTAMP:20260425T090348
CREATED:20220928T203216Z
LAST-MODIFIED:20220928T203216Z
UID:6978-1665653400-1665703800@bocc.geauga.oh.gov
SUMMARY:Regular Session Including Public Hearing
DESCRIPTION:The Commissioners will hold regular session at 9:30 a.m. that will include a PuUblic Hearing at 10:00 a.m. for the proposed employment of re-employed retirant.
URL:https://bocc.geauga.oh.gov/event/regular-session-including-public-hearing-2/
LOCATION:Commissioners’ Chambers\, 12611 Ravenwood Drive\, Room B303\, Chardon\, OH\, 44024\, United States
END:VEVENT
BEGIN:VEVENT
DTSTART;TZID=America/New_York:20221011T110000
DTEND;TZID=America/New_York:20221011T120000
DTSTAMP:20260425T090348
CREATED:20220928T194155Z
LAST-MODIFIED:20220928T194155Z
UID:6964-1665486000-1665489600@bocc.geauga.oh.gov
SUMMARY:Ribbon Cutting Ceremony
DESCRIPTION:Ribbon Cutting Ceremony at Shepherd of the Valley in Howland for the Geauga Trumbull Solid Waste Management District\, 11:00 a.m.
URL:https://bocc.geauga.oh.gov/event/ribbon-cutting-ceremony/
LOCATION:OH
END:VEVENT
END:VCALENDAR