BEGIN:VCALENDAR
VERSION:2.0
PRODID:-//Geauga County Board of Commissioners - ECPv6.15.20//NONSGML v1.0//EN
CALSCALE:GREGORIAN
METHOD:PUBLISH
X-WR-CALNAME:Geauga County Board of Commissioners
X-ORIGINAL-URL:https://bocc.geauga.oh.gov
X-WR-CALDESC:Events for Geauga County Board of Commissioners
REFRESH-INTERVAL;VALUE=DURATION:PT1H
X-Robots-Tag:noindex
X-PUBLISHED-TTL:PT1H
BEGIN:VTIMEZONE
TZID:America/New_York
BEGIN:DAYLIGHT
TZOFFSETFROM:-0500
TZOFFSETTO:-0400
TZNAME:EDT
DTSTART:20200308T070000
END:DAYLIGHT
BEGIN:STANDARD
TZOFFSETFROM:-0400
TZOFFSETTO:-0500
TZNAME:EST
DTSTART:20201101T060000
END:STANDARD
BEGIN:DAYLIGHT
TZOFFSETFROM:-0500
TZOFFSETTO:-0400
TZNAME:EDT
DTSTART:20210314T070000
END:DAYLIGHT
BEGIN:STANDARD
TZOFFSETFROM:-0400
TZOFFSETTO:-0500
TZNAME:EST
DTSTART:20211107T060000
END:STANDARD
BEGIN:DAYLIGHT
TZOFFSETFROM:-0500
TZOFFSETTO:-0400
TZNAME:EDT
DTSTART:20220313T070000
END:DAYLIGHT
BEGIN:STANDARD
TZOFFSETFROM:-0400
TZOFFSETTO:-0500
TZNAME:EST
DTSTART:20221106T060000
END:STANDARD
END:VTIMEZONE
BEGIN:VEVENT
DTSTART;TZID=America/New_York:20211214T093000
DTEND;TZID=America/New_York:20211214T103000
DTSTAMP:20260426T003204
CREATED:20211208T200805Z
LAST-MODIFIED:20211221T141328Z
UID:4041-1639474200-1639477800@bocc.geauga.oh.gov
SUMMARY:Weekly Session
DESCRIPTION:AGENDA \nFor the Board of County Commissioners Meeting of December 14\, 2021 \nOpen the meeting at 9:30 a.m. with the Pledge of Allegiance. \n\nThe Commissioners’ Office will report on the items approved December 7\, 2021 and December 10\, 2021 by the County Administrator\, authorized by Resolution #21-003 under the direction and supervision of the County Commissioners that was approved January 5\, 2021\, pursuant to O.R.C. 305.30.\nThe Commissioners’ Office is requesting the Board approve and execute Resolution #21-167 itemizing the financials for the meeting of December 14\, 2021.\nThe County Engineer’s Office is requesting the Board approve and execute Change Order #1\, Final decreasing the Contract with Ronyak Paving\, Incorporated for the Asphalt Resurfacing of Butternut Road (CH-0021\, Sections D-E) in Munson and Newbury Townships in the amount of $1\,128.80.\nThe County Engineer’s Office is requesting the Board approve and authorize Timothy C. Lennon\, member and Chief Executive Officer to execute the Ohio Public Works Commission (OPWC)\, Appendix E – Disbursement Request Form and Certification No. 1 and Final\, in order to release funds from the state portion of our OPWC grant for the Auburn Road Resurfacing project in Newbury Township in the amount of $172\,152.87.\nThe County Engineer’s Office is requesting the Board approve and authorize Timothy C. Lennon\, member and Chief Executive Officer to execute the Ohio Public Works Commission (OPWC)\, Appendix E – Disbursement Request Form and Certification No. 2 and Final\, in order to release funds from the state portion of our OPWC grant for Taylor Wells Road Bridge Replacement in Claridon Township in the amount of $2\,778.75.\nThe County Engineer’s Office is requesting the Board approve and execute Resolution #21-168 appointing Board Member\, Timothy C. Lennon\, as the Chief Executive Officer and Certifying Representative for the proposed Farmington Road Bridge Replacement (Structure #0018-01.96) in Parkman Township and further approve and authorize the Chief Executive Officer to execute the State of Ohio Public Works Commission application for financial assistance.\nThe County Engineer’s Office is requesting the Board approve and execute Resolution #21-169 appointing Board Member\, Timothy C. Lennon\, as the Chief Executive Officer and Certifying Representative for the proposed Auburn Road Resurfacing (CH 0004\, Sections N-O) in Munson Township and further approve and authorize the Chief Executive Officer to execute the State of Ohio Public Works Commission application for financial assistance.\nThe County Engineer’s Office is requesting the Board approve and execute Resolution #21-170 appointing Board Member\, Timothy C. Lennon\, as the Chief Executive Officer and Certifying Representative for the proposed Munn Road Resurfacing (CH 0032\, Sections A-C) in Auburn Township and further approve and authorize the Chief Executive Officer to execute the State of Ohio Public Works Commission application for financial assistance.\nThe County Engineer’s Office is requesting the Board approve and execute Resolution #21-171 appointing Board Member\, Timothy C. Lennon\, as the Chief Executive Officer and Certifying Representative for the proposed Fairmount Road Resurfacing (CH 0016\, Sections A-B) in Russell Township and further approve and authorize the Chief Executive Officer to execute the State of Ohio Public Works Commission application for financial assistance.\nThe County Engineer’s Office is requesting the Board approve and execute Resolution #21-172 to Order the Replacement of the Wilson Mills Road Bridge (Structure #0008-04.690) in Chester Township.\nThis resolution also requests the Board approve and execute the Cover Sheet of the Plans for the same.\nFurther\, this resolution sets a Bid Opening on January 12\, 2022 at 2:00 p.m. Notice of this Bid Opening will be advertised on December 16\, 2021 and on the county website.\nThe Department on Aging is requesting the Board approve and authorize the President of the Board to execute the Western Reserve Area Agency on Aging Contract with the Geauga County Department on Aging for the Older Americans Act / Senior Community Services programs for the period January 1\, 2022 through December 31\, 2022 in the amount of $348\,000.00 (Supportive Services IIIB $115\,000.00\, Transportation IIIB $90\,000.00\, Transportation IIIE $120\,000.00\, Matter of Balance IIID $15\,000.00 and Diabetes Self- Management IIID $8\,000.00).\nThe Commissioners’ Office is requesting the Board approve and authorize the President of the Board to execute the Addendum to Payment Processing Agreement with Gila LLC d.b.a. Municipal Services Bureau (MSB) to provide Credit Card Payment Processing for Expenses Owed and Donations made to Departments under the Commissioner’s Hiring Authority by extending the contract by one additional year from December 14\, 2021 up to and including December 14\, 2022\, with all terms and provisions of the Agreement remain in full force and effect\, except as specifically modified herein.\n\nACKNOWLEDGEMENTS \n\nA weekly report filed by the County Dog Warden of all dogs seized\, impounded\, redeemed or destroyed for the weeks ending November 24\, 2021 and December 1\, 2021 as required by O.R.C. 955.12.\nA monthly report filed by the Geauga County Sheriff’s Office of an account of expenses for the Prisoner Transport for the month ending November\, 2021 as required by O.R.C. 325.07.
URL:https://bocc.geauga.oh.gov/event/weekly-session-december-14-2021/
LOCATION:OH
END:VEVENT
BEGIN:VEVENT
DTSTART;TZID=America/New_York:20211210T090000
DTEND;TZID=America/New_York:20211210T100000
DTSTAMP:20260426T003204
CREATED:20211208T200248Z
LAST-MODIFIED:20211208T202734Z
UID:4034-1639126800-1639130400@bocc.geauga.oh.gov
SUMMARY:NOACA Board of Directors Meeting
DESCRIPTION:
URL:https://bocc.geauga.oh.gov/event/noaca-board-of-directors-meeting/
LOCATION:NOACA Offices\, 1299 Superior Avenue\, Cleveland\, OH\, 44114\, United States
END:VEVENT
BEGIN:VEVENT
DTSTART;VALUE=DATE:20211208
DTEND;VALUE=DATE:20211211
DTSTAMP:20260426T003204
CREATED:20211208T194108Z
LAST-MODIFIED:20211208T202808Z
UID:4016-1638921600-1639180799@bocc.geauga.oh.gov
SUMMARY:CCAO Winter Conference
DESCRIPTION:
URL:https://bocc.geauga.oh.gov/event/ccao-winter-conference/
LOCATION:OH
END:VEVENT
END:VCALENDAR