BEGIN:VCALENDAR
VERSION:2.0
PRODID:-//Geauga County Board of Commissioners - ECPv6.15.20//NONSGML v1.0//EN
CALSCALE:GREGORIAN
METHOD:PUBLISH
X-WR-CALNAME:Geauga County Board of Commissioners
X-ORIGINAL-URL:https://bocc.geauga.oh.gov
X-WR-CALDESC:Events for Geauga County Board of Commissioners
REFRESH-INTERVAL;VALUE=DURATION:PT1H
X-Robots-Tag:noindex
X-PUBLISHED-TTL:PT1H
BEGIN:VTIMEZONE
TZID:America/New_York
BEGIN:DAYLIGHT
TZOFFSETFROM:-0500
TZOFFSETTO:-0400
TZNAME:EDT
DTSTART:20210314T070000
END:DAYLIGHT
BEGIN:STANDARD
TZOFFSETFROM:-0400
TZOFFSETTO:-0500
TZNAME:EST
DTSTART:20211107T060000
END:STANDARD
BEGIN:DAYLIGHT
TZOFFSETFROM:-0500
TZOFFSETTO:-0400
TZNAME:EDT
DTSTART:20220313T070000
END:DAYLIGHT
BEGIN:STANDARD
TZOFFSETFROM:-0400
TZOFFSETTO:-0500
TZNAME:EST
DTSTART:20221106T060000
END:STANDARD
BEGIN:DAYLIGHT
TZOFFSETFROM:-0500
TZOFFSETTO:-0400
TZNAME:EDT
DTSTART:20230312T070000
END:DAYLIGHT
BEGIN:STANDARD
TZOFFSETFROM:-0400
TZOFFSETTO:-0500
TZNAME:EST
DTSTART:20231105T060000
END:STANDARD
END:VTIMEZONE
BEGIN:VEVENT
DTSTART;TZID=America/New_York:20220328T090000
DTEND;TZID=America/New_York:20220328T110000
DTSTAMP:20260425T120100
CREATED:20220228T195010Z
LAST-MODIFIED:20220404T191223Z
UID:5906-1648458000-1648465200@bocc.geauga.oh.gov
SUMMARY:Board of Revision – Auditor’s Office
DESCRIPTION:
URL:https://bocc.geauga.oh.gov/event/board-of-revision-march-28-2022/
LOCATION:Auditor’s Office\, 231 Main St Suite 1A\, Chardon\, OH\, 44024\, United States
END:VEVENT
BEGIN:VEVENT
DTSTART;TZID=America/New_York:20220322T093000
DTEND;TZID=America/New_York:20220322T103000
DTSTAMP:20260425T120100
CREATED:20220228T194915Z
LAST-MODIFIED:20220228T194915Z
UID:5904-1647941400-1647945000@bocc.geauga.oh.gov
SUMMARY:Weekly Session
DESCRIPTION:
URL:https://bocc.geauga.oh.gov/event/weekly-session-march-22-2022/
LOCATION:OH
END:VEVENT
BEGIN:VEVENT
DTSTART;TZID=America/New_York:20220321T133000
DTEND;TZID=America/New_York:20220321T143000
DTSTAMP:20260425T120100
CREATED:20220228T194805Z
LAST-MODIFIED:20220228T194804Z
UID:5902-1647869400-1647873000@bocc.geauga.oh.gov
SUMMARY:Family First Council
DESCRIPTION:
URL:https://bocc.geauga.oh.gov/event/family-first-council-march-21-2022/
LOCATION:Board of Mental Health and Recovery Services\, 13244 Ravenna Rd\, Chardon\, OH\, 44024\, United States
END:VEVENT
BEGIN:VEVENT
DTSTART;TZID=America/New_York:20220318T090000
DTEND;TZID=America/New_York:20220318T100000
DTSTAMP:20260425T120100
CREATED:20220228T194555Z
LAST-MODIFIED:20220228T194621Z
UID:5899-1647594000-1647597600@bocc.geauga.oh.gov
SUMMARY:NOACA Subcommittee Meetings
DESCRIPTION:
URL:https://bocc.geauga.oh.gov/event/noaca-subcommittee-meetings-march-18-2022/
LOCATION:NOACA Offices\, 1299 Superior Avenue\, Cleveland\, OH\, 44114\, United States
END:VEVENT
BEGIN:VEVENT
DTSTART;TZID=America/New_York:20220315T140000
DTEND;TZID=America/New_York:20220315T150000
DTSTAMP:20260425T120100
CREATED:20220308T130655Z
LAST-MODIFIED:20220308T130711Z
UID:5922-1647352800-1647356400@bocc.geauga.oh.gov
SUMMARY:ADP Meeting
DESCRIPTION:
URL:https://bocc.geauga.oh.gov/event/adp-meeting-march-15-2022/
LOCATION:Auditor’s Office\, 231 Main St Suite 1A\, Chardon\, OH\, 44024\, United States
END:VEVENT
BEGIN:VEVENT
DTSTART;TZID=America/New_York:20220315T130000
DTEND;TZID=America/New_York:20220315T140000
DTSTAMP:20260425T120100
CREATED:20220308T130553Z
LAST-MODIFIED:20220308T130609Z
UID:5920-1647349200-1647352800@bocc.geauga.oh.gov
SUMMARY:Geauga Trumbull Solid Waste Management District\, Board of Directors meeting
DESCRIPTION:
URL:https://bocc.geauga.oh.gov/event/geauga-trumbull-solid-waste-management-district-board-of-directors-meeting-march-15-2022/
LOCATION:Geauga-Trumbull Solid Waste Management District\, Warren\, District Office\, 5138 Enterprise Dr NW\, Warren\, OH\, 44481\, United States
END:VEVENT
BEGIN:VEVENT
DTSTART;TZID=America/New_York:20220315T093000
DTEND;TZID=America/New_York:20220315T103000
DTSTAMP:20260425T120100
CREATED:20220224T152017Z
LAST-MODIFIED:20220224T152024Z
UID:5893-1647336600-1647340200@bocc.geauga.oh.gov
SUMMARY:Weekly Session
DESCRIPTION:The Commissioners will hold regular session at 9:30 a.m.
URL:https://bocc.geauga.oh.gov/event/weekly-session-march-15-2022/
LOCATION:OH
END:VEVENT
BEGIN:VEVENT
DTSTART;TZID=America/New_York:20220315T084500
DTEND;TZID=America/New_York:20220315T094500
DTSTAMP:20260425T120100
CREATED:20220308T130447Z
LAST-MODIFIED:20220308T130503Z
UID:5918-1647333900-1647337500@bocc.geauga.oh.gov
SUMMARY:Investment Advisory Committee
DESCRIPTION:
URL:https://bocc.geauga.oh.gov/event/investment-advisory-committee-march-15-2022/
LOCATION:OH
END:VEVENT
BEGIN:VEVENT
DTSTART;TZID=America/New_York:20220314T090000
DTEND;TZID=America/New_York:20220314T113000
DTSTAMP:20260425T120100
CREATED:20220224T152316Z
LAST-MODIFIED:20220224T152316Z
UID:5897-1647248400-1647257400@bocc.geauga.oh.gov
SUMMARY:Board of Revision
DESCRIPTION:
URL:https://bocc.geauga.oh.gov/event/board-of-revision-march-14-2022/
LOCATION:Auditor’s Office\, 231 Main St Suite 1A\, Chardon\, OH\, 44024\, United States
END:VEVENT
BEGIN:VEVENT
DTSTART;TZID=America/New_York:20220311T090000
DTEND;TZID=America/New_York:20220311T100000
DTSTAMP:20260425T120100
CREATED:20220228T195315Z
LAST-MODIFIED:20220228T195335Z
UID:5912-1646989200-1646992800@bocc.geauga.oh.gov
SUMMARY:NOACA Board of Directors Meeting
DESCRIPTION:
URL:https://bocc.geauga.oh.gov/event/noaca-board-of-directors-meeting-march-11-2022/
LOCATION:NOACA Offices\, 1299 Superior Avenue\, Cleveland\, OH\, 44114\, United States
END:VEVENT
BEGIN:VEVENT
DTSTART;TZID=America/New_York:20220311T080000
DTEND;TZID=America/New_York:20220311T090000
DTSTAMP:20260425T120100
CREATED:20220228T195232Z
LAST-MODIFIED:20220228T195232Z
UID:5910-1646985600-1646989200@bocc.geauga.oh.gov
SUMMARY:NOACA Legislative Meet and Greet
DESCRIPTION:
URL:https://bocc.geauga.oh.gov/event/noaca-legislative-meet-and-greet-march-11-2022/
LOCATION:NOACA Offices\, 1299 Superior Avenue\, Cleveland\, OH\, 44114\, United States
END:VEVENT
BEGIN:VEVENT
DTSTART;TZID=America/New_York:20220308T093000
DTEND;TZID=America/New_York:20220308T103000
DTSTAMP:20260425T120100
CREATED:20220224T151918Z
LAST-MODIFIED:20220224T151933Z
UID:5891-1646731800-1646735400@bocc.geauga.oh.gov
SUMMARY:Weekly Session
DESCRIPTION:The Commissioners will hold regular session at 9:30 a.m.
URL:https://bocc.geauga.oh.gov/event/weekly-session-march-8-2022/
LOCATION:OH
END:VEVENT
BEGIN:VEVENT
DTSTART;TZID=America/New_York:20220301T093000
DTEND;TZID=America/New_York:20220301T223000
DTSTAMP:20260425T120100
CREATED:20220224T151823Z
LAST-MODIFIED:20220224T151841Z
UID:5889-1646127000-1646173800@bocc.geauga.oh.gov
SUMMARY:Weekly Session
DESCRIPTION:The Commissioners will hold regular session at 9:30 a.m.
URL:https://bocc.geauga.oh.gov/event/weekly-session-march-1-2022/
LOCATION:OH
END:VEVENT
BEGIN:VEVENT
DTSTART;TZID=America/New_York:20220228T133000
DTEND;TZID=America/New_York:20220228T143000
DTSTAMP:20260425T120100
CREATED:20220207T164001Z
LAST-MODIFIED:20220425T184219Z
UID:5812-1646055000-1646058600@bocc.geauga.oh.gov
SUMMARY:Family First Council
DESCRIPTION:Family First Council\, 1:30 p.m. Mental Health Offices
URL:https://bocc.geauga.oh.gov/event/family-first-council-february-28-2022/
LOCATION:Board of Mental Health and Recovery Services\, 13244 Ravenna Rd\, Chardon\, OH\, 44024\, United States
END:VEVENT
BEGIN:VEVENT
DTSTART;TZID=America/New_York:20220224T093000
DTEND;TZID=America/New_York:20220224T103000
DTSTAMP:20260425T120100
CREATED:20220207T163757Z
LAST-MODIFIED:20220425T183246Z
UID:5810-1645695000-1645698600@bocc.geauga.oh.gov
SUMMARY:Weekly Session
DESCRIPTION:The Commissioners will hold regular session at 9:30 a.m.
URL:https://bocc.geauga.oh.gov/event/weekly-session-february-24-2022/
LOCATION:OH
END:VEVENT
BEGIN:VEVENT
DTSTART;VALUE=DATE:20220221
DTEND;VALUE=DATE:20220222
DTSTAMP:20260425T120100
CREATED:20220207T163402Z
LAST-MODIFIED:20220209T165824Z
UID:5807-1645401600-1645487999@bocc.geauga.oh.gov
SUMMARY:County Offices Closed
DESCRIPTION:County offices will be closed for general business due to the Presidents’ Day holiday. Twenty-four-hour operations will continue to operate as usual.
URL:https://bocc.geauga.oh.gov/event/county-offices-closed-february-21-2022/
LOCATION:OH
END:VEVENT
BEGIN:VEVENT
DTSTART;TZID=America/New_York:20220215T093000
DTEND;TZID=America/New_York:20220215T103000
DTSTAMP:20260425T120100
CREATED:20220131T202458Z
LAST-MODIFIED:20220208T185759Z
UID:5796-1644917400-1644921000@bocc.geauga.oh.gov
SUMMARY:Weekly Session CANCELLED
DESCRIPTION:
URL:https://bocc.geauga.oh.gov/event/weekly-session-february-15-2022/
LOCATION:OH
END:VEVENT
BEGIN:VEVENT
DTSTART;TZID=America/New_York:20220211T083000
DTEND;TZID=America/New_York:20220211T123000
DTSTAMP:20260425T120100
CREATED:20220119T203722Z
LAST-MODIFIED:20220119T203751Z
UID:5768-1644568200-1644582600@bocc.geauga.oh.gov
SUMMARY:NOACA
DESCRIPTION:Finance & Audit 8:30 a.m.\nGovernance 10:00 a.m.\nExecutive 11:30 a.m
URL:https://bocc.geauga.oh.gov/event/noaca-february-11-2022/
LOCATION:NOACA Offices\, 1299 Superior Avenue\, Cleveland\, OH\, 44114\, United States
END:VEVENT
BEGIN:VEVENT
DTSTART;TZID=America/New_York:20220208T093000
DTEND;TZID=America/New_York:20220208T103000
DTSTAMP:20260425T120100
CREATED:20220119T203620Z
LAST-MODIFIED:20220119T203620Z
UID:5766-1644312600-1644316200@bocc.geauga.oh.gov
SUMMARY:Weekly Session
DESCRIPTION:
URL:https://bocc.geauga.oh.gov/event/weekly-session-february-8-2022/
LOCATION:OH
END:VEVENT
BEGIN:VEVENT
DTSTART;TZID=America/New_York:20220207T090000
DTEND;TZID=America/New_York:20220207T130000
DTSTAMP:20260425T120100
CREATED:20220119T203409Z
LAST-MODIFIED:20220119T203408Z
UID:5762-1644224400-1644238800@bocc.geauga.oh.gov
SUMMARY:Board of Revision
DESCRIPTION:
URL:https://bocc.geauga.oh.gov/event/board-of-revision-february-7-2022/
LOCATION:Auditor’s Office\, 231 Main St Suite 1A\, Chardon\, OH\, 44024\, United States
END:VEVENT
BEGIN:VEVENT
DTSTART;TZID=America/New_York:20220201T130000
DTEND;TZID=America/New_York:20220201T150000
DTSTAMP:20260425T120100
CREATED:20220119T203248Z
LAST-MODIFIED:20220119T203315Z
UID:5760-1643720400-1643727600@bocc.geauga.oh.gov
SUMMARY:Geauga Trumbull Solid Waste Management District\, Board of Directors meeting
DESCRIPTION:
URL:https://bocc.geauga.oh.gov/event/geauga-trumbull-solid-waste-management-district-board-of-directors-meeting-february-1-2022/
LOCATION:Geauga-Trumbull Solid Waste Management District\, Warren\, District Office\, 5138 Enterprise Dr NW\, Warren\, OH\, 44481\, United States
END:VEVENT
BEGIN:VEVENT
DTSTART;TZID=America/New_York:20220201T103000
DTEND;TZID=America/New_York:20220201T113000
DTSTAMP:20260425T120100
CREATED:20220124T163159Z
LAST-MODIFIED:20220124T163306Z
UID:5789-1643711400-1643715000@bocc.geauga.oh.gov
SUMMARY:Pre-Audit meeting with the State Auditor’s
DESCRIPTION:This will occur following normal session.
URL:https://bocc.geauga.oh.gov/event/pre-audit-meeting-with-the-state-auditors/
LOCATION:OH
END:VEVENT
BEGIN:VEVENT
DTSTART;TZID=America/New_York:20220201T093000
DTEND;TZID=America/New_York:20220201T103000
DTSTAMP:20260425T120100
CREATED:20220119T203055Z
LAST-MODIFIED:20220119T203054Z
UID:5756-1643707800-1643711400@bocc.geauga.oh.gov
SUMMARY:Weekly Session
DESCRIPTION:
URL:https://bocc.geauga.oh.gov/event/weekly-session-february-1-2022/
LOCATION:OH
END:VEVENT
BEGIN:VEVENT
DTSTART;TZID=America/New_York:20220125T093000
DTEND;TZID=America/New_York:20220125T103000
DTSTAMP:20260425T120100
CREATED:20220113T133805Z
LAST-MODIFIED:20220125T130507Z
UID:5751-1643103000-1643106600@bocc.geauga.oh.gov
SUMMARY:Weekly Session
DESCRIPTION:
URL:https://bocc.geauga.oh.gov/event/weekly-session-january-25-2022/
LOCATION:OH
END:VEVENT
BEGIN:VEVENT
DTSTART;TZID=America/New_York:20220124T133000
DTEND;TZID=America/New_York:20220124T153000
DTSTAMP:20260425T120100
CREATED:20220113T132720Z
LAST-MODIFIED:20220113T132720Z
UID:5749-1643031000-1643038200@bocc.geauga.oh.gov
SUMMARY:Family First Council
DESCRIPTION:
URL:https://bocc.geauga.oh.gov/event/family-first-council-january-24-2022/
LOCATION:Board of Mental Health and Recovery Services\, 13244 Ravenna Rd\, Chardon\, OH\, 44024\, United States
END:VEVENT
BEGIN:VEVENT
DTSTART;TZID=America/New_York:20220121T133000
DTEND;TZID=America/New_York:20220121T153000
DTSTAMP:20260425T120100
CREATED:20220113T132504Z
LAST-MODIFIED:20220113T132504Z
UID:5747-1642771800-1642779000@bocc.geauga.oh.gov
SUMMARY:NOACA Board of Directors Meeting
DESCRIPTION:
URL:https://bocc.geauga.oh.gov/event/noaca-board-of-directors-meeting-january-20-2022/
LOCATION:NOACA Offices\, 1299 Superior Avenue\, Cleveland\, OH\, 44114\, United States
END:VEVENT
BEGIN:VEVENT
DTSTART;TZID=America/New_York:20220120T103000
DTEND;TZID=America/New_York:20220120T113000
DTSTAMP:20260425T120100
CREATED:20220119T203154Z
LAST-MODIFIED:20220119T203858Z
UID:5758-1642674600-1642678200@bocc.geauga.oh.gov
SUMMARY:Pre-Audit meeting with the State Auditor’s (following session)
DESCRIPTION:
URL:https://bocc.geauga.oh.gov/event/pre-audit-meeting-february-1-2022/
LOCATION:OH
END:VEVENT
BEGIN:VEVENT
DTSTART;VALUE=DATE:20220117
DTEND;VALUE=DATE:20220118
DTSTAMP:20260425T120100
CREATED:20211227T173739Z
LAST-MODIFIED:20211227T173739Z
UID:5691-1642377600-1642463999@bocc.geauga.oh.gov
SUMMARY:County Offices Closed
DESCRIPTION:County offices will be closed for general business due to Martin Luther King Jr. holiday. Twenty-four hour operations will continue to operate as usual.
URL:https://bocc.geauga.oh.gov/event/county-offices-closed-january-17-2022/
LOCATION:OH
END:VEVENT
BEGIN:VEVENT
DTSTART;TZID=America/New_York:20220112T183000
DTEND;TZID=America/New_York:20220112T203000
DTSTAMP:20260425T120100
CREATED:20220113T131709Z
LAST-MODIFIED:20220113T131840Z
UID:5742-1642012200-1642019400@bocc.geauga.oh.gov
SUMMARY:Geauga County Township Association Dinner
DESCRIPTION:
URL:https://bocc.geauga.oh.gov/event/geauga-county-township-association-dinner-january-12-2022/
LOCATION:Punderson Manor\, 11755 Kinsman Road\, Newbury\, OH\, 44065\, United States
END:VEVENT
BEGIN:VEVENT
DTSTART;TZID=America/New_York:20220111T093000
DTEND;TZID=America/New_York:20220111T223000
DTSTAMP:20260425T120100
CREATED:20211221T141642Z
LAST-MODIFIED:20220113T131115Z
UID:5650-1641893400-1641940200@bocc.geauga.oh.gov
SUMMARY:Weekly Session
DESCRIPTION:AGENDA \nFor the Board of County Commissioners Meeting of January 11\, 2022 \nOpen the meeting at 9:30 a.m. with the Pledge of Allegiance. \n\nThe Commissioners’ Office is requesting the Board approve and execute Resolution #22-005 itemizing the financials for the meeting of January 11\, 2022.\nThe Commissioners’ Office is requesting the Board request the County Auditor distribute the balance in the Domestic Violence Fund (2070) to Womensafe\, the local agency designated by the Commissioners to receive such monies. This allocation is to be paid pursuant to Section 3113.34 of the O.R.C. for the 2021 year\, in the amount of $12\,796.97.\nThe County Engineer’s Office is requesting the Board approve and execute the Ohio Department of Transportation\, Office of Technical Services 2021 County Highway System Mileage Certification for 234.757 miles of public roads.\nThe County Engineer’s Office is requesting the Board approve and authorize Timothy C. Lennon\, Board member and Chief Executive Officer to execute the Ohio Public Works Commission Appendix E – Disbursement Request Form and Certification #2\, Final in order to release funds from the state portion of our OPWC grant for the Butternut Road Resurfacing (Sections D-E) in Munson and Newbury Townships in the amount of $52\,128.08.\nThe Department on Aging is requesting the Board approve and authorize the President of the Board to execute the Legal Services Agreement with Patricia J. Schraff\, Esq of Schraff Thomas LLC for legal services that include counsel\, advise and representation of clients that are Geauga County residents age 60 and over for the period January 1\, 2022 through December 31\, 2023 in the amount of $125.00 per hour ($101.03 paid by the Department on Aging and $23.97 per hour paid by the Western Reserve Area Agency on Aging) for up to seven hundred and ninety-eight (798) hours per year.\nThe Department of Emergency Services is requesting the Board approve and authorize the President of the Board to execute the Application for Authorization to Permit the Use of County Credit Cards\, O.R.C. 301.27\, for the Year 2022 for a PNC Giant Eagle card and Geauga Credit Union Visa in an amount not to exceed $1\,000.00 per month per card for Roger Peterson\, Judith Oberstar\, Thomas Vencl and Michael Rice.\nThe Transit Department is requesting the Board approve and authorize the President of the Board to execute the Ohio Department of Transportation (ODOT)\, Section 5311 Rural Transit Program CY2022 Grant Program Year Subaward Grant Agreement (#OH-2020-005) in the amount of $801\,001.00\, Federal Funds for Operating Expenses in the amount of $610\,839.00 and Federal Funds for Capitalized Maintenance Expenses in the amount of $190\,162.00 for the grant period January 1\, 2022 through December 31\, 2022 and further authorize the Transit Director to electronically submit the Agreement to ODOT.\nThe Commissioners’ Office is requesting the Board approve and execute Resolution #22-006 to Designate the Official Representative and Alternate for the purpose of voting at meetings of the County Commissioners Association of Ohio (CCAO) in 2022.\nThe Commissioners’ Office is requesting the Board approve and authorize the President of the Board to execute Partial Payment Request #14 for Donley’s Independence LLC for the new County Office Building\, GMP #1 and #2 in the amount of $1\,535\,293.97.\nThe Commissioners’ Office is requesting the Board appoint Kenneth C. Burnett\, Burton Township Trustee as Alternate for James W. Dvorak on the Geauga Trumbull Solid Waste Management District Policy Committee for 2022.\n\nACKNOWLEDGEMENTS \n\nThe Monthly Financial Report from the County Building Department for the month of December\, 2021.\nA weekly report filed by the County Dog Warden of all dogs seized\, impounded\, redeemed or destroyed for the weeks ending December 29\, 2021 and January 5\, 2022 as required by O.R.C. 955.12.\nA monthly report filed by the Geauga County Sheriff’s Office of an account of expenses for the Inmate meals for the month ending December\, 2021.\nA monthly report filed by the Geauga County Sheriff’s Office of an account of expenses for the Prisoner Transport for the month ending December\, 2021 as required by O.R.C. 325.07.\nOhio Department of Agriculture\, Office of Farmland Preservation\, 2021 Annual Monitoring Reports for the Binnig\, Anna and O’Reilly properties
URL:https://bocc.geauga.oh.gov/event/weekly-session-january-11-2021/
LOCATION:OH
END:VEVENT
END:VCALENDAR