BEGIN:VCALENDAR
VERSION:2.0
PRODID:-//Geauga County Board of Commissioners - ECPv6.15.20//NONSGML v1.0//EN
CALSCALE:GREGORIAN
METHOD:PUBLISH
X-WR-CALNAME:Geauga County Board of Commissioners
X-ORIGINAL-URL:https://bocc.geauga.oh.gov
X-WR-CALDESC:Events for Geauga County Board of Commissioners
REFRESH-INTERVAL;VALUE=DURATION:PT1H
X-Robots-Tag:noindex
X-PUBLISHED-TTL:PT1H
BEGIN:VTIMEZONE
TZID:America/New_York
BEGIN:DAYLIGHT
TZOFFSETFROM:-0500
TZOFFSETTO:-0400
TZNAME:EDT
DTSTART:20230312T070000
END:DAYLIGHT
BEGIN:STANDARD
TZOFFSETFROM:-0400
TZOFFSETTO:-0500
TZNAME:EST
DTSTART:20231105T060000
END:STANDARD
BEGIN:DAYLIGHT
TZOFFSETFROM:-0500
TZOFFSETTO:-0400
TZNAME:EDT
DTSTART:20240310T070000
END:DAYLIGHT
BEGIN:STANDARD
TZOFFSETFROM:-0400
TZOFFSETTO:-0500
TZNAME:EST
DTSTART:20241103T060000
END:STANDARD
BEGIN:DAYLIGHT
TZOFFSETFROM:-0500
TZOFFSETTO:-0400
TZNAME:EDT
DTSTART:20250309T070000
END:DAYLIGHT
BEGIN:STANDARD
TZOFFSETFROM:-0400
TZOFFSETTO:-0500
TZNAME:EST
DTSTART:20251102T060000
END:STANDARD
END:VTIMEZONE
BEGIN:VEVENT
DTSTART;TZID=America/New_York:20240805T100000
DTEND;TZID=America/New_York:20240805T100000
DTSTAMP:20260423T031136
CREATED:20240729T182050Z
LAST-MODIFIED:20240729T182050Z
UID:12069-1722852000-1722852000@bocc.geauga.oh.gov
SUMMARY:OneOhio Region 13 Board Meeting
DESCRIPTION:OneOhio Region 13 Board Meeting\, 10:00 a.m.
URL:https://bocc.geauga.oh.gov/event/oneohio-region-13-board-meeting-2/
LOCATION:OH
END:VEVENT
BEGIN:VEVENT
DTSTART;TZID=America/New_York:20240806T093000
DTEND;TZID=America/New_York:20240806T093000
DTSTAMP:20260423T031136
CREATED:20240715T182443Z
LAST-MODIFIED:20240715T182443Z
UID:12039-1722936600-1722936600@bocc.geauga.oh.gov
SUMMARY:Commissioners' Meeting
DESCRIPTION:The Commissioners will hold session at 9:30 a.m.
URL:https://bocc.geauga.oh.gov/event/commissioners-meeting-31/
LOCATION:Commissioners’ Chambers\, 12611 Ravenwood Drive\, Room B303\, Chardon\, OH\, 44024\, United States
END:VEVENT
BEGIN:VEVENT
DTSTART;TZID=America/New_York:20240813T093000
DTEND;TZID=America/New_York:20240813T093000
DTSTAMP:20260423T031136
CREATED:20240715T182625Z
LAST-MODIFIED:20240729T182649Z
UID:12041-1723541400-1723541400@bocc.geauga.oh.gov
SUMMARY:Commissioners' Meeting & Public Viewing
DESCRIPTION:The Commissioners will hold session at 9:30 a.m. that will include a Public Viewing at 2:00 p.m.\nfor the Proposed Vacation of Public Right of Way upon a portion of Tulip Lane (TR-0307) in Bainbridge Township.
URL:https://bocc.geauga.oh.gov/event/commissioners-meeting-32/
LOCATION:Commissioners’ Chambers\, 12611 Ravenwood Drive\, Room B303\, Chardon\, OH\, 44024\, United States
END:VEVENT
BEGIN:VEVENT
DTSTART;TZID=America/New_York:20240819T133000
DTEND;TZID=America/New_York:20240819T133000
DTSTAMP:20260423T031136
CREATED:20240816T185036Z
LAST-MODIFIED:20240816T185036Z
UID:12101-1724074200-1724074200@bocc.geauga.oh.gov
SUMMARY:Family First Council
DESCRIPTION:Family First Council\, 1:30 p.m. – 12611 Ravenwood Drive\, Room B167-168\, Chardon
URL:https://bocc.geauga.oh.gov/event/family-first-council-17/
LOCATION:Geauga County Office Building\, 12611 Ravenwood Drive\, Chardon\, OH\, 44024\, United States
END:VEVENT
BEGIN:VEVENT
DTSTART;TZID=America/New_York:20240820T093000
DTEND;TZID=America/New_York:20240820T093000
DTSTAMP:20260423T031136
CREATED:20240816T185339Z
LAST-MODIFIED:20240816T190216Z
UID:12103-1724146200-1724146200@bocc.geauga.oh.gov
SUMMARY:Commissioners' Meeting & Public Hearing
DESCRIPTION:The Commissioners will hold session at 9:30 a.m. that will include a Public Hearing at 9:45 a.m. on the proposed Vacation of Public Right of Way upon a portion of Tulip Lane (TR-0307) Bainbridge Township
URL:https://bocc.geauga.oh.gov/event/commissioners-meeting-33/
LOCATION:Commissioners’ Chambers\, 12611 Ravenwood Drive\, Room B303\, Chardon\, OH\, 44024\, United States
END:VEVENT
BEGIN:VEVENT
DTSTART;TZID=America/New_York:20240821T090000
DTEND;TZID=America/New_York:20240821T090000
DTSTAMP:20260423T031136
CREATED:20240816T191119Z
LAST-MODIFIED:20240816T191119Z
UID:12107-1724230800-1724230800@bocc.geauga.oh.gov
SUMMARY:Board of Revision
DESCRIPTION:Board of Revision\, 9:00 a.m.\, Auditor’s Appraisal Conference Room
URL:https://bocc.geauga.oh.gov/event/board-of-revision-33/
LOCATION:Auditor’s Appraisal Conference Room\, Chardon\, OH\, United States
END:VEVENT
BEGIN:VEVENT
DTSTART;VALUE=DATE:20240828
DTEND;VALUE=DATE:20240829
DTSTAMP:20260423T031136
CREATED:20240816T191202Z
LAST-MODIFIED:20240816T191202Z
UID:12109-1724803200-1724889599@bocc.geauga.oh.gov
SUMMARY:Perry Nuclear Power Plant Exercise (Dry Run)
DESCRIPTION:
URL:https://bocc.geauga.oh.gov/event/perry-nuclear-power-plant-exercise-dry-run/
LOCATION:OH
END:VEVENT
BEGIN:VEVENT
DTSTART;TZID=America/New_York:20240829T100000
DTEND;TZID=America/New_York:20240829T100000
DTSTAMP:20260423T031136
CREATED:20240816T191322Z
LAST-MODIFIED:20240816T191322Z
UID:12111-1724925600-1724925600@bocc.geauga.oh.gov
SUMMARY:Commissioners' Meeting
DESCRIPTION:The Commissioners will hold session at 10:00 a.m. at the Great Geauga County Fair\, Junior Fair Stage\, Burton
URL:https://bocc.geauga.oh.gov/event/commissioners-meeting-34/
LOCATION:Geauga County Fairgrounds\, 14373 North Cheshire Street\, Burton\, 44021\, United States
END:VEVENT
END:VCALENDAR