BEGIN:VCALENDAR
VERSION:2.0
PRODID:-//Geauga County Board of Commissioners - ECPv6.15.20//NONSGML v1.0//EN
CALSCALE:GREGORIAN
METHOD:PUBLISH
X-ORIGINAL-URL:https://bocc.geauga.oh.gov
X-WR-CALDESC:Events for Geauga County Board of Commissioners
REFRESH-INTERVAL;VALUE=DURATION:PT1H
X-Robots-Tag:noindex
X-PUBLISHED-TTL:PT1H
BEGIN:VTIMEZONE
TZID:America/New_York
BEGIN:DAYLIGHT
TZOFFSETFROM:-0500
TZOFFSETTO:-0400
TZNAME:EDT
DTSTART:20230312T070000
END:DAYLIGHT
BEGIN:STANDARD
TZOFFSETFROM:-0400
TZOFFSETTO:-0500
TZNAME:EST
DTSTART:20231105T060000
END:STANDARD
BEGIN:DAYLIGHT
TZOFFSETFROM:-0500
TZOFFSETTO:-0400
TZNAME:EDT
DTSTART:20240310T070000
END:DAYLIGHT
BEGIN:STANDARD
TZOFFSETFROM:-0400
TZOFFSETTO:-0500
TZNAME:EST
DTSTART:20241103T060000
END:STANDARD
BEGIN:DAYLIGHT
TZOFFSETFROM:-0500
TZOFFSETTO:-0400
TZNAME:EDT
DTSTART:20250309T070000
END:DAYLIGHT
BEGIN:STANDARD
TZOFFSETFROM:-0400
TZOFFSETTO:-0500
TZNAME:EST
DTSTART:20251102T060000
END:STANDARD
END:VTIMEZONE
BEGIN:VEVENT
DTSTART;TZID=America/New_York:20241203T093000
DTEND;TZID=America/New_York:20241203T093000
DTSTAMP:20260422T205105
CREATED:20241118T203415Z
LAST-MODIFIED:20241118T203415Z
UID:12485-1733218200-1733218200@bocc.geauga.oh.gov
SUMMARY:Commissioners' Meeting
DESCRIPTION:The Commissioners will hold session at 9:30 a.m.
URL:https://bocc.geauga.oh.gov/event/commissioners-meeting-48/
LOCATION:Commissioners’ Chambers\, 12611 Ravenwood Drive\, Room B303\, Chardon\, OH\, 44024\, United States
END:VEVENT
BEGIN:VEVENT
DTSTART;VALUE=DATE:20241204
DTEND;VALUE=DATE:20241207
DTSTAMP:20260422T205105
CREATED:20241118T203259Z
LAST-MODIFIED:20241118T203259Z
UID:12483-1733270400-1733529599@bocc.geauga.oh.gov
SUMMARY:CCAO Winter Conference
DESCRIPTION:CCAO Winter Conference\, Columbus\, Ohio
URL:https://bocc.geauga.oh.gov/event/ccao-winter-conference-4/
LOCATION:OH
END:VEVENT
BEGIN:VEVENT
DTSTART;TZID=America/New_York:20241210T073000
DTEND;TZID=America/New_York:20241210T073000
DTSTAMP:20260422T205105
CREATED:20241118T203521Z
LAST-MODIFIED:20241118T203521Z
UID:12487-1733815800-1733815800@bocc.geauga.oh.gov
SUMMARY:Planning Commission Meeting
DESCRIPTION:Planning Commission\, 7:30 a.m. 12611 Ravenwood Drive\, Room A334\, Chardon
URL:https://bocc.geauga.oh.gov/event/planning-commission-meeting-2/
LOCATION:Geauga County Office Building\, 12611 Ravenwood Drive\, Chardon\, OH\, 44024\, United States
END:VEVENT
BEGIN:VEVENT
DTSTART;TZID=America/New_York:20241210T093000
DTEND;TZID=America/New_York:20241210T093000
DTSTAMP:20260422T205105
CREATED:20241118T203613Z
LAST-MODIFIED:20241118T203613Z
UID:12489-1733823000-1733823000@bocc.geauga.oh.gov
SUMMARY:Commissioners' Meeting
DESCRIPTION:The Commissioners will hold session at 9:30 a.m.
URL:https://bocc.geauga.oh.gov/event/commissioners-meeting-49/
LOCATION:Commissioners’ Chambers\, 12611 Ravenwood Drive\, Room B303\, Chardon\, OH\, 44024\, United States
END:VEVENT
BEGIN:VEVENT
DTSTART;TZID=America/New_York:20241210T140000
DTEND;TZID=America/New_York:20241210T140000
DTSTAMP:20260422T205105
CREATED:20241125T211751Z
LAST-MODIFIED:20241125T211751Z
UID:12507-1733839200-1733839200@bocc.geauga.oh.gov
SUMMARY:Geauga Trumbull Solid Waste Management District\, Board of Directors Meeting
DESCRIPTION:Geauga Trumbull Solid Waste Management District\, Board of Directors meeting\, 2:00 p.m. Warren\, District Office
URL:https://bocc.geauga.oh.gov/event/geauga-trumbull-solid-waste-management-district-board-of-directors-meeting-7/
LOCATION:Geauga-Trumbull Solid Waste Management District\, Warren\, District Office\, 5138 Enterprise Dr NW\, Warren\, OH\, 44481\, United States
END:VEVENT
BEGIN:VEVENT
DTSTART;TZID=America/New_York:20241217T090000
DTEND;TZID=America/New_York:20241217T090000
DTSTAMP:20260422T205105
CREATED:20241209T201103Z
LAST-MODIFIED:20241209T201103Z
UID:12565-1734426000-1734426000@bocc.geauga.oh.gov
SUMMARY:Investment Advisory Committee Meeting
DESCRIPTION:Investment Advisory Committee meeting\, 9:00 a.m. County Offices\, Room B303
URL:https://bocc.geauga.oh.gov/event/investment-advisory-committee-meeting/
LOCATION:Geauga County Office Building\, 12611 Ravenwood Drive\, Chardon\, OH\, 44024\, United States
END:VEVENT
BEGIN:VEVENT
DTSTART;TZID=America/New_York:20241217T093000
DTEND;TZID=America/New_York:20241217T093000
DTSTAMP:20260422T205105
CREATED:20241118T203709Z
LAST-MODIFIED:20241118T203709Z
UID:12491-1734427800-1734427800@bocc.geauga.oh.gov
SUMMARY:Commissioners' Meeting
DESCRIPTION:The Commissioners will hold session at 9:30 a.m.
URL:https://bocc.geauga.oh.gov/event/commissioners-meeting-50/
LOCATION:Commissioners’ Chambers\, 12611 Ravenwood Drive\, Room B303\, Chardon\, OH\, 44024\, United States
END:VEVENT
BEGIN:VEVENT
DTSTART;VALUE=DATE:20241225
DTEND;VALUE=DATE:20241226
DTSTAMP:20260422T205105
CREATED:20241209T201253Z
LAST-MODIFIED:20241209T202416Z
UID:12567-1735084800-1735171199@bocc.geauga.oh.gov
SUMMARY:County Offices Closed
DESCRIPTION:County Offices will be closed in honor of Christmas.  Twenty-four-hour operations will continue to operate as normal.
URL:https://bocc.geauga.oh.gov/event/county-offices-cloosed/
LOCATION:OH
END:VEVENT
BEGIN:VEVENT
DTSTART;TZID=America/New_York:20241227T093000
DTEND;TZID=America/New_York:20241227T093000
DTSTAMP:20260422T205105
CREATED:20241209T202009Z
LAST-MODIFIED:20241209T203156Z
UID:12570-1735291800-1735291800@bocc.geauga.oh.gov
SUMMARY:Commissioners' Meeting:  Work Session
DESCRIPTION:The Commissioners will hold session at 9:30 a.m.\, which will include a Work Session regarding the Organization Meeting.
URL:https://bocc.geauga.oh.gov/event/commissioners-meeting-51/
LOCATION:OH
END:VEVENT
BEGIN:VEVENT
DTSTART;TZID=America/New_York:20241230T090000
DTEND;TZID=America/New_York:20241230T090000
DTSTAMP:20260422T205105
CREATED:20241209T202146Z
LAST-MODIFIED:20241209T202146Z
UID:12572-1735549200-1735549200@bocc.geauga.oh.gov
SUMMARY:Board of Revision Special Meeting
DESCRIPTION:Board of Revision\, Special Meeting\, 9:00 a.m.\, Auditor’s Appraisal Conference Room
URL:https://bocc.geauga.oh.gov/event/board-of-revision-special-meeting-2/
LOCATION:Auditor’s Appraisal Conference Room\, Chardon\, OH\, United States
END:VEVENT
END:VCALENDAR