BEGIN:VCALENDAR
VERSION:2.0
PRODID:-//Geauga County Board of Commissioners - ECPv6.15.20//NONSGML v1.0//EN
CALSCALE:GREGORIAN
METHOD:PUBLISH
X-WR-CALNAME:Geauga County Board of Commissioners
X-ORIGINAL-URL:https://bocc.geauga.oh.gov
X-WR-CALDESC:Events for Geauga County Board of Commissioners
REFRESH-INTERVAL;VALUE=DURATION:PT1H
X-Robots-Tag:noindex
X-PUBLISHED-TTL:PT1H
BEGIN:VTIMEZONE
TZID:America/New_York
BEGIN:DAYLIGHT
TZOFFSETFROM:-0500
TZOFFSETTO:-0400
TZNAME:EDT
DTSTART:20240310T070000
END:DAYLIGHT
BEGIN:STANDARD
TZOFFSETFROM:-0400
TZOFFSETTO:-0500
TZNAME:EST
DTSTART:20241103T060000
END:STANDARD
BEGIN:DAYLIGHT
TZOFFSETFROM:-0500
TZOFFSETTO:-0400
TZNAME:EDT
DTSTART:20250309T070000
END:DAYLIGHT
BEGIN:STANDARD
TZOFFSETFROM:-0400
TZOFFSETTO:-0500
TZNAME:EST
DTSTART:20251102T060000
END:STANDARD
BEGIN:DAYLIGHT
TZOFFSETFROM:-0500
TZOFFSETTO:-0400
TZNAME:EDT
DTSTART:20260308T070000
END:DAYLIGHT
BEGIN:STANDARD
TZOFFSETFROM:-0400
TZOFFSETTO:-0500
TZNAME:EST
DTSTART:20261101T060000
END:STANDARD
END:VTIMEZONE
BEGIN:VEVENT
DTSTART;VALUE=DATE:20250101
DTEND;VALUE=DATE:20250102
DTSTAMP:20260422T192328
CREATED:20241209T202341Z
LAST-MODIFIED:20241209T202341Z
UID:12574-1735689600-1735775999@bocc.geauga.oh.gov
SUMMARY:County Offices Closed
DESCRIPTION:County Offices will be closed in honor of New Year’s Day.  Twenty-four-hour operations will continue to operate as normal.
URL:https://bocc.geauga.oh.gov/event/county-offices-closed-27/
LOCATION:OH
END:VEVENT
BEGIN:VEVENT
DTSTART;TZID=America/New_York:20250107T093000
DTEND;TZID=America/New_York:20250107T093000
DTSTAMP:20260422T192328
CREATED:20241209T202540Z
LAST-MODIFIED:20241209T203056Z
UID:12576-1736242200-1736242200@bocc.geauga.oh.gov
SUMMARY:Commissioners' Meeting:  Annual Organizational Meeting
DESCRIPTION:The Commissioners will hold session at 9:30 a.m. and include the Annual Organization Meeting.
URL:https://bocc.geauga.oh.gov/event/commissioners-meeting-52/
LOCATION:Commissioners’ Chambers\, 12611 Ravenwood Drive\, Room B303\, Chardon\, OH\, 44024\, United States
END:VEVENT
BEGIN:VEVENT
DTSTART;TZID=America/New_York:20250113T110000
DTEND;TZID=America/New_York:20250113T110000
DTSTAMP:20260422T192328
CREATED:20250106T191657Z
LAST-MODIFIED:20250106T191657Z
UID:12659-1736766000-1736766000@bocc.geauga.oh.gov
SUMMARY:Board of Revision Organizational Meeting
DESCRIPTION:Board of Revision\, Organizational Meeting\, 11:00 a.m.\, Auditor’s Appraisal Conference Room
URL:https://bocc.geauga.oh.gov/event/board-of-revision-organizational-meeting-2/
LOCATION:Auditor’s Appraisal Conference Room\, Chardon\, OH\, United States
END:VEVENT
BEGIN:VEVENT
DTSTART;TZID=America/New_York:20250113T140000
DTEND;TZID=America/New_York:20250113T140000
DTSTAMP:20260422T192328
CREATED:20250106T191754Z
LAST-MODIFIED:20250106T191754Z
UID:12661-1736776800-1736776800@bocc.geauga.oh.gov
SUMMARY:ADP Organizational Meeting
DESCRIPTION:ADP Organizational Meeting\, 2:00 p.m.\, Auditor’s Appraisal Conference Room
URL:https://bocc.geauga.oh.gov/event/adp-organizational-meeting-2/
LOCATION:Auditor’s Appraisal Conference Room\, Chardon\, OH\, United States
END:VEVENT
BEGIN:VEVENT
DTSTART;TZID=America/New_York:20250114T073000
DTEND;TZID=America/New_York:20250114T073000
DTSTAMP:20260422T192328
CREATED:20250128T210552Z
LAST-MODIFIED:20250128T210552Z
UID:12831-1736839800-1736839800@bocc.geauga.oh.gov
SUMMARY:Planning Commission Meeting
DESCRIPTION:The location for all regular meetings will be at 12611 Ravenwood Drive\, 3rd Floor Conference Room A334\, Chardon\, Ohio 44024.
URL:https://bocc.geauga.oh.gov/event/planning-commission-meeting-3/
LOCATION:Geauga County Office Building\, 12611 Ravenwood Drive\, Chardon\, OH\, 44024\, United States
END:VEVENT
BEGIN:VEVENT
DTSTART;TZID=America/New_York:20250114T093000
DTEND;TZID=America/New_York:20250114T093000
DTSTAMP:20260422T192328
CREATED:20241227T152253Z
LAST-MODIFIED:20241227T153309Z
UID:12626-1736847000-1736847000@bocc.geauga.oh.gov
SUMMARY:Commissioners' Meeting
DESCRIPTION:The Commissioners will hold session at 9:30 a.m. (tentative – pending approval for 2025)
URL:https://bocc.geauga.oh.gov/event/commissioners-meeting-53/
LOCATION:Commissioners’ Chambers\, 12611 Ravenwood Drive\, Room B303\, Chardon\, OH\, 44024\, United States
END:VEVENT
BEGIN:VEVENT
DTSTART;VALUE=DATE:20250120
DTEND;VALUE=DATE:20250121
DTSTAMP:20260422T192328
CREATED:20250106T191911Z
LAST-MODIFIED:20250106T192743Z
UID:12663-1737331200-1737417599@bocc.geauga.oh.gov
SUMMARY:County Offices Closed
DESCRIPTION:County Offices will be closed in honor of Martin Luther King Jr. Day.  Twenty-four hour operations will continue to operate as normal.
URL:https://bocc.geauga.oh.gov/event/county-offices-closed-28/
LOCATION:OH
END:VEVENT
BEGIN:VEVENT
DTSTART;TZID=America/New_York:20250123T093000
DTEND;TZID=America/New_York:20250123T093000
DTSTAMP:20260422T192328
CREATED:20250106T192111Z
LAST-MODIFIED:20250106T192111Z
UID:12665-1737624600-1737624600@bocc.geauga.oh.gov
SUMMARY:Commissioners' Meeting
DESCRIPTION:The Commissioners will hold session at 9:30 a.m.
URL:https://bocc.geauga.oh.gov/event/commissioners-meeting-54/
LOCATION:Commissioners’ Chambers\, 12611 Ravenwood Drive\, Room B303\, Chardon\, OH\, 44024\, United States
END:VEVENT
BEGIN:VEVENT
DTSTART;TZID=America/New_York:20250127T133000
DTEND;TZID=America/New_York:20250127T133000
DTSTAMP:20260422T192328
CREATED:20250123T154420Z
LAST-MODIFIED:20250123T154420Z
UID:12796-1737984600-1737984600@bocc.geauga.oh.gov
SUMMARY:Family First Council
DESCRIPTION:Family First Council\, 1:30 p.m.\, County Office Building\, 12611 Ravenwood Drive\, Room B168/167
URL:https://bocc.geauga.oh.gov/event/family-first-council-20/
LOCATION:Geauga County Office Building\, 12611 Ravenwood Drive\, Chardon\, OH\, 44024\, United States
END:VEVENT
BEGIN:VEVENT
DTSTART;TZID=America/New_York:20250128T093000
DTEND;TZID=America/New_York:20250128T093000
DTSTAMP:20260422T192328
CREATED:20250106T192245Z
LAST-MODIFIED:20250123T160319Z
UID:12667-1738056600-1738056600@bocc.geauga.oh.gov
SUMMARY:Commissioners' Meeting & Public Hearing #2
DESCRIPTION:The Commissioners will hold session at 9:30 a.m. which will include Public Hearing #2 at 9:45 a.m. for the Geauga County Water Management and Sediment Control Regulations\, Amended 2025
URL:https://bocc.geauga.oh.gov/event/commissioners-meeting-55/
LOCATION:Commissioners’ Chambers\, 12611 Ravenwood Drive\, Room B303\, Chardon\, OH\, 44024\, United States
END:VEVENT
END:VCALENDAR