BEGIN:VCALENDAR
VERSION:2.0
PRODID:-//Geauga County Board of Commissioners - ECPv6.15.20//NONSGML v1.0//EN
CALSCALE:GREGORIAN
METHOD:PUBLISH
X-ORIGINAL-URL:https://bocc.geauga.oh.gov
X-WR-CALDESC:Events for Geauga County Board of Commissioners
REFRESH-INTERVAL;VALUE=DURATION:PT1H
X-Robots-Tag:noindex
X-PUBLISHED-TTL:PT1H
BEGIN:VTIMEZONE
TZID:America/New_York
BEGIN:DAYLIGHT
TZOFFSETFROM:-0500
TZOFFSETTO:-0400
TZNAME:EDT
DTSTART:20240310T070000
END:DAYLIGHT
BEGIN:STANDARD
TZOFFSETFROM:-0400
TZOFFSETTO:-0500
TZNAME:EST
DTSTART:20241103T060000
END:STANDARD
BEGIN:DAYLIGHT
TZOFFSETFROM:-0500
TZOFFSETTO:-0400
TZNAME:EDT
DTSTART:20250309T070000
END:DAYLIGHT
BEGIN:STANDARD
TZOFFSETFROM:-0400
TZOFFSETTO:-0500
TZNAME:EST
DTSTART:20251102T060000
END:STANDARD
BEGIN:DAYLIGHT
TZOFFSETFROM:-0500
TZOFFSETTO:-0400
TZNAME:EDT
DTSTART:20260308T070000
END:DAYLIGHT
BEGIN:STANDARD
TZOFFSETFROM:-0400
TZOFFSETTO:-0500
TZNAME:EST
DTSTART:20261101T060000
END:STANDARD
END:VTIMEZONE
BEGIN:VEVENT
DTSTART;TZID=America/New_York:20250204T093000
DTEND;TZID=America/New_York:20250204T093000
DTSTAMP:20260422T174634
CREATED:20250123T154841Z
LAST-MODIFIED:20250123T154841Z
UID:12799-1738661400-1738661400@bocc.geauga.oh.gov
SUMMARY:Commissioners' Meeting
DESCRIPTION:The Commissioners will hold session at 9:30 a.m.
URL:https://bocc.geauga.oh.gov/event/commissioners-meeting-56/
LOCATION:Commissioners’ Chambers\, 12611 Ravenwood Drive\, Room B303\, Chardon\, OH\, 44024\, United States
END:VEVENT
BEGIN:VEVENT
DTSTART;TZID=America/New_York:20250205T130000
DTEND;TZID=America/New_York:20250205T130000
DTSTAMP:20260422T174634
CREATED:20250203T193512Z
LAST-MODIFIED:20250203T193512Z
UID:12860-1738760400-1738760400@bocc.geauga.oh.gov
SUMMARY:Geauga Trumbull Solid Waste Management District
DESCRIPTION:Geauga Trumbull Solid Waste Management District\, Policy Committee 1:00 p.m.\, Warren\, District Office
URL:https://bocc.geauga.oh.gov/event/geauga-trumbull-solid-waste-management-district-3/
LOCATION:Geauga-Trumbull Solid Waste Management District\, Warren\, District Office\, 5138 Enterprise Dr NW\, Warren\, OH\, 44481\, United States
END:VEVENT
BEGIN:VEVENT
DTSTART;TZID=America/New_York:20250211T073000
DTEND;TZID=America/New_York:20250211T073000
DTSTAMP:20260422T174634
CREATED:20250123T155202Z
LAST-MODIFIED:20250123T155202Z
UID:12803-1739259000-1739259000@bocc.geauga.oh.gov
SUMMARY:Planning Commission
DESCRIPTION:Planning Commission\, 7:30 a.m. County Office Building\, 12611 Ravenwood Drive\, Room A334
URL:https://bocc.geauga.oh.gov/event/planning-commission/
LOCATION:Geauga County Office Building\, 12611 Ravenwood Drive\, Chardon\, OH\, 44024\, United States
END:VEVENT
BEGIN:VEVENT
DTSTART;TZID=America/New_York:20250211T093000
DTEND;TZID=America/New_York:20250211T093000
DTSTAMP:20260422T174634
CREATED:20250123T155003Z
LAST-MODIFIED:20250123T155003Z
UID:12801-1739266200-1739266200@bocc.geauga.oh.gov
SUMMARY:Commissioners' Meeting
DESCRIPTION:The Commissioners will hold session at 9:30 a.m.
URL:https://bocc.geauga.oh.gov/event/commissioners-meeting-57/
LOCATION:Commissioners’ Chambers\, 12611 Ravenwood Drive\, Room B303\, Chardon\, OH\, 44024\, United States
END:VEVENT
BEGIN:VEVENT
DTSTART;TZID=America/New_York:20250211T140000
DTEND;TZID=America/New_York:20250211T140000
DTSTAMP:20260422T174634
CREATED:20250203T193740Z
LAST-MODIFIED:20250203T193740Z
UID:12862-1739282400-1739282400@bocc.geauga.oh.gov
SUMMARY:Geauga Trumbull Solid Waste Management District Board Meeting
DESCRIPTION:Geauga Trumbull Solid Waste Management District Board meeting\, 2:00 p.m. Warren\, District Office
URL:https://bocc.geauga.oh.gov/event/geauga-trumbull-solid-waste-management-district-board-meeting/
LOCATION:Geauga-Trumbull Solid Waste Management District\, Warren\, District Office\, 5138 Enterprise Dr NW\, Warren\, OH\, 44481\, United States
END:VEVENT
BEGIN:VEVENT
DTSTART;TZID=America/New_York:20250214T083000
DTEND;TZID=America/New_York:20250214T130000
DTSTAMP:20260422T174634
CREATED:20250203T194115Z
LAST-MODIFIED:20250203T194115Z
UID:12864-1739521800-1739538000@bocc.geauga.oh.gov
SUMMARY:NOACA Standing Committees
DESCRIPTION:NOACA Standing Committees: \n\nFinance & Audit 8:30 a.m.\nGovernance 10:00 a.m.\nExecutive 11:30 a.m.\n\nCleveland
URL:https://bocc.geauga.oh.gov/event/noaca-standing-committees/
LOCATION:OH
END:VEVENT
BEGIN:VEVENT
DTSTART;VALUE=DATE:20250217
DTEND;VALUE=DATE:20250218
DTSTAMP:20260422T174634
CREATED:20250203T194310Z
LAST-MODIFIED:20250203T200753Z
UID:12866-1739750400-1739836799@bocc.geauga.oh.gov
SUMMARY:County Offices Closed
DESCRIPTION:County offices will be closed for general business due to the Presidents’ Day holiday. Twenty-four-hour operations will continue to operate as usual.
URL:https://bocc.geauga.oh.gov/event/county-offices-closed-29/
LOCATION:OH
END:VEVENT
BEGIN:VEVENT
DTSTART;TZID=America/New_York:20250220T093000
DTEND;TZID=America/New_York:20250220T093000
DTSTAMP:20260422T174634
CREATED:20250203T194450Z
LAST-MODIFIED:20250203T194450Z
UID:12868-1740043800-1740043800@bocc.geauga.oh.gov
SUMMARY:Commissioners' Meeting
DESCRIPTION:The Commissioners will hold session at 9:30 a.m.
URL:https://bocc.geauga.oh.gov/event/commissioners-meeting-58/
LOCATION:Commissioners’ Chambers\, 12611 Ravenwood Drive\, Room B303\, Chardon\, OH\, 44024\, United States
END:VEVENT
BEGIN:VEVENT
DTSTART;TZID=America/New_York:20250221T090000
DTEND;TZID=America/New_York:20250221T153000
DTSTAMP:20260422T174634
CREATED:20250203T194818Z
LAST-MODIFIED:20250203T194818Z
UID:12871-1740128400-1740151800@bocc.geauga.oh.gov
SUMMARY:NOACA Advisory Councils
DESCRIPTION:NOACA Advisory Councils: \n\nTransit 9:00 a.m.\nBicycle & Pedestrian 10:30 a.m.\nSafety and Operations 1:00 p.m.\n\nCleveland
URL:https://bocc.geauga.oh.gov/event/noaca-advisory-councils/
LOCATION:OH
END:VEVENT
BEGIN:VEVENT
DTSTART;VALUE=DATE:20250224
DTEND;VALUE=DATE:20250227
DTSTAMP:20260422T174634
CREATED:20250203T195007Z
LAST-MODIFIED:20250203T195007Z
UID:12873-1740355200-1740614399@bocc.geauga.oh.gov
SUMMARY:New Commissioner Training
DESCRIPTION:New Commissioner Training\, Columbus
URL:https://bocc.geauga.oh.gov/event/new-commissioner-training/
LOCATION:OH
END:VEVENT
BEGIN:VEVENT
DTSTART;TZID=America/New_York:20250224T133000
DTEND;TZID=America/New_York:20250224T133000
DTSTAMP:20260422T174634
CREATED:20250203T195119Z
LAST-MODIFIED:20250203T195119Z
UID:12875-1740403800-1740403800@bocc.geauga.oh.gov
SUMMARY:Family First Council
DESCRIPTION:Family First Council\, 1:30 p.m. County Office Building\, Room B167/168\, Chardon
URL:https://bocc.geauga.oh.gov/event/family-first-council-21/
LOCATION:Geauga County Office Building\, 12611 Ravenwood Drive\, Chardon\, OH\, 44024\, United States
END:VEVENT
BEGIN:VEVENT
DTSTART;TZID=America/New_York:20250225T093000
DTEND;TZID=America/New_York:20250225T093000
DTSTAMP:20260422T174634
CREATED:20250203T195408Z
LAST-MODIFIED:20250203T195408Z
UID:12877-1740475800-1740475800@bocc.geauga.oh.gov
SUMMARY:Commissioners' Meeting
DESCRIPTION:The Commissioners will hold session at 9:30 a.m.
URL:https://bocc.geauga.oh.gov/event/commissioners-meeting-59/
LOCATION:Commissioners’ Chambers\, 12611 Ravenwood Drive\, Room B303\, Chardon\, OH\, 44024\, United States
END:VEVENT
BEGIN:VEVENT
DTSTART;VALUE=DATE:20250226
DTEND;VALUE=DATE:20250227
DTSTAMP:20260422T174634
CREATED:20250203T195519Z
LAST-MODIFIED:20250203T195519Z
UID:12879-1740528000-1740614399@bocc.geauga.oh.gov
SUMMARY:Board of Revision
DESCRIPTION:Board of Revision\, Auditor’s Appraisal Conference Room
URL:https://bocc.geauga.oh.gov/event/board-of-revision-39/
LOCATION:Auditor’s Appraisal Conference Room\, Chardon\, OH\, United States
END:VEVENT
END:VCALENDAR