BEGIN:VCALENDAR
VERSION:2.0
PRODID:-//Geauga County Board of Commissioners - ECPv6.15.20//NONSGML v1.0//EN
CALSCALE:GREGORIAN
METHOD:PUBLISH
X-ORIGINAL-URL:https://bocc.geauga.oh.gov
X-WR-CALDESC:Events for Geauga County Board of Commissioners
REFRESH-INTERVAL;VALUE=DURATION:PT1H
X-Robots-Tag:noindex
X-PUBLISHED-TTL:PT1H
BEGIN:VTIMEZONE
TZID:America/New_York
BEGIN:DAYLIGHT
TZOFFSETFROM:-0500
TZOFFSETTO:-0400
TZNAME:EDT
DTSTART:20240310T070000
END:DAYLIGHT
BEGIN:STANDARD
TZOFFSETFROM:-0400
TZOFFSETTO:-0500
TZNAME:EST
DTSTART:20241103T060000
END:STANDARD
BEGIN:DAYLIGHT
TZOFFSETFROM:-0500
TZOFFSETTO:-0400
TZNAME:EDT
DTSTART:20250309T070000
END:DAYLIGHT
BEGIN:STANDARD
TZOFFSETFROM:-0400
TZOFFSETTO:-0500
TZNAME:EST
DTSTART:20251102T060000
END:STANDARD
BEGIN:DAYLIGHT
TZOFFSETFROM:-0500
TZOFFSETTO:-0400
TZNAME:EDT
DTSTART:20260308T070000
END:DAYLIGHT
BEGIN:STANDARD
TZOFFSETFROM:-0400
TZOFFSETTO:-0500
TZNAME:EST
DTSTART:20261101T060000
END:STANDARD
END:VTIMEZONE
BEGIN:VEVENT
DTSTART;TZID=America/New_York:20250304T093000
DTEND;TZID=America/New_York:20250304T093000
DTSTAMP:20260422T160735
CREATED:20250220T201212Z
LAST-MODIFIED:20250220T201212Z
UID:12935-1741080600-1741080600@bocc.geauga.oh.gov
SUMMARY:Commissioners' Meeting
DESCRIPTION:The Commissioners will hold session at 9:30 a.m.
URL:https://bocc.geauga.oh.gov/event/commissioners-meeting-60/
LOCATION:Commissioners’ Chambers\, 12611 Ravenwood Drive\, Room B303\, Chardon\, OH\, 44024\, United States
END:VEVENT
BEGIN:VEVENT
DTSTART;TZID=America/New_York:20250304T140000
DTEND;TZID=America/New_York:20250304T140000
DTSTAMP:20260422T160735
CREATED:20250303T192534Z
LAST-MODIFIED:20250303T192534Z
UID:13018-1741096800-1741096800@bocc.geauga.oh.gov
SUMMARY:ADP Meeting
DESCRIPTION:ADP Meeting\, 2:00 p.m. County Office Building\, Room A334
URL:https://bocc.geauga.oh.gov/event/adp-meeting-3/
LOCATION:Geauga County Office Building\, 12611 Ravenwood Drive\, Chardon\, OH\, 44024\, United States
END:VEVENT
BEGIN:VEVENT
DTSTART;TZID=America/New_York:20250311T073000
DTEND;TZID=America/New_York:20250311T073000
DTSTAMP:20260422T160735
CREATED:20250220T201544Z
LAST-MODIFIED:20250220T201544Z
UID:12937-1741678200-1741678200@bocc.geauga.oh.gov
SUMMARY:Planning Commission Meeting
DESCRIPTION:The location for all regular meetings will be at 12611 Ravenwood Drive\, 3rd Floor\, Conference Room A334\, Chardon\, Ohio 44024 at 7:30 a.m.
URL:https://bocc.geauga.oh.gov/event/planning-commission-meeting-4/
LOCATION:Geauga County Office Building\, 12611 Ravenwood Drive\, Chardon\, OH\, 44024\, United States
END:VEVENT
BEGIN:VEVENT
DTSTART;TZID=America/New_York:20250311T093000
DTEND;TZID=America/New_York:20250311T093000
DTSTAMP:20260422T160735
CREATED:20250220T201645Z
LAST-MODIFIED:20250220T202324Z
UID:12939-1741685400-1741685400@bocc.geauga.oh.gov
SUMMARY:Commissioners' Meeting & Public Hearing
DESCRIPTION:The Commissioners will hold session at 9:30 a.m. that will include Public Hearings
URL:https://bocc.geauga.oh.gov/event/commissioners-meeting-61/
LOCATION:Commissioners’ Chambers\, 12611 Ravenwood Drive\, Room B303\, Chardon\, OH\, 44024\, United States
END:VEVENT
BEGIN:VEVENT
DTSTART;TZID=America/New_York:20250317T133000
DTEND;TZID=America/New_York:20250317T133000
DTSTAMP:20260422T160735
CREATED:20250226T171434Z
LAST-MODIFIED:20250226T171434Z
UID:12966-1742218200-1742218200@bocc.geauga.oh.gov
SUMMARY:Family First Council
DESCRIPTION:Family First Council\, 1:30 p.m. County Office Building\, B167-168 (First Floor)
URL:https://bocc.geauga.oh.gov/event/family-first-council-22/
LOCATION:Geauga County Office Building\, 12611 Ravenwood Drive\, Chardon\, OH\, 44024\, United States
END:VEVENT
BEGIN:VEVENT
DTSTART;TZID=America/New_York:20250318T093000
DTEND;TZID=America/New_York:20250318T093000
DTSTAMP:20260422T160735
CREATED:20250226T172002Z
LAST-MODIFIED:20250226T172002Z
UID:12970-1742290200-1742290200@bocc.geauga.oh.gov
SUMMARY:Commissioners' Meeting
DESCRIPTION:The Commissioners will hold session at 9:30 a.m.
URL:https://bocc.geauga.oh.gov/event/commissioners-meeting-62/
LOCATION:Commissioners’ Chambers\, 12611 Ravenwood Drive\, Room B303\, Chardon\, OH\, 44024\, United States
END:VEVENT
BEGIN:VEVENT
DTSTART;TZID=America/New_York:20250319T110000
DTEND;TZID=America/New_York:20250319T110000
DTSTAMP:20260422T160735
CREATED:20250226T171708Z
LAST-MODIFIED:20250226T171708Z
UID:12968-1742382000-1742382000@bocc.geauga.oh.gov
SUMMARY:NOC COG Board Meeting
DESCRIPTION:NOC COG Board Meeting\, 11:00 a.m.\, County Office Building\, Room A334
URL:https://bocc.geauga.oh.gov/event/noc-cog-board-meeting-2/
LOCATION:Geauga County Office Building\, 12611 Ravenwood Drive\, Chardon\, OH\, 44024\, United States
END:VEVENT
BEGIN:VEVENT
DTSTART;TZID=America/New_York:20250325T090000
DTEND;TZID=America/New_York:20250325T090000
DTSTAMP:20260422T160735
CREATED:20250324T190344Z
LAST-MODIFIED:20250324T190344Z
UID:13102-1742893200-1742893200@bocc.geauga.oh.gov
SUMMARY:Investment Advisory Committee Meeting
DESCRIPTION:March 20\, 2025 \nNOTICE OF MEETING CHANGE \nThe Investment Advisory Committee meeting that was scheduled to be held on Tuesday\, April 1\, 2025\, at 9:00 a.m. at the County Office Building\, Room B303\, 12611 Ravenwood Drive\, Chardon\, Ohio is being rescheduled. \nThe Investment Advisory Committee meeting will now be held on Tuesday\, March 25\, 2025\, at 9:00 a.m. at the County Office Building\, 12611 Ravenwood Drive\, Room B303\, Chardon\, Ohio. \nChristine Blair\, Commissioners’ Clerk
URL:https://bocc.geauga.oh.gov/event/investment-advisory-committee-meeting-2/
LOCATION:Geauga County Office Building\, 12611 Ravenwood Drive\, Chardon\, OH\, 44024\, United States
END:VEVENT
BEGIN:VEVENT
DTSTART;TZID=America/New_York:20250325T093000
DTEND;TZID=America/New_York:20250325T093000
DTSTAMP:20260422T160735
CREATED:20250226T172124Z
LAST-MODIFIED:20250226T172124Z
UID:12972-1742895000-1742895000@bocc.geauga.oh.gov
SUMMARY:Commissioners' Meeting
DESCRIPTION:The Commissioners will hold session at 9:30 a.m.
URL:https://bocc.geauga.oh.gov/event/commissioners-meeting-63/
LOCATION:OH
END:VEVENT
BEGIN:VEVENT
DTSTART;TZID=America/New_York:20250326T090000
DTEND;TZID=America/New_York:20250326T090000
DTSTAMP:20260422T160735
CREATED:20250310T162457Z
LAST-MODIFIED:20250310T162457Z
UID:13046-1742979600-1742979600@bocc.geauga.oh.gov
SUMMARY:Board of Revision
DESCRIPTION:Board of Revision\, 9:00 a.m. Auditor’s Appraisal Conference Room
URL:https://bocc.geauga.oh.gov/event/board-of-revision-40/
LOCATION:Auditor’s Appraisal Conference Room\, Chardon\, OH\, United States
END:VEVENT
END:VCALENDAR